BEGIN:VCALENDAR
VERSION:2.0
PRODID:-//Vermont Rural Water Association - ECPv6.15.20//NONSGML v1.0//EN
CALSCALE:GREGORIAN
METHOD:PUBLISH
X-ORIGINAL-URL:https://vtruralwater.org
X-WR-CALDESC:Events for Vermont Rural Water Association
REFRESH-INTERVAL;VALUE=DURATION:PT1H
X-Robots-Tag:noindex
X-PUBLISHED-TTL:PT1H
BEGIN:VTIMEZONE
TZID:America/New_York
BEGIN:DAYLIGHT
TZOFFSETFROM:-0500
TZOFFSETTO:-0400
TZNAME:EDT
DTSTART:20250309T070000
END:DAYLIGHT
BEGIN:STANDARD
TZOFFSETFROM:-0400
TZOFFSETTO:-0500
TZNAME:EST
DTSTART:20251102T060000
END:STANDARD
BEGIN:DAYLIGHT
TZOFFSETFROM:-0500
TZOFFSETTO:-0400
TZNAME:EDT
DTSTART:20260308T070000
END:DAYLIGHT
BEGIN:STANDARD
TZOFFSETFROM:-0400
TZOFFSETTO:-0500
TZNAME:EST
DTSTART:20261101T060000
END:STANDARD
BEGIN:DAYLIGHT
TZOFFSETFROM:-0500
TZOFFSETTO:-0400
TZNAME:EDT
DTSTART:20270314T070000
END:DAYLIGHT
BEGIN:STANDARD
TZOFFSETFROM:-0400
TZOFFSETTO:-0500
TZNAME:EST
DTSTART:20271107T060000
END:STANDARD
END:VTIMEZONE
BEGIN:VEVENT
DTSTART;TZID=America/New_York:20260108T090000
DTEND;TZID=America/New_York:20260108T123000
DTSTAMP:20260424T083653
CREATED:20251119T163420Z
LAST-MODIFIED:20251120T151412Z
UID:46631-1767862800-1767875400@vtruralwater.org
SUMMARY:Water Distribution Essentials
DESCRIPTION:Description\nJoin Troy Ebbighausen from F.W. Webb for a comprehensive 3-hour training designed for water operators and distribution personnel. This session will cover practical\, day-to-day skills and safety essentials for working in the field. \nTopics include: \n\nMega Lugs—Learn the differences between types for various pipes and proper installation techniques.\nRepair Clamps—Understand the role of clamps in water main repair\, including correct torque specifications.\nHDPE Service Lines—Best practices for making secure and lasting connections with a live demo on HDPE electro fusion.\nDaily Operations—Field-proven tips for improving efficiency and performance in water distribution tasks.\n\nThis training will equip attendees with practical knowledge and reinforce safe\, effective methods for maintaining and repairing water distribution systems. \nCredit\n3 TCH (Water) \nInstructor\nTroy Ebbighausen & John Bonnette (F.W. Webb) \nProctor\nAllison Smith (Vermont Rural Water Association)
URL:https://vtruralwater.org/event/distribution-essentials-jan-8/
LOCATION:F.W. Webb\, 80 Park Avenue\, Williston\, VT\, United States
CATEGORIES:Training,Water Credit
ATTACH;FMTTYPE=image/png:https://vtruralwater.org/wp-content/uploads/2024/11/swatch-green.png
END:VEVENT
BEGIN:VEVENT
DTSTART;TZID=America/New_York:20260114T090000
DTEND;TZID=America/New_York:20260114T121500
DTSTAMP:20260424T083653
CREATED:20251202T193916Z
LAST-MODIFIED:20260113T152956Z
UID:69920-1768381200-1768392900@vtruralwater.org
SUMMARY:Small\, High-Strength Dischargers
DESCRIPTION:Description\nThis class will discuss issues with small\, high-strength wastewater dischargers—which do not need Pretreatment Discharge Permits from the Agency of Natural Resources—and their potential impacts on wastewater treatment facilities. The class will provide information on pollutants discharged from these businesses\, how these discharges are typically controlled and their potential impacts on the wastewater treatment facilities. You will receive detailed guidance on how to inspect and sample these dischargers. We will discuss how to reduce their impacts\, tips to help these businesses to control their discharges\, and how to coordinate with the Agency if the discharge becomes problematic. \nCredit\n3 TCH (Wastewater) \nInstructor\nRandy Bean \nProctor\nWayne Graham (Vermont Rural Water Association)
URL:https://vtruralwater.org/event/high-strength-dischargers-jan14/
LOCATION:Vermont Rural Water Association\, 20 Susie Wilson Rd\, Essex Junction\, VT\, 05452\, United States
CATEGORIES:Training,Wastewater Credit
ATTACH;FMTTYPE=image/png:https://vtruralwater.org/wp-content/uploads/2024/11/swatch2-orange.png
END:VEVENT
BEGIN:VEVENT
DTSTART;TZID=America/New_York:20260115T090000
DTEND;TZID=America/New_York:20260115T123000
DTSTAMP:20260424T083653
CREATED:20251119T172516Z
LAST-MODIFIED:20260113T181836Z
UID:46699-1768467600-1768480200@vtruralwater.org
SUMMARY:Coagulation\, Jar Testing\, and Chemical Handling
DESCRIPTION:Description\nIn this class\, participants will receive an overview of coagulation\, including concepts like charge neutralization and flocculation. We will review the different types of coagulants and discuss how to choose which coagulant is best suited for your facility. The instructor will also cover chemical handling and storage and chemical delivery. The second half of the class will provide a demonstration of jar testing procedures. \nCredit\n3 TCH (Water & Wastewater) \nInstructor\nJon-Luc Goodrich and Jake Tietgens (Holland Company) \nProctor\nAllison Smith (Vermont Rural Water Association) \nCLASS CANCELLED
URL:https://vtruralwater.org/event/coagulation-jan15/
LOCATION:National Life Complex\, Dewey Building\, 1 National Life Drive\, Montpelier\, VT\, 05602\, United States
CATEGORIES:Training,Wastewater Credit,Water Credit
ATTACH;FMTTYPE=image/png:https://vtruralwater.org/wp-content/uploads/2024/11/swatch4-yellow.png
END:VEVENT
BEGIN:VEVENT
DTSTART;TZID=America/New_York:20260121T090000
DTEND;TZID=America/New_York:20260121T123000
DTSTAMP:20260424T083653
CREATED:20251119T173645Z
LAST-MODIFIED:20251119T173800Z
UID:46720-1768986000-1768998600@vtruralwater.org
SUMMARY:Leadership in Safety
DESCRIPTION:Description\nIn this session\, participants will receive an overview of the importance of leadership’s involvement in safety and how to engage your employees in creating a culture where safety is a top priority for everyone in the organization. Being a leader in safety is more than just compliance; it’s creating an environment where safety is forefront by: \n\nDeveloping a Safety Vision and Mission: Articulate a clear and compelling safety vision that aligns with the organizational goals.\nEngaging Employees at All levels: Encourage employee involvement in safety programs.\nInvesting in Training and Development: Continuous training is essential for meeting the latest safety standards and practices.\nFostering a Culture of Accountability: Ensure that everyone in the organization understands their role in maintaining safety.\nConducting Regular Audits and Inspections: Regularly scheduled audits and inspections can help identify potential risks and ensure compliance with safety regulations.\nPromoting Open Communication: Create an environment where employees feel comfortable reporting hazards\, incidents\, and near-misses without fear of retaliation.\n\nSafety is everyone’s responsibility\, but it begins with strong\, effective leadership that inspires and guides. \nCredit\n3 TCH (Water & Wastewater) \nInstructor\nMiriam Owens (Vermont Occupational and Health Administration) \nProctor\nElijah Lemieux (Vermont Rural Water Association)
URL:https://vtruralwater.org/event/leadership-safety-jan21/
LOCATION:Zoom\, Zoom
CATEGORIES:Wastewater Credit,Water Credit,Zoom Training
ATTACH;FMTTYPE=image/png:https://vtruralwater.org/wp-content/uploads/2024/11/swatch-blue.png
END:VEVENT
BEGIN:VEVENT
DTSTART;TZID=America/New_York:20260122T090000
DTEND;TZID=America/New_York:20260122T133000
DTSTAMP:20260424T083653
CREATED:20251119T175100Z
LAST-MODIFIED:20251219T133152Z
UID:46738-1769072400-1769088600@vtruralwater.org
SUMMARY:Protecting Source Water in Forested Watersheds
DESCRIPTION:Description\nForests offer numerous benefits to source water quality for drinking water systems. However\, a unique set of challenges may arise for water system personnel trying to manage and mitigate potential sources of contamination (PSOC) found in forested Source Protection Areas. This training will focus on two of the most common potential sources of contamination and disruption to systems located in rural\, forested watersheds: logging and beavers. \nJoin Vermont Rural Water’s source water specialist\, along with staff from the Vermont Department of Forests\, Parks and Recreation and Vermont Department of Fish and Wildlife to learn more about Vermont’s land use history and how modern forest and wildlife management practices can help mitigate threats to drinking water quality\, and how to implement them at your water system. \nCredit\n4 TCH (Water) \nInstructors\nTyler Brown (Vermont Fish and Wildlife Department)\nSilas Rainville (Vermont Department of Forests\, Parks and Recreation)\nWill Ebby and Laura Ranker (Vermont Drinking Water and Groundwater Protection Division)\nBrad Roy (Vermont Rural Water Association) \nProctor\nTim Russo (Vermont Rural Water Association) \nLocation\nBentley Hall\, room 207. View campus map.
URL:https://vtruralwater.org/event/source-water-jan22/
LOCATION:Vermont State University – Johnson\, Bentley Hall\, 337 College Hill Rd\, Johnson\, VT\, 05656\, United States
CATEGORIES:Training,Water Credit
ATTACH;FMTTYPE=image/png:https://vtruralwater.org/wp-content/uploads/2024/11/swatch2-orange.png
END:VEVENT
BEGIN:VEVENT
DTSTART;TZID=America/New_York:20260126T090000
DTEND;TZID=America/New_York:20260126T123000
DTSTAMP:20260424T083653
CREATED:20251119T182456Z
LAST-MODIFIED:20260115T144114Z
UID:46810-1769418000-1769430600@vtruralwater.org
SUMMARY:TNC Operations
DESCRIPTION:Description\nThis course is designed for Transient Non-Community (TNC) Water System Operators. No matter what your experience as a water system operator\, this course will help you better manage your system. The course will review the following topics: disinfecting your water system (UV and chlorine)\, sampling procedure and sampling schedules\, sanitary survey review\, common water system deficiencies\, rules and regulations (current and upcoming rules)\, discussion of seasonal operations\, basic site investigations. \nFor Class 1B operators\, this course will fulfill the requirement to obtain 3 continuing education credits prior to renewal of your certification. \nCredit\n3 TCH (Water) \nInstructor\nMeredith Maskell (VT Drinking Water and Groundwater Protection Division) \nProctor\nTim Russo (Vermont Rural Water Association) \nDate Change\nThis class had previously been schedule for Tuesday\, January 27. Instead it will be held on Monday\, January 26.
URL:https://vtruralwater.org/event/tnc-operations-jan27/
LOCATION:Zoom\, Zoom
CATEGORIES:Water Credit,Zoom Training
ATTACH;FMTTYPE=image/png:https://vtruralwater.org/wp-content/uploads/2024/11/swatch-green.png
END:VEVENT
BEGIN:VEVENT
DTSTART;TZID=America/New_York:20260128T083000
DTEND;TZID=America/New_York:20260128T153000
DTSTAMP:20260424T083653
CREATED:20251119T183819Z
LAST-MODIFIED:20251119T184203Z
UID:46821-1769589000-1769614200@vtruralwater.org
SUMMARY:Water & Wastewater System Maintenance
DESCRIPTION:Description\nThis course provides a practical overview of routine maintenance and troubleshooting essentials for drinking water and wastewater systems. Participants will learn best practices for inspecting and maintaining storage tanks\, including structural and sanitary considerations. The class will also cover pump operation and upkeep\, meter technologies and accuracy checks\, and proven methods for identifying and repairing leaks in the distribution system. Operators will gain knowledge to improve system performance\, extend the life of critical assets\, and reduce unaccounted-for water loss. This training is designed to support operators of all experience levels. \nIn the afternoon\, you can choose between two breakout sessions: \n\nMeters and Leak Detection (water credit only)\nAdvanced Chemical Feed Pumps (water and wastewater credit)\n\nCredit\n6 TCH (Water & Wastewater) \nInstructor\nSam Cavallaro (Ti-SALES) \nProctor\nAllison Smith (Vermont Rural Water Association)
URL:https://vtruralwater.org/event/maintenance-jan28/
LOCATION:Manchester Town Hall\, 40 Jeff Williams Way\, Manchester Center\, VT\, 05255\, United States
CATEGORIES:Training,Wastewater Credit,Water Credit
ATTACH;FMTTYPE=image/png:https://vtruralwater.org/wp-content/uploads/2024/11/swatch4-yellow.png
END:VEVENT
END:VCALENDAR