BEGIN:VCALENDAR
VERSION:2.0
PRODID:-//Vermont Rural Water Association - ECPv6.15.20//NONSGML v1.0//EN
CALSCALE:GREGORIAN
METHOD:PUBLISH
X-WR-CALNAME:Vermont Rural Water Association
X-ORIGINAL-URL:https://vtruralwater.org
X-WR-CALDESC:Events for Vermont Rural Water Association
REFRESH-INTERVAL;VALUE=DURATION:PT1H
X-Robots-Tag:noindex
X-PUBLISHED-TTL:PT1H
BEGIN:VTIMEZONE
TZID:America/New_York
BEGIN:DAYLIGHT
TZOFFSETFROM:-0500
TZOFFSETTO:-0400
TZNAME:EDT
DTSTART:20240310T070000
END:DAYLIGHT
BEGIN:STANDARD
TZOFFSETFROM:-0400
TZOFFSETTO:-0500
TZNAME:EST
DTSTART:20241103T060000
END:STANDARD
BEGIN:DAYLIGHT
TZOFFSETFROM:-0500
TZOFFSETTO:-0400
TZNAME:EDT
DTSTART:20250309T070000
END:DAYLIGHT
BEGIN:STANDARD
TZOFFSETFROM:-0400
TZOFFSETTO:-0500
TZNAME:EST
DTSTART:20251102T060000
END:STANDARD
BEGIN:DAYLIGHT
TZOFFSETFROM:-0500
TZOFFSETTO:-0400
TZNAME:EDT
DTSTART:20260308T070000
END:DAYLIGHT
BEGIN:STANDARD
TZOFFSETFROM:-0400
TZOFFSETTO:-0500
TZNAME:EST
DTSTART:20261101T060000
END:STANDARD
END:VTIMEZONE
BEGIN:VEVENT
DTSTART;TZID=America/New_York:20251202T080000
DTEND;TZID=America/New_York:20251202T153000
DTSTAMP:20260424T101711
CREATED:20250814T181517Z
LAST-MODIFIED:20251124T142406Z
UID:21051-1764662400-1764689400@vtruralwater.org
SUMMARY:Cybersecurity for Drinking Water & Wastewater Operators
DESCRIPTION:DescriptionCyber threats are a growing risk for Vermont’s water and wastewater systems\, but you don’t need to face them alone. In this interactive\, full-day training\, experts from the Cybersecurity and Infrastructure Security Agency (CISA)\, the Federal Bureau of Investigation (FBI)\, and Norwich University Applied Research Institutes (NUARI) will provide insight into the specific cybersecurity risks facing Vermont utilities and equip operators  with practical tools to strengthen their defenses. \nCISA will walk through the most common vulnerabilities in the water sector and offer straightforward mitigation strategies you can apply right away. The FBI will share the latest intelligence on cyber threats targeting Vermont organizations\, including how attackers operate and how you can protect yourself and your utility. Then\, NUARI will deliver a training designed to reinforce the role of leadership in managing cyber risks\, highlight the operational impact of an incident\, and support towns and utilities in improving their cybersecurity readiness. The session will help clarify responsibilities\, strengthen internal communication\, and build confidence in decision-making before and during a cyber event. \nNote: NUARI’s training is funded by DHS/FEMA and is FREE to attend. Participants will also need to register through FEMA’s training platform. The link to that registration can be found here and will also be sent via email to participants upon registering for the training. \nDon’t miss this chance to strengthen your utility’s cybersecurity with guidance from national experts—space is limited! \nCredit6 TCH (Water & Wastewater) \nInstructorsLeah Bogdanowicz (FBI)Adam Gamelin and Gabe Palazzi (CISA)Instructors from Norwich University’s Applied Research Institutes \nLunchLunch will be provided for free\, sponsored by Pump Control Solutions\, LLC and Laramie Water Resources!
URL:https://vtruralwater.org/event/cybersecurity-12-2/
LOCATION:Lyndon Public Safety Facility\, 316 Main St\, Lyndonville\, VT\, 05851\, United States
CATEGORIES:Training,Wastewater Credit,Water Credit
ATTACH;FMTTYPE=image/png:https://vtruralwater.org/wp-content/uploads/2024/11/swatch4-yellow.png
END:VEVENT
BEGIN:VEVENT
DTSTART;TZID=America/New_York:20251203T080000
DTEND;TZID=America/New_York:20251203T153000
DTSTAMP:20260424T101711
CREATED:20250814T184103Z
LAST-MODIFIED:20251124T142428Z
UID:21056-1764748800-1764775800@vtruralwater.org
SUMMARY:Cybersecurity for Drinking Water & Wastewater Operators
DESCRIPTION:DescriptionCyber threats are a growing risk for Vermont’s water and wastewater systems\, but you don’t need to face them alone. In this interactive\, full-day training\, experts from the Cybersecurity and Infrastructure Security Agency (CISA)\, the Federal Bureau of Investigation (FBI)\, and Norwich University Applied Research Institutes (NUARI) will provide insight into the specific cybersecurity risks facing Vermont utilities and equip operators  with practical tools to strengthen their defenses. \nCISA will walk through the most common vulnerabilities in the water sector and offer straightforward mitigation strategies you can apply right away. The FBI will share the latest intelligence on cyber threats targeting Vermont organizations\, including how attackers operate and how you can protect yourself and your utility. Then\, NUARI will deliver a training designed to reinforce the role of leadership in managing cyber risks\, highlight the operational impact of an incident\, and support towns and utilities in improving their cybersecurity readiness. The session will help clarify responsibilities\, strengthen internal communication\, and build confidence in decision-making before and during a cyber event. \nNote: NUARI’s training is funded by DHS/FEMA and is FREE to attend. Participants will also need to register through FEMA’s training platform. The link to that registration can be found here and will also be sent via email to participants upon registering for the training. \nDon’t miss this chance to strengthen your utility’s cybersecurity with guidance from national experts—space is limited! \nCredit6 TCH (Water & Wastewater) \nInstructorsLeah Bogdanowicz (FBI)Adam Gamelin and Gabe Palazzi (CISA)Instructors from Norwich University’s Applied Research Institutes \nLunchLunch will be provided for free\, sponsored by Pump Control Solutions\, LLC and Laramie Water Resources!
URL:https://vtruralwater.org/event/cybersecurity-12-3/
LOCATION:Vermont Fire Academy\, 93 Davidson Dr\, Pittsford\, VT\, 05763\, United States
CATEGORIES:Training,Wastewater Credit,Water Credit
ATTACH;FMTTYPE=image/png:https://vtruralwater.org/wp-content/uploads/2024/11/swatch-blue.png
END:VEVENT
BEGIN:VEVENT
DTSTART;TZID=America/New_York:20251204T090000
DTEND;TZID=America/New_York:20251204T123000
DTSTAMP:20260424T101711
CREATED:20250814T185432Z
LAST-MODIFIED:20251120T193905Z
UID:21059-1764838800-1764851400@vtruralwater.org
SUMMARY:Model Sewer Use Ordinance (SUO) and Fats\, Oils\, and Grease (FOG) Guidance
DESCRIPTION:Description  \nThis will be a two-part class that reviews Sewer Use Ordinances (SUO) and Fats\, Oils and Grease (FOG). The first part of this training will address Sewer Use Ordinances (SUO) by discussing the format and requirements that should be included in a strong SUO and providing example conditions and language to consider when updating your ordinance. Randy Bean has developed a model SUO that wastewater systems and municipalities can use as a template for developing their own ordinance. This template will be shared during class. \nThe second part of the training will present information on Fats\, Oils and Grease (FOG). This will include information on best management practices for FOG control\, sizing of interceptors\, the generation of FOG by various users\, inspections and maintenance of interceptors\, and methods to control the discharge of FOG into your collection system. \nCredit\n3 TCH (Wastewater) \nInstructor\nRandy Bean \nProctor\nWayne Graham (Vermont Rural Water Association) \nCLASS CANCELLED\nThis class will be offered again on March 18 in Montpelier. Register here.
URL:https://vtruralwater.org/event/suo-fog-12-4/
LOCATION:Essex Police Department\, 145 Maple Street\, Essex Junction\, VT\, 05452\, United States
CATEGORIES:Training,Wastewater Credit
ATTACH;FMTTYPE=image/png:https://vtruralwater.org/wp-content/uploads/2024/11/swatch2-orange.png
END:VEVENT
BEGIN:VEVENT
DTSTART;TZID=America/New_York:20251209T090000
DTEND;TZID=America/New_York:20251209T123000
DTSTAMP:20260424T101711
CREATED:20250814T190813Z
LAST-MODIFIED:20250814T190942Z
UID:21061-1765270800-1765283400@vtruralwater.org
SUMMARY:Issuing a Boil Water Notice
DESCRIPTION:Description\nIssuing a Boil Water notice can be a complicated process\, but could prevent negative health impacts to your water system’s consumers. It is important to be prepared in advance of an emergency by knowing when and how to issue a Boil Water notice—or even a Do Not Drink order. \nThis class will look at the reasons to issue a Boil Water notice\, the procedures to determine if a notice is needed\, and ways to make sure all affected consumers are notified. \nThis class encourages discussion from participants. \nCredit\n3 TCH (Water) \nInstructor\nPaula Jackson (Vermont Rural Water Association)
URL:https://vtruralwater.org/event/boil-water-12-9/
LOCATION:Zoom\, Zoom
CATEGORIES:Water Credit,Zoom Training
ATTACH;FMTTYPE=image/png:https://vtruralwater.org/wp-content/uploads/2024/11/swatch-green.png
END:VEVENT
BEGIN:VEVENT
DTSTART;TZID=America/New_York:20251210T090000
DTEND;TZID=America/New_York:20251210T123000
DTSTAMP:20260424T101711
CREATED:20250814T191828Z
LAST-MODIFIED:20250926T150021Z
UID:21064-1765357200-1765369800@vtruralwater.org
SUMMARY:Cross Connection Control
DESCRIPTION:Description\nCross connections in public water systems can cause adverse health effects to consumers if a control program is not in place. High-risk businesses such as car washes\, hospitals\, manufacturing facilities\, funeral parlors\, and veterinarian clinics may pose hazards to a water system if they do have adequate backflow prevention. \nThis course will discuss the process of identifying high-risk hazards and choosing the appropriate backflow prevention device based on the level of risk. \nCredit\n3 TCH (Water) \nInstructor\nPaula Jackson (Vermont Rural Water Association)
URL:https://vtruralwater.org/event/cross-connection-12-10/
LOCATION:Zoom\, Zoom
CATEGORIES:Water Credit,Zoom Training
ATTACH;FMTTYPE=image/png:https://vtruralwater.org/wp-content/uploads/2024/11/swatch4-yellow.png
END:VEVENT
BEGIN:VEVENT
DTSTART;TZID=America/New_York:20251211T090000
DTEND;TZID=America/New_York:20251211T153000
DTSTAMP:20260424T101711
CREATED:20250815T135047Z
LAST-MODIFIED:20250815T173352Z
UID:21089-1765443600-1765467000@vtruralwater.org
SUMMARY:Disaster Response Training
DESCRIPTION:DescriptionThis training will guide communities in preparing and responding to emergencies\, with a focus on safety and resilience for water and wastewater systems. Participants will learn essential skills and information to support their communities in the face of disasters. \nTopics will include: \n\nSafety – Learn situational awareness and operator and facility safety fundamentals\, including potential hazards such as electrical issues\, toxic gases\, and structural damage\, using recent flood events as real-world examples.\nMutual Aid Networks – Overview of the Vermont WARN mutual aid network and how to effectively partner with local and state emergency management teams.\nEmergency Planning and Hazard Mitigation – Strategies for creating or strengthening emergency response plans at both the facility and community levels\, with insights from recent disaster responses.\nStandard Operating Procedures (SOPs) – Key SOPs for pre- and post-disaster preparedness\, including maintenance and communication protocols to support smooth operations during critical times.\nFEMA 101 – Learn about FEMA’s Public Assistance reimbursement program that provides federal funding to help communities respond to and recover from disasters such as Vermont’s 2023 and 2024 July flood events.\nFunding – USDA funding opportunities available for enhancing system capacity and resilience\, especially for mitigating risks from disasters declared in 2022.\n\nBy the end of the session\, participants will be equipped with practical tools and strategies to enhance the safety and resiliency of their facilities and be better prepared for efficient emergency response and recovery. \nCredit6 TCH (Water & Wastewater) \nInstructorsLiz Royer (Vermont Rural Water Association)Dan Whipple (Integrity Safety Consulting Services\, LLC)Kim Canarecci (Vermont Emergency Management) \nLunchLunch will be provided for free\, sponsored by Team EJP!
URL:https://vtruralwater.org/event/disaster-response-12-11/
LOCATION:Williston Fire Department\, 645 Talcott Rd\, Williston\, VT\, 05495\, United States
CATEGORIES:Training,Wastewater Credit,Water Credit
ATTACH;FMTTYPE=image/png:https://vtruralwater.org/wp-content/uploads/2024/11/swatch-blue.png
END:VEVENT
BEGIN:VEVENT
DTSTART;TZID=America/New_York:20251212T084500
DTEND;TZID=America/New_York:20251212T120000
DTSTAMP:20260424T101711
CREATED:20251110T181755Z
LAST-MODIFIED:20251113T132841Z
UID:32415-1765529100-1765540800@vtruralwater.org
SUMMARY:Wastewater Exam (Web-Based Testing)
DESCRIPTION:Licensing exams for all levels of Vermont domestic and industrial (dairy\, metal\, paper) pollution abatement facility operators. The exam will be administered on a laptop. There are 10 spots available per session. Registration closes on November 24. Refunds will not be given for cancellations within two weeks of the exam date. Payment must be received by the exam date. No-shows will be charged the full fee. \nWhat to expect: \n\nPlease arrive by 8:45 am. The exam will start promptly at 9 am.\nYou will be provided with a laptop\, mouse\, calculator\, ABC formula sheet\, scratch paper\, pencil\, and earplugs. You may bring your own calculator as long as it is silent and non-programmable without alphabetic keypads or printing capabilities.\nBring a government-issued ID that shows your name and photograph.\nYou will not be allowed to have personal items with you during the exam. Coats\, hats\, and bags should be left in your vehicle or a designated spot outside of the exam room. You will be given a bag to store your cellphone\, wallet\, and keys during the exam. Cellphones/pagers must be silenced or powered off.\nEating\, drinking\, or smoking is not permitted in the exam room.\nYou may take a break whenever you wish\, but you will not be allowed additional time to make up for time lost during breaks. During breaks\, you are permitted to leave the exam room to use the bathroom. However\, you are not permitted to leave the building (including for smoking). Each break cannot exceed 10 minutes.\nResults will be emailed to the email address you provide when you register. By registering for this exam\, you consent to have your results shared with Office of Professional Regulation (OPR)\, the Wastewater Management Program\, and Vermont Rural Water.
URL:https://vtruralwater.org/event/wastewater-exam-12-12-am/
LOCATION:Vermont Rural Water Association\, 20 Susie Wilson Rd\, Essex Junction\, VT\, 05452\, United States
CATEGORIES:Other
END:VEVENT
BEGIN:VEVENT
DTSTART;TZID=America/New_York:20251212T124500
DTEND;TZID=America/New_York:20251212T160000
DTSTAMP:20260424T101711
CREATED:20251110T190324Z
LAST-MODIFIED:20251124T223630Z
UID:32534-1765543500-1765555200@vtruralwater.org
SUMMARY:Wastewater Exam (Web-Based Testing)
DESCRIPTION:Licensing exams for all levels of Vermont domestic and industrial (dairy\, metal\, paper) pollution abatement facility operators. The exam will be administered on a laptop. There are 10 spots available per session. Registration closes on November 24. Refunds will not be given for cancellations within two weeks of the exam date. Payment must be received by the exam date. No-shows will be charged the full fee. \nWhat to expect: \n\nPlease arrive by 12:45 pm. The exam will start promptly at 1 pm.\nYou will be provided with a laptop\, mouse\, calculator\, ABC formula sheet\, scratch paper\, pencil\, and earplugs. You may bring your own calculator as long as it is silent and non-programmable without alphabetic keypads or printing capabilities.\nBring a government-issued ID that shows your name and photograph.\nYou will not be allowed to have personal items with you during the exam. Coats\, hats\, and bags should be left in your vehicle or a designated spot outside of the exam room. You will be given a bag to store your cellphone\, wallet\, and keys during the exam. Cellphones/pagers must be silenced or powered off.\nEating\, drinking\, or smoking is not permitted in the exam room.\nYou may take a break whenever you wish\, but you will not be allowed additional time to make up for time lost during breaks. During breaks\, you are permitted to leave the exam room to use the bathroom. However\, you are not permitted to leave the building (including for smoking). Each break cannot exceed 10 minutes.\nResults will be emailed to the email address you provide when you register. By registering for this exam\, you consent to have your results shared with Office of Professional Regulation (OPR)\, the Wastewater Management Program\, and Vermont Rural Water.
URL:https://vtruralwater.org/event/wastewater-exam-12-12-pm/
LOCATION:Vermont Rural Water Association\, 20 Susie Wilson Rd\, Essex Junction\, VT\, 05452\, United States
CATEGORIES:Other
END:VEVENT
BEGIN:VEVENT
DTSTART;TZID=America/New_York:20251216T090000
DTEND;TZID=America/New_York:20251216T123000
DTSTAMP:20260424T101711
CREATED:20250815T144515Z
LAST-MODIFIED:20251205T192840Z
UID:21095-1765875600-1765888200@vtruralwater.org
SUMMARY:Trench and Excavation Safety
DESCRIPTION:Description\nWater and wastewater operators face dangerous situations when excavating trenches to repair water and sewer lines. Trench collapses happen without warning and cause severe injuries or death. Open trenches and pipe repairs include many other hazards such as water accumulation\, other buried utilities\, surface encumbrances\, and traffic. This course focuses on OSHA 1926 and the safe procedure for operators to follow when working in or around a trench or excavation. \nCredit\n3 TCH (Water & Wastewater) \nInstructor\nPaula Jackson (Vermont Rural Water Association)
URL:https://vtruralwater.org/event/trench-excavation-12-16/
LOCATION:Zoom\, Zoom
CATEGORIES:Waitlist,Wastewater Credit,Water Credit
ATTACH;FMTTYPE=image/png:https://vtruralwater.org/wp-content/uploads/2024/11/swatch2-orange.png
END:VEVENT
END:VCALENDAR