BEGIN:VCALENDAR
VERSION:2.0
PRODID:-//Vermont Rural Water Association - ECPv6.15.20//NONSGML v1.0//EN
CALSCALE:GREGORIAN
METHOD:PUBLISH
X-WR-CALNAME:Vermont Rural Water Association
X-ORIGINAL-URL:https://vtruralwater.org
X-WR-CALDESC:Events for Vermont Rural Water Association
REFRESH-INTERVAL;VALUE=DURATION:PT1H
X-Robots-Tag:noindex
X-PUBLISHED-TTL:PT1H
BEGIN:VTIMEZONE
TZID:America/New_York
BEGIN:DAYLIGHT
TZOFFSETFROM:-0500
TZOFFSETTO:-0400
TZNAME:EDT
DTSTART:20240310T070000
END:DAYLIGHT
BEGIN:STANDARD
TZOFFSETFROM:-0400
TZOFFSETTO:-0500
TZNAME:EST
DTSTART:20241103T060000
END:STANDARD
BEGIN:DAYLIGHT
TZOFFSETFROM:-0500
TZOFFSETTO:-0400
TZNAME:EDT
DTSTART:20250309T070000
END:DAYLIGHT
BEGIN:STANDARD
TZOFFSETFROM:-0400
TZOFFSETTO:-0500
TZNAME:EST
DTSTART:20251102T060000
END:STANDARD
BEGIN:DAYLIGHT
TZOFFSETFROM:-0500
TZOFFSETTO:-0400
TZNAME:EDT
DTSTART:20260308T070000
END:DAYLIGHT
BEGIN:STANDARD
TZOFFSETFROM:-0400
TZOFFSETTO:-0500
TZNAME:EST
DTSTART:20261101T060000
END:STANDARD
END:VTIMEZONE
BEGIN:VEVENT
DTSTART;TZID=America/New_York:20250604T080000
DTEND;TZID=America/New_York:20250604T150000
DTSTAMP:20260424T210600
CREATED:20250220T193110Z
LAST-MODIFIED:20250220T193110Z
UID:18623-1749024000-1749049200@vtruralwater.org
SUMMARY:Advanced WW Series: Principles of Nitrogen Removal
DESCRIPTION:Description\nThis class will cover an introduction to nitrogen removal techniques and practices. It will include discussions of the forms and sources of nitrogen in wastewater\, nitrogen analyses for process control\, the biology of nitrification and denitrification\, the Anamox process (anaerobic ammonia oxidation)\, process control schemes for nitrogen removal including cyclical aeration\, and troubleshooting nitrogen treatment problems. \nCredit\n6 TCH (Wastewater) \nInstructor\nPaul Olander \nProctor\nElijah Lemieux (Vermont Rural Water Association) \nAdvanced Wastewater Treatment Series \nThis class is part of the Advanced Wastewater Treatment Series. Classes in this series are intended for experienced wastewater operators. It is recommended that you have attended the Basic Wastewater Course\, passed a wastewater certification exam\, and/or worked a number of years at a wastewater treatment facility before taking these advanced classes. \nThese classes are designed for operators who are looking to enhance their understanding of wastewater treatment; preparing for a Grade 3\, 4\, or 5 wastewater exam; or seeking a management position at a wastewater treatment facility. There is no formal enrollment in the Advanced Wastewater Treatment Series—just sign up for each class you want to take. These classes will have “Advanced WW Series” in the title. Find more information here.
URL:https://vtruralwater.org/event/nitrogen-removal-6-4/
LOCATION:National Life Complex\, Dewey Building\, 1 National Life Drive\, Montpelier\, VT\, 05602\, United States
CATEGORIES:Training,Wastewater Credit
ATTACH;FMTTYPE=image/png:https://vtruralwater.org/wp-content/uploads/2024/11/swatch2-orange.png
END:VEVENT
BEGIN:VEVENT
DTSTART;TZID=America/New_York:20250610T080000
DTEND;TZID=America/New_York:20250610T113000
DTSTAMP:20260424T210600
CREATED:20250220T193836Z
LAST-MODIFIED:20250220T194010Z
UID:18626-1749542400-1749555000@vtruralwater.org
SUMMARY:Optimize Your Water and Wastewater Pump Stations
DESCRIPTION:Description\nProper planning will prepare you for breakdowns and the unexpected. In this training\, you will learn how to effectively maintain and operate pump stations. We will cover basic hydraulic principles of centrifugal pumps and learn to detect\, troubleshoot\, and make repairs for the most common problems. Electrical components and failures will be covered in detail. This is a great review for certification exams. \nCredit\n3 TCH (Water & Wastewater) \nInstructor\nJohn Benham (Pump Systems Inc.) \nProctor\nWayne Graham (Vermont Rural Water Association)
URL:https://vtruralwater.org/event/pump-stations-6-10/
LOCATION:Lyndon Public Safety Facility\, 316 Main St\, Lyndonville\, VT\, 05851\, United States
CATEGORIES:Training,Wastewater Credit,Water Credit
ATTACH;FMTTYPE=image/png:https://vtruralwater.org/wp-content/uploads/2024/11/swatch-green.png
END:VEVENT
BEGIN:VEVENT
DTSTART;TZID=America/New_York:20250611T080000
DTEND;TZID=America/New_York:20250611T123000
DTSTAMP:20260424T210600
CREATED:20250220T194601Z
LAST-MODIFIED:20250220T194601Z
UID:18629-1749628800-1749645000@vtruralwater.org
SUMMARY:Understanding Your Motor Control Panels
DESCRIPTION:Description\nWater and wastewater operators\, while not electricians\, need to understand the critical components of motor control panels and know how to troubleshoot problems. You will have the opportunity to practice these skills at a control panel workstation. Electrical theory\, formulas and safety will be covered in detail\, making this course a great review for certification exams. Please bring your voltage/amp meter if you have one. \nCredit\n4 TCH (Water & Wastewater) \nInstructor\nJohn Benham (Pump Systems Inc.) \nProctor\nWayne Graham (Vermont Rural Water Association)
URL:https://vtruralwater.org/event/control-panels-6-11/
LOCATION:Lyndon Public Safety Facility\, 316 Main St\, Lyndonville\, VT\, 05851\, United States
CATEGORIES:Training,Wastewater Credit,Water Credit
ATTACH;FMTTYPE=image/png:https://vtruralwater.org/wp-content/uploads/2024/11/swatch4-yellow.png
END:VEVENT
BEGIN:VEVENT
DTSTART;TZID=America/New_York:20250612T090000
DTEND;TZID=America/New_York:20250612T123000
DTSTAMP:20260424T210600
CREATED:20250220T195517Z
LAST-MODIFIED:20250529T131728Z
UID:18632-1749718800-1749731400@vtruralwater.org
SUMMARY:What to Expect at a VOSHA Inspection
DESCRIPTION:Description\nBe prepared for your next Vermont Occupational and Health Administration (VOSHA) inspection. Miriam Owens\, compliance assistance specialist at VOSHA\, will detail common deficiencies found at worksites and how to correct them. \nCredit\n3 TCH (Water & Wastewater) \nCost\n$24 Member\n$48 Non-member \nInstructor\nMiriam Owens (Vermont Occupational and Health Administration) \nProctor\nElijah Lemieux (Vermont Rural Water Association)
URL:https://vtruralwater.org/event/vosha-inspection-6-12/
LOCATION:Zoom\, Zoom
CATEGORIES:Waitlist,Wastewater Credit,Water Credit
ATTACH;FMTTYPE=image/png:https://vtruralwater.org/wp-content/uploads/2024/11/swatch-blue.png
END:VEVENT
BEGIN:VEVENT
DTSTART;TZID=America/New_York:20250617T090000
DTEND;TZID=America/New_York:20250617T123000
DTSTAMP:20260424T210600
CREATED:20250220T201527Z
LAST-MODIFIED:20250220T201527Z
UID:18643-1750150800-1750163400@vtruralwater.org
SUMMARY:Leadership in Safety
DESCRIPTION:Description\nIn this session\, participants will receive an overview of the importance of leadership’s involvement in safety and how to engage your employees in creating a culture where safety is a top priority for everyone in the organization. Being a leader in safety is more than just compliance; it’s creating an environment where safety is forefront by: \n\nDeveloping a Safety Vision and Mission: Articulate a clear and compelling safety vision that aligns with the organizational goals.\nEngaging Employees at All levels: Encourage employee involvement in safety programs.\nInvesting in Training and Development: Continuous training is essential for meeting the latest safety standards and practices.\nFostering a Culture of Accountability: Ensure that everyone in the organization understands their role in maintaining safety.\nConducting Regular Audits and Inspections: Regularly scheduled audits and inspections can help identify potential risks and ensure compliance with safety regulations.\nPromoting Open Communication: Create an environment where employees feel comfortable reporting hazards\, incidents\, and near-misses without fear of retaliation.\n\nSafety is everyone’s responsibility\, but it begins with strong\, effective leadership that inspires and guides. \nCredit\n3 TCH (Water & Wastewater) \nInstructor\nMiriam Owens (Vermont Occupational and Health Administration) \nProctor\nElijah Lemieux (Vermont Rural Water Association)
URL:https://vtruralwater.org/event/safety-leadership-6-17/
LOCATION:Zoom\, Zoom
CATEGORIES:Wastewater Credit,Water Credit,Zoom Training
ATTACH;FMTTYPE=image/png:https://vtruralwater.org/wp-content/uploads/2024/11/swatch2-orange.png
END:VEVENT
BEGIN:VEVENT
DTSTART;TZID=America/New_York:20250624T080000
DTEND;TZID=America/New_York:20250624T150000
DTSTAMP:20260424T210600
CREATED:20250220T202017Z
LAST-MODIFIED:20250220T202017Z
UID:18646-1750752000-1750777200@vtruralwater.org
SUMMARY:Advanced WW Series: Principles of Phosphorus Removal
DESCRIPTION:Description\nThis class will cover an introduction to chemical and biological phosphorus removal techniques and practices. It will include discussions of the forms and sources of phosphorus in wastewater\, chemical removal processes\, jar testing\, biological removal processes\, using the ortho-phosphate analysis for process control\, experiences in optimizing phosphorus removal coming out of the EPA/DEC optimization grant\, and influent phosphorus control. \nCredit\n6 TCH (Wastewater) \nInstructor\nPaul Olander \nProctor\nElijah Lemieux (Vermont Rural Water Association) \nAdvanced Wastewater Treatment Series \nThis class is part of the Advanced Wastewater Treatment Series. Classes in this series are intended for experienced wastewater operators. It is recommended that you have attended the Basic Wastewater Course\, passed a wastewater certification exam\, and/or worked a number of years at a wastewater treatment facility before taking these advanced classes. \nThese classes are designed for operators who are looking to enhance their understanding of wastewater treatment; preparing for a Grade 3\, 4\, or 5 wastewater exam; or seeking a management position at a wastewater treatment facility. There is no formal enrollment in the Advanced Wastewater Treatment Series—just sign up for each class you want to take. These classes will have “Advanced WW Series” in the title. Find more information here.
URL:https://vtruralwater.org/event/phosphorus-removal-6-24/
LOCATION:National Life Complex\, Dewey Building\, 1 National Life Drive\, Montpelier\, VT\, 05602\, United States
CATEGORIES:Training,Wastewater Credit
ATTACH;FMTTYPE=image/png:https://vtruralwater.org/wp-content/uploads/2024/11/swatch-green.png
END:VEVENT
BEGIN:VEVENT
DTSTART;TZID=America/New_York:20250625T083000
DTEND;TZID=America/New_York:20250625T120000
DTSTAMP:20260424T210600
CREATED:20250220T203036Z
LAST-MODIFIED:20250220T203036Z
UID:18649-1750840200-1750852800@vtruralwater.org
SUMMARY:Optimize Your Water and Wastewater Pump Stations
DESCRIPTION:Description\nProper planning will prepare you for breakdowns and the unexpected. In this training\, you will learn how to effectively maintain and operate pump stations. We will cover basic hydraulic principles of centrifugal pumps and learn to detect\, troubleshoot\, and make repairs for the most common problems. Electrical components and failures will be covered in detail. This is a great review for certification exams. \nCredit\n3 TCH (Water & Wastewater) \nInstructor\nJohn Benham (Pump Systems Inc.) \nProctor\nWayne Graham (Vermont Rural Water Association)
URL:https://vtruralwater.org/event/pump-stations-6-25/
LOCATION:Windham Regional Career Center – Cusick Conference Room\, 80 Atwood St\, Brattleboro\, VT\, 05301\, United States
CATEGORIES:Training,Wastewater Credit,Water Credit
ATTACH;FMTTYPE=image/png:https://vtruralwater.org/wp-content/uploads/2024/11/swatch4-yellow.png
END:VEVENT
BEGIN:VEVENT
DTSTART;TZID=America/New_York:20250626T083000
DTEND;TZID=America/New_York:20250626T130000
DTSTAMP:20260424T210600
CREATED:20250220T203548Z
LAST-MODIFIED:20250618T163057Z
UID:18652-1750926600-1750942800@vtruralwater.org
SUMMARY:Understanding Your Motor Control Panels
DESCRIPTION:Description\nWater and wastewater operators\, while not electricians\, need to understand the critical components of motor control panels and know how to troubleshoot problems. You will have the opportunity to practice these skills at a control panel workstation. Electrical theory\, formulas and safety will be covered in detail\, making this course a great review for certification exams. Please bring your voltage/amp meter if you have one. \nCredit\n4 TCH (Water & Wastewater) \nInstructor\nJohn Benham (Pump Systems Inc.) \nProctor\nWayne Graham (Vermont Rural Water Association)
URL:https://vtruralwater.org/event/control-panels-6-26/
LOCATION:Windham Regional Career Center – Cusick Conference Room\, 80 Atwood St\, Brattleboro\, VT\, 05301\, United States
CATEGORIES:Waitlist,Wastewater Credit,Water Credit
ATTACH;FMTTYPE=image/png:https://vtruralwater.org/wp-content/uploads/2024/11/swatch-blue.png
END:VEVENT
BEGIN:VEVENT
DTSTART;TZID=America/New_York:20250626T090000
DTEND;TZID=America/New_York:20250626T123000
DTSTAMP:20260424T210600
CREATED:20250220T204113Z
LAST-MODIFIED:20250220T204113Z
UID:18655-1750928400-1750941000@vtruralwater.org
SUMMARY:Successful Crisis Communications: Lead\, PFAS\, & Incident Management
DESCRIPTION:Description\nThis session will show attendees how successfully handle crisis communications before\, during\, and after major discoveries or incidents\, so they can not only protect their utilities’ reputations\, but improve them through planned transparency. WaterPIO has assisted clients with PFAS panics\, Lead and Copper Rule exceedances\, and systemwide infrastructure failures in more than 20 states. This series of presentations will walk attendees through proper crisis communications management of PFAS discoveries\, lead inventory findings and exceedances\, and significant water and sewer main breaks—all situations that posed long-term threats to customer confidence. \nCredit\n3 TCH (Water & Wastewater) \nInstructor\nMike McGill (WaterPIO) \nProctor\nAllison Smith (Vermont Rural Water Association)
URL:https://vtruralwater.org/event/crisis-comms-6-26/
LOCATION:Zoom\, Zoom
CATEGORIES:Wastewater Credit,Water Credit,Zoom Training
ATTACH;FMTTYPE=image/png:https://vtruralwater.org/wp-content/uploads/2024/11/swatch2-orange.png
END:VEVENT
END:VCALENDAR