BEGIN:VCALENDAR
VERSION:2.0
PRODID:-//Vermont Rural Water Association - ECPv6.15.20//NONSGML v1.0//EN
CALSCALE:GREGORIAN
METHOD:PUBLISH
X-ORIGINAL-URL:https://vtruralwater.org
X-WR-CALDESC:Events for Vermont Rural Water Association
REFRESH-INTERVAL;VALUE=DURATION:PT1H
X-Robots-Tag:noindex
X-PUBLISHED-TTL:PT1H
BEGIN:VTIMEZONE
TZID:America/New_York
BEGIN:DAYLIGHT
TZOFFSETFROM:-0500
TZOFFSETTO:-0400
TZNAME:EDT
DTSTART:20240310T070000
END:DAYLIGHT
BEGIN:STANDARD
TZOFFSETFROM:-0400
TZOFFSETTO:-0500
TZNAME:EST
DTSTART:20241103T060000
END:STANDARD
BEGIN:DAYLIGHT
TZOFFSETFROM:-0500
TZOFFSETTO:-0400
TZNAME:EDT
DTSTART:20250309T070000
END:DAYLIGHT
BEGIN:STANDARD
TZOFFSETFROM:-0400
TZOFFSETTO:-0500
TZNAME:EST
DTSTART:20251102T060000
END:STANDARD
BEGIN:DAYLIGHT
TZOFFSETFROM:-0500
TZOFFSETTO:-0400
TZNAME:EDT
DTSTART:20260308T070000
END:DAYLIGHT
BEGIN:STANDARD
TZOFFSETFROM:-0400
TZOFFSETTO:-0500
TZNAME:EST
DTSTART:20261101T060000
END:STANDARD
END:VTIMEZONE
BEGIN:VEVENT
DTSTART;TZID=America/New_York:20250326T080000
DTEND;TZID=America/New_York:20250513T150000
DTSTAMP:20260424T225218
CREATED:20250123T183047Z
LAST-MODIFIED:20250305T151242Z
UID:18054-1742976000-1747148400@vtruralwater.org
SUMMARY:Basic Wastewater Course
DESCRIPTION:Dates\nWednesday\, March 26\nWednesday\, April 2\nWednesday\, April 9\nWednesday\, April 16\nWednesday\, April 23\nWednesday\, April 30\nWednesday\, May 7\nTuesday\, May 13\n8 am to 3 pm each day \nDescription\nThis eight-session course will prepare attendees to take the Grades 1\, 2\, or 3 Domestic Wastewater certification exams\, and is a great primer for those taking higher grade exams. Attendees will learn the basic concepts of wastewater treatment from collection system to final disposal of effluents and solids. \nThe course will be taught by Elijah Lemieux and Wayne Graham from the Vermont Rural Water Association\, along with guest presenters to provide expertise on specific topics. \nTextbook\nThe course is based on Operation of Wastewater Treatment Plants (Volume 1\, 8th edition) by the Office of Water Programs. All students are required to have a copy of this book. You can purchase it for $100 when you register. \nCredit\n48 TCH – Wastewater \nCost\n$760 (with textbook)\n$660 (no textbook) \nRegister early! The maximum class size is 20.
URL:https://vtruralwater.org/event/basic-ww-course-spring-2025/
LOCATION:Chester Public Safety Building\, 130 Pleasant St\, Chester\, VT\, 05143\, United States
CATEGORIES:Waitlist,Wastewater Credit
ATTACH;FMTTYPE=image/png:https://vtruralwater.org/wp-content/uploads/2024/11/swatch2-orange.png
END:VEVENT
BEGIN:VEVENT
DTSTART;TZID=America/New_York:20250501T090000
DTEND;TZID=America/New_York:20250501T123000
DTSTAMP:20260424T225218
CREATED:20250219T170042Z
LAST-MODIFIED:20250219T170628Z
UID:18536-1746090000-1746102600@vtruralwater.org
SUMMARY:Issuing a Boil Water Notice
DESCRIPTION:Description\nIssuing a Boil Water notice can be a complicated process\, but could prevent negative health impacts to your water system’s consumers. It is important to be prepared in advance of an emergency by knowing when and how to issue a Boil Water notice—or even a Do Not Drink order. \nThis class will look at the reasons to issue a Boil Water notice\, the procedures to determine if a notice is needed\, and ways to make sure all affected consumers are notified. \nThis class encourages discussion from participants. \nCredit\n3 TCH (Water) \nInstructor\nPaula Jackson (Vermont Rural Water Association)
URL:https://vtruralwater.org/event/boil-water-5-1/
LOCATION:F.W. Webb\, 80 Park Avenue\, Williston\, VT\, United States
CATEGORIES:Training,Water Credit
ATTACH;FMTTYPE=image/png:https://vtruralwater.org/wp-content/uploads/2024/11/swatch-blue.png
END:VEVENT
BEGIN:VEVENT
DTSTART;TZID=America/New_York:20250502T090000
DTEND;TZID=America/New_York:20250502T123000
DTSTAMP:20260424T225218
CREATED:20250219T170434Z
LAST-MODIFIED:20250423T132529Z
UID:18539-1746176400-1746189000@vtruralwater.org
SUMMARY:Water System Sampling
DESCRIPTION:Description\nSampling is a requirement under the Safe Drinking Water Act. This class will discuss the parameters that are sampled\, the health effects of contaminants\, maximum contaminant levels (MCLs)\, and how to collect each sample the proper way. Attendees will gain a more comprehensive understanding of the sampling that they do and why they are doing it. \nCredit\n3 TCH (Water) \nInstructor\nPaula Jackson (Vermont Rural Water Association) \nCost\nMember – $24\nNon-member – $48
URL:https://vtruralwater.org/event/sampling-5-2/
LOCATION:Vermont Rural Water Association\, 20 Susie Wilson Rd\, Essex Junction\, VT\, 05452\, United States
CATEGORIES:Waitlist,Water Credit
ATTACH;FMTTYPE=image/png:https://vtruralwater.org/wp-content/uploads/2024/11/swatch2-orange.png
END:VEVENT
BEGIN:VEVENT
DTSTART;TZID=America/New_York:20250506T080000
DTEND;TZID=America/New_York:20250506T113000
DTSTAMP:20260424T225218
CREATED:20250313T152911Z
LAST-MODIFIED:20250414T182943Z
UID:19192-1746518400-1746531000@vtruralwater.org
SUMMARY:Wastewater Operator’s Guide to NPDES Permits and Facility Inspections
DESCRIPTION:Description\nThis class will cover frequently asked questions about permits\, how to review your renewed permit and fact sheet\, a brief summary of permit changes based on EPA’s 2021 review of the program and the Vermont Water Quality Standards updated in 2022\, and common questions/issues with the nForm. We will also go over the state process for inspecting wastewater treatment facilities\, pump stations\, and collection systems. Learn how to be prepared for an inspection\, including paperwork that you will need to have available. \nCredit\n3 TCH (Wastewater) \nInstructor\nWastewater Management Program staff \nProctor\nElijah Lemieux (Vermont Rural Water Association)
URL:https://vtruralwater.org/event/npdes-permits-5-6/
LOCATION:National Life Complex\, Dewey Building\, 1 National Life Drive\, Montpelier\, VT\, 05602\, United States
CATEGORIES:Training,Wastewater Credit
ATTACH;FMTTYPE=image/png:https://vtruralwater.org/wp-content/uploads/2024/11/swatch-green.png
END:VEVENT
BEGIN:VEVENT
DTSTART;TZID=America/New_York:20250513T090000
DTEND;TZID=America/New_York:20250513T123000
DTSTAMP:20260424T225218
CREATED:20250219T183023Z
LAST-MODIFIED:20250505T205835Z
UID:18567-1747126800-1747139400@vtruralwater.org
SUMMARY:Water Treatment: Chlorination
DESCRIPTION:Description\nBoth continuous chlorination and shock chlorination are integral parts of water treatment. Water systems operators should understand both of these concepts to ensure that public health is protected. This class will cover the following topics: \n\nChlorine chemistry\nBreakpoint chlorination and how to achieve it\nSodium hypochlorite feed equipment and how to avoid feed pump malfunctions\nContamination events that warrant shock chlorination\nProper shock chlorination procedures\nShock chlorination of water storage tanks and distribution piping\nProper dechlorination methods and equipment\n\nCredit\n3 TCH (Water) \nInstructor\nPaula Jackson (Vermont Rural Water Association) \nProctor\nAllison Smith (Vermont Rural Water Association)
URL:https://vtruralwater.org/event/chlorination-5-13/
LOCATION:Zoom\, Zoom
CATEGORIES:Water Credit,Zoom Training
ATTACH;FMTTYPE=image/png:https://vtruralwater.org/wp-content/uploads/2024/11/swatch4-yellow.png
END:VEVENT
BEGIN:VEVENT
DTSTART;TZID=America/New_York:20250514T120000
DTEND;TZID=America/New_York:20250515T150000
DTSTAMP:20260424T225218
CREATED:20241218T195752Z
LAST-MODIFIED:20250501T141404Z
UID:17400-1747224000-1747321200@vtruralwater.org
SUMMARY:Conference Sponsorship
DESCRIPTION:Your sponsorship makes our conference possible and supports Vermont Rural Water. Sponsorships are first-come\, first-served\, so don’t wait to reserve the level you want! \nBronze Sponsor – $150 \n\nSign posted on the golf course announcing your sponsorship of a Golf Tournament tee box\nAdvertisement (2.5″ x 3.5″) in the conference program\nSponsorship acknowledgment on the conference schedule\n\nSilver Sponsor – $500 \n\nAll benefits of Bronze Sponsorship\nLogo on conference page of our website\nLogo on sign posted by snack table\nLogo on sign posted at entrance to the trade show\n\nGold Sponsor – $1\,000 \n\nAll benefits of Silver Sponsorship\nLogo on conference email announcements\nLogo on sign posted in the dining room announcing your sponsorship of the luncheon\nSponsorship announcement during the luncheon\nOne-page flyer (provided by you) in all attendee packets\n\nPlease send your logo and program ad to kboyk@vtruralwater.org as soon as possible. \nSponsorship registrations close on May 1. \nSponsored by:
URL:https://vtruralwater.org/event/conference-sponsorship-2025/
LOCATION:Lake Morey Resort\, 82 Clubhouse Rd\, Fairlee\, VT\, United States
CATEGORIES:Conference
END:VEVENT
BEGIN:VEVENT
DTSTART;TZID=America/New_York:20250514T123000
DTEND;TZID=America/New_York:20250514T170000
DTSTAMP:20260424T225218
CREATED:20241218T193829Z
LAST-MODIFIED:20250320T142906Z
UID:17393-1747225800-1747242000@vtruralwater.org
SUMMARY:Golf Tournament
DESCRIPTION:Come join the fun and support Vermont Rural Water! The tournament is a four-person scramble with a shotgun start at 12:30. You can form your own four-person team\, or allow the pro shop to match you with others. \nCost\nFor those staying overnight at Lake Morey Resort under the Full Package Rate\, the tournament fee is $85. If you are not staying overnight (or staying under the discounted vendor rate)\, the tournament fee is $115. \nSponsored by:
URL:https://vtruralwater.org/event/golf-tournament-2025/
LOCATION:Lake Morey Country Club\, 179 Clubhouse Rd\, Fairlee\, VT\, United States
CATEGORIES:Conference
END:VEVENT
BEGIN:VEVENT
DTSTART;TZID=America/New_York:20250515T080000
DTEND;TZID=America/New_York:20250515T150000
DTSTAMP:20260424T225218
CREATED:20241219T162050Z
LAST-MODIFIED:20250501T141011Z
UID:17418-1747296000-1747321200@vtruralwater.org
SUMMARY:2025 Conference
DESCRIPTION:Vermont Rural Water’s 2025 Conference will include a trade show\, luncheon\, and trainings. Click here to view the full schedule. \nCost\n$85 Member\n$130 Non-member \nTraining Classes \nEarn 3.5 TCH (water/wastewater) if you attend a class during each session. The first classes begin at 8:30 am. Class descriptions can be found in the conference schedule here. \nClass Topics: \n\n\n\nSCADA Overview\, Troubleshooting\, & Resiliency (Tom Allen\, LCS Controls)\nPeristaltic Pumps 101 (Kevin Moran\, Stenner Pumps)\nIce Pigging: Advanced Pipe Cleaning Technology (Paul Treloar\, American Pipeline Solutions and Dean Rheume\, Town of Middlebury)\nSecurity and Resilience: Champlain Water District’s Partnership with CISA (Joe Duncan\, Champlain Water District)\nDrinking Water Regulatory Updates (Ben Montross\, DWGPD)\nWastewater Regulatory Updates (Heather Collins\, Michelle Kolb\, and Garrett Walsh\, Wastewater Management Program)\n\n\n\nAdditional Activities \nVermont Drinking Water Week will be hosting the 2025 Water Taste Test during the conference. To participate\, submit an entry form by May 1 and deliver one gallon of water to the Taste Test table in the lobby by 9 am on May 15.\n     Taste Test Rules\n     Entry Form (PDF)\n     Entry Form (Word doc) \nThere will be a Golf Tournament on Wednesday\, May 14. Learn more and register here. \nTo exhibit in the Trade Show\, click here. \nTo Sponsor the conference\, click here. \nSponsored by:
URL:https://vtruralwater.org/event/2025-conference/
LOCATION:Lake Morey Resort\, 82 Clubhouse Rd\, Fairlee\, VT\, United States
CATEGORIES:Waitlist,Wastewater Credit,Water Credit
ATTACH;FMTTYPE=image/png:https://vtruralwater.org/wp-content/uploads/2024/11/swatch-blue.png
END:VEVENT
BEGIN:VEVENT
DTSTART;TZID=America/New_York:20250520T080000
DTEND;TZID=America/New_York:20250520T150000
DTSTAMP:20260424T225218
CREATED:20250414T182656Z
LAST-MODIFIED:20250506T171526Z
UID:19812-1747728000-1747753200@vtruralwater.org
SUMMARY:Pump School
DESCRIPTION:This course is being organized and offered by Champlin Associates for FREE. Lunch is also generously being provided for participants. \nDescription\nThis three-part class will introduce submersible pump components\, pump curves\, and diagnosing pump failures using a systems approach. Topics include: \n\nBasics of pumps and systems\nPump curves—how to read them and why you would want to\nOptimizing pump selection\nSystems-oriented approaches to failure analysis\n\nCredit\n6 TCH (Water & Wastewater) \nInstructor\nNick Terranova (HOMA Pump Technology) \nProctor\nAllison Smith (Vermont Rural Water Association)
URL:https://vtruralwater.org/event/pump-school-5-20/
LOCATION:Franklin Event Center\, 1 Scale Ave\, Suite 92\, Rutland\, VT\, 05701\, United States
CATEGORIES:Training,Wastewater Credit,Water Credit
ATTACH;FMTTYPE=image/png:https://vtruralwater.org/wp-content/uploads/2024/11/swatch2-orange.png
END:VEVENT
BEGIN:VEVENT
DTSTART;TZID=America/New_York:20250520T090000
DTEND;TZID=America/New_York:20250520T123000
DTSTAMP:20260424T225218
CREATED:20250219T184232Z
LAST-MODIFIED:20250428T132248Z
UID:18570-1747731600-1747744200@vtruralwater.org
SUMMARY:Cross Connection Control
DESCRIPTION:Description\nCross connections in public water systems can cause adverse health effects to consumers if a control program is not in place. High-risk businesses such as car washes\, hospitals\, manufacturing facilities\, funeral parlors\, and veterinarian clinics may pose hazards to a water system if they do have adequate backflow prevention. \nThis course will discuss the process of identifying high-risk hazards and choosing the appropriate backflow prevention device based on the level of risk. \nCredit\n3 TCH (Water) \nInstructor\nPaula Jackson (Vermont Rural Water Association)
URL:https://vtruralwater.org/event/cross-connection-5-20/
LOCATION:Waterbury Municipal Center\, Community Room\, 28 N Main St\, Waterbury\, VT\, 05676\, United States
CATEGORIES:Waitlist,Water Credit
ATTACH;FMTTYPE=image/png:https://vtruralwater.org/wp-content/uploads/2024/11/swatch-green.png
END:VEVENT
BEGIN:VEVENT
DTSTART;TZID=America/New_York:20250521T090000
DTEND;TZID=America/New_York:20250521T123000
DTSTAMP:20260424T225218
CREATED:20250219T185932Z
LAST-MODIFIED:20250414T183718Z
UID:18573-1747818000-1747830600@vtruralwater.org
SUMMARY:Operation and Maintenance of Distribution Systems
DESCRIPTION:Description\nGroundwater system operators have many tasks to accomplish to operate and maintain their water systems. We will review administrative tasks such as sampling and monitoring\, consumer confidence reports\, chemical monitoring waivers\, source protection\, operation and maintenance manuals\, monthly operating reports\, operator certification and sanitary surveys. \nOperation and maintenance of groundwater sources is a very important part of providing safe drinking water to consumers. Ensuring sustainability by performing drawdown tests on groundwater wells will help you to know how sustainable your groundwater source is. Operating your disinfection system and understanding the chlorination process is key to providing safe water that consumers find palatable. \nWater distribution systems can often be a contamination vulnerability. Maintenance items such as flushing\, valve exercising\, and hydrant maintenance are of the utmost importance. \nCredit\n3 TCH (Water) \nInstructor\nPaula Jackson (Vermont Rural Water Association)
URL:https://vtruralwater.org/event/om-distribution/
LOCATION:Lyndon Public Safety Facility\, 316 Main St\, Lyndonville\, VT\, 05851\, United States
CATEGORIES:Training,Water Credit
ATTACH;FMTTYPE=image/png:https://vtruralwater.org/wp-content/uploads/2024/11/swatch4-yellow.png
END:VEVENT
BEGIN:VEVENT
DTSTART;TZID=America/New_York:20250522T090000
DTEND;TZID=America/New_York:20250522T123000
DTSTAMP:20260424T225218
CREATED:20250313T154702Z
LAST-MODIFIED:20250410T225356Z
UID:19198-1747904400-1747917000@vtruralwater.org
SUMMARY:TNC Operations
DESCRIPTION:Description\nThis course is designed for Transient Non-Community (TNC) Water System Operators. No matter what your experience as a water system operator\, this course will help you better manage your system. The course will review the following topics: disinfecting your water system (UV and chlorine)\, sampling procedure and sampling schedules\, sanitary survey review\, common water system deficiencies\, rules and regulations (current and upcoming rules)\, discussion of seasonal operations\, basic site investigations. \nFor Class 1B operators\, this course will fulfill the requirement to obtain 3 continuing education credits prior to renewal of your certification. \nCredit\n3 TCH (Water) \nInstructor\nMeredith Maskell (VT Drinking Water and Groundwater Protection Division) \nProctor\nTim Russo (Vermont Rural Water Association)
URL:https://vtruralwater.org/event/tnc-operations-5-22/
LOCATION:Zoom\, Zoom
CATEGORIES:Water Credit,Zoom Training
ATTACH;FMTTYPE=image/png:https://vtruralwater.org/wp-content/uploads/2024/11/swatch-blue.png
END:VEVENT
BEGIN:VEVENT
DTSTART;TZID=America/New_York:20250527T090000
DTEND;TZID=America/New_York:20250527T123000
DTSTAMP:20260424T225218
CREATED:20250219T190714Z
LAST-MODIFIED:20250521T141258Z
UID:18577-1748336400-1748349000@vtruralwater.org
SUMMARY:Personal Protective Equipment\, Ladder\, and Electrical Safety
DESCRIPTION:Description\nThis class will cover several safety considerations for water and wastewater personnel. First\, we will look at new and improved personal protective equipment (PPE). Falls are the second highest cause of workplace fatality across the nation\, so we will discuss ladder safety at home and in the workplace. Water and wastewater operators work on and around electrical equipment at their facilities. This class focuses on the electrical safety measures that should be in place at your facility. \nCredit\n3 TCH (Water & Wastewater) \nCost\n$24 Member\n$48 Non-member \nInstructor\nPaula Jackson (Vermont Rural Water Association)
URL:https://vtruralwater.org/event/ppe-5-27/
LOCATION:National Life Complex\, Dewey Building\, 1 National Life Drive\, Montpelier\, VT\, 05602\, United States
CATEGORIES:Waitlist,Wastewater Credit,Water Credit
ATTACH;FMTTYPE=image/png:https://vtruralwater.org/wp-content/uploads/2024/11/swatch-green.png
END:VEVENT
BEGIN:VEVENT
DTSTART;TZID=America/New_York:20250529T090000
DTEND;TZID=America/New_York:20250529T123000
DTSTAMP:20260424T225218
CREATED:20250220T185623Z
LAST-MODIFIED:20250220T185623Z
UID:18618-1748509200-1748521800@vtruralwater.org
SUMMARY:Operation and Maintenance of Distribution Systems
DESCRIPTION:Description\nGroundwater system operators have many tasks to accomplish to operate and maintain their water systems. We will review administrative tasks such as sampling and monitoring\, consumer confidence reports\, chemical monitoring waivers\, source protection\, operation and maintenance manuals\, monthly operating reports\, operator certification and sanitary surveys. \nOperation and maintenance of groundwater sources is a very important part of providing safe drinking water to consumers. Ensuring sustainability by performing drawdown tests on groundwater wells will help you to know how sustainable your groundwater source is. Operating your disinfection system and understanding the chlorination process is key to providing safe water that consumers find palatable. \nWater distribution systems can often be a contamination vulnerability. Maintenance items such as flushing\, valve exercising\, and hydrant maintenance are of the utmost importance. \nCredit\n3 TCH (Water) \nInstructor\nPaula Jackson (Vermont Rural Water Association)
URL:https://vtruralwater.org/event/o-m-distribution-5-29/
LOCATION:Brattleboro Fire Department\, 103 Elliot St\, Brattleboro\, VT\, 05301\, United States
CATEGORIES:Training,Water Credit
ATTACH;FMTTYPE=image/png:https://vtruralwater.org/wp-content/uploads/2024/11/swatch-blue.png
END:VEVENT
BEGIN:VEVENT
DTSTART;TZID=America/New_York:20250529T090000
DTEND;TZID=America/New_York:20250529T150000
DTSTAMP:20260424T225218
CREATED:20250220T170309Z
LAST-MODIFIED:20250220T190358Z
UID:18584-1748509200-1748530800@vtruralwater.org
SUMMARY:Advanced WW Series: Real Control of the Activated Sludge Process
DESCRIPTION:Description\nThis class will discuss the science and math behind the three principles guiding the control of the activated sludge process: (1) give the mixed liquor just the air it needs\, where it needs it\, when it needs it; (2) identify and maintain the minimum SRT TARGET that meets the effluent ammonia requirement and gives the best sludge quality; and (3) maintain the lowest RAS flow possible without overloading the secondary clarifier. \nCredit\n5 TCH (Wastewater) \nInstructor\nEric Wahlberg (Wastewater Technology Trainers) \nProctor\nWayne Graham (Vermont Rural Water Association) \nAdvanced Wastewater Treatment Series \nThis class is part of the Advanced Wastewater Treatment Series. Classes in this series are intended for experienced wastewater operators. It is recommended that you have attended the Basic Wastewater Course\, passed a wastewater certification exam\, and/or worked a number of years at a wastewater treatment facility before taking these advanced classes. \nThese classes are designed for operators who are looking to enhance their understanding of wastewater treatment; preparing for a Grade 3\, 4\, or 5 wastewater exam; or seeking a management position at a wastewater treatment facility. There is no formal enrollment in the Advanced Wastewater Treatment Series—just sign up for each class you want to take. These classes will have “Advanced WW Series” in the title. Find more information here.
URL:https://vtruralwater.org/event/activated-sludge-5-29/
LOCATION:National Life Complex\, Dewey Building\, 1 National Life Drive\, Montpelier\, VT\, 05602\, United States
CATEGORIES:Training,Wastewater Credit
ATTACH;FMTTYPE=image/png:https://vtruralwater.org/wp-content/uploads/2024/11/swatch4-yellow.png
END:VEVENT
BEGIN:VEVENT
DTSTART;TZID=America/New_York:20250529T130000
DTEND;TZID=America/New_York:20250529T150000
DTSTAMP:20260424T225218
CREATED:20250226T140900Z
LAST-MODIFIED:20250226T140900Z
UID:18745-1748523600-1748530800@vtruralwater.org
SUMMARY:Lake Champlain Live
DESCRIPTION:Class Description\nJoin us aboard the University of Vermont’s new state-of-the-art research vessel the R/V Marcelle Melosira for a hands-on glimpse into the science of Lake Champlain. This training will engage attendees in learning about the current condition of our state’s largest receiving water\, as well as how our work in the water and wastewater industry impacts aquatic ecosystems. While aboard the research vessel\, attendees will be guided by Watershed Educators as they learn about the unique properties of the lake and gather data that assists researchers in understanding the dynamic nature of the lake. We will learn about ongoing research\, gain experience with science on the lake\, and deepen our understanding of the interaction between the many physical\, biological\, chemical\, and cultural variables that contribute to the health of the lake and its watershed. \nClass Credit\n2 TCH (Water & Wastewater) \nLocation\nThe Rubenstein Ecosystem Science Laboratory is located on the back side of the ECHO Center on the waterfront. Attendees will be responsible for finding their own parking in Burlington. Paid parking is available at the city-owned parking lot across from the ECHO Center on a first-come-first-served basis. \nImportant Notes\nThis training takes place on the water and will be subject to cancellation if weather conditions are deemed unsafe. In the event of a cancellation up to the time of departure\, we will contact you via the phone number and e-mail address you registered with. \nPlease wear close-toed shoes and appropriate clothing to be away from shore for the duration of the training. Closed-toed shoes are required to board the vessel. Bring sunscreen\, water\, and anything else you may need for the trip. The R/V Marcelle Melosira does have a bathroom and sheltered cabin. \nInstructors\nLake Champlain Sea Grant Watershed Instructors \nProctor\nBrad Roy (Vermont Rural Water Association)
URL:https://vtruralwater.org/event/lake-champlain-live-5-29/
LOCATION:Rubenstein Ecosystem Science Laboratory\, 3 College Street\, Burlington\, VT\, United States
CATEGORIES:Training,Wastewater Credit,Water Credit
ATTACH;FMTTYPE=image/png:https://vtruralwater.org/wp-content/uploads/2024/11/swatch-green.png
END:VEVENT
END:VCALENDAR