BEGIN:VCALENDAR
VERSION:2.0
PRODID:-//Vermont Rural Water Association - ECPv6.15.20//NONSGML v1.0//EN
CALSCALE:GREGORIAN
METHOD:PUBLISH
X-ORIGINAL-URL:https://vtruralwater.org
X-WR-CALDESC:Events for Vermont Rural Water Association
REFRESH-INTERVAL;VALUE=DURATION:PT1H
X-Robots-Tag:noindex
X-PUBLISHED-TTL:PT1H
BEGIN:VTIMEZONE
TZID:America/New_York
BEGIN:DAYLIGHT
TZOFFSETFROM:-0500
TZOFFSETTO:-0400
TZNAME:EDT
DTSTART:20240310T070000
END:DAYLIGHT
BEGIN:STANDARD
TZOFFSETFROM:-0400
TZOFFSETTO:-0500
TZNAME:EST
DTSTART:20241103T060000
END:STANDARD
BEGIN:DAYLIGHT
TZOFFSETFROM:-0500
TZOFFSETTO:-0400
TZNAME:EDT
DTSTART:20250309T070000
END:DAYLIGHT
BEGIN:STANDARD
TZOFFSETFROM:-0400
TZOFFSETTO:-0500
TZNAME:EST
DTSTART:20251102T060000
END:STANDARD
BEGIN:DAYLIGHT
TZOFFSETFROM:-0500
TZOFFSETTO:-0400
TZNAME:EDT
DTSTART:20260308T070000
END:DAYLIGHT
BEGIN:STANDARD
TZOFFSETFROM:-0400
TZOFFSETTO:-0500
TZNAME:EST
DTSTART:20261101T060000
END:STANDARD
END:VTIMEZONE
BEGIN:VEVENT
DTSTART;TZID=America/New_York:20250204T090000
DTEND;TZID=America/New_York:20250204T123000
DTSTAMP:20260425T172412
CREATED:20241114T215924Z
LAST-MODIFIED:20241114T215924Z
UID:16944-1738659600-1738672200@vtruralwater.org
SUMMARY:Water Treatment: Coagulation
DESCRIPTION:Description\nSurface water may contain constituents such as pathogenic microorganisms\, natural organic matter\, and sometimes chemicals. Surface water may also have taste and odor issues. The coagulation process is an important part of removing these constituents. Enhanced coagulation in any surface water treatment facility should be a top priority. pH and alkalinity play an important role in the chemistry of coagulation as well as the flash mix. Enhanced coagulation optimizes pH and coagulant dosages to remove as much natural organic matter as possible. \nCredit\n3 TCH (Water) \nInstructor\nPaula Jackson (Vermont Rural Water Association)
URL:https://vtruralwater.org/event/coagulation-2-4/
LOCATION:Zoom\, Zoom
CATEGORIES:Water Credit,Zoom Training
ATTACH;FMTTYPE=image/png:https://vtruralwater.org/wp-content/uploads/2024/11/swatch4-yellow.png
END:VEVENT
BEGIN:VEVENT
DTSTART;TZID=America/New_York:20250211T090000
DTEND;TZID=America/New_York:20250211T123000
DTSTAMP:20260425T172412
CREATED:20241115T155931Z
LAST-MODIFIED:20250205T144337Z
UID:16950-1739264400-1739277000@vtruralwater.org
SUMMARY:Startup\, Optimization\, and Troubleshooting
DESCRIPTION:Description\nThis class will provide learners with training related to the installation and startup of individual equipment items used in water and wastewater treatment facilities. The class will also discuss planning and execution of water and wastewater treatment facility startups and facility optimizations. The course will conclude by providing learners with approaches and case studies for troubleshooting water and wastewater treatment equipment and processes. \nCredit\n3 TCH (Water & Wastewater) \nInstructors\nBarry F. Bickerstaff\, P.E. and T.J. Lynch (Hazen and Sawyer) \nProctor\nAllison Smith (Vermont Rural Water Association) \nCost\nMember: $24\nNon-member: $48
URL:https://vtruralwater.org/event/startup-2-11/
LOCATION:Zoom\, Zoom
CATEGORIES:Waitlist,Wastewater Credit,Water Credit
ATTACH;FMTTYPE=image/png:https://vtruralwater.org/wp-content/uploads/2024/11/swatch-blue.png
END:VEVENT
BEGIN:VEVENT
DTSTART;TZID=America/New_York:20250212T090000
DTEND;TZID=America/New_York:20250410T123000
DTSTAMP:20260425T172412
CREATED:20241115T191329Z
LAST-MODIFIED:20250305T170351Z
UID:16953-1739350800-1744288200@vtruralwater.org
SUMMARY:Class 4 Water Treatment Course
DESCRIPTION:Dates (please note some of these have been changed from what was originally scheduled!) \nWednesday\, February 12 – 9 am to 12:30 pm\nFriday\, February 14 – 9 am to 12:30 pm\nWednesday\, February 19 – 9 am to 12:30 pm\nFriday\, February 21 – 9 am to 12:30 pm\nWednesday\, March 12 – 9 am to 12:30 pm\nTuesday\, March 18 – 9 am to 12:30 pm\nFriday\, March 21 – 9 am to 12:30 pm\nTuesday\, March 25 – 9 am to 12:30 pm\nFriday\, March 28 – 8 am to 11:30 am and 12 pm to 3:30 pm\nTuesday\, April 1 – 9 am to 12:30 pm\nThursday\, April 3 – 9 am to 12:30 pm\nTuesday\, April 8 – 9 am to 12:30 pm\nThursday\, April 10 – 9 am to 12:30 pm\nMonday\, April 14 – 8 am to 11:30 am and 12 pm to 3:30 pm \nDescription\nThis multi-week course is designed for those training to become a Class 4 water treatment operator. All aspects of water operations are covered to prepare you to take the certification exams. You are expected to attend all class sessions. \nTextbooks \nThe following books are required for all students:\nWater Treatment Plant Operation\, Volume 1 (Office of Water Programs\, Sacramento State) – $100 – Purchase Here\nWater System Operations Water Treatment\, Grade 2 (American Water Works Association) – $86 – Purchase Here\n \nThis book is recommended:\nWater Operator Certification Exam Prep (American Water Works Association) – $106 – Purchase Here \nBooks can be purchased at https://vtruralwater.org/training/textbooks/. Please purchase books by February 5 to allow time for shipping! \nCredit\n48 TCH (Water) \nInstructor\nPaula Jackson (Vermont Rural Water Association) \nExam \nFind information about the Class 4 Certification Exam at https://dec.vermont.gov/water/drinking-water/public-water-system-operator-certification/public-water-system-operator-exams \nAdditional Classes \nThe following classes are recommended for all students:\nWater Operator Math Course: Day 1 on Thursday\, March 6 – Register Here\nWater Operator Math Course: Day 2 on Thursday\, March 20 – Register Here\nWater Operator Math Course: Day 3 on Thursday\, March 27 – Register Here
URL:https://vtruralwater.org/event/class-4-winter2025/
LOCATION:Zoom\, Zoom
CATEGORIES:Water Credit,Zoom Training
ATTACH;FMTTYPE=image/png:https://vtruralwater.org/wp-content/uploads/2024/11/swatch2-orange.png
END:VEVENT
BEGIN:VEVENT
DTSTART;TZID=America/New_York:20250213T090000
DTEND;TZID=America/New_York:20250213T123000
DTSTAMP:20260425T172412
CREATED:20241115T220736Z
LAST-MODIFIED:20250212T191510Z
UID:16962-1739437200-1739449800@vtruralwater.org
SUMMARY:Coagulation\, Jar Testing\, and Chemical Handling
DESCRIPTION:Description\nIn this class\, participants will receive an overview of coagulation\, including concepts like charge neutralization and flocculation. We will review the different types of coagulants and discuss how to choose which coagulant is best suited for your facility. The instructor will also cover chemical handling and storage and chemical delivery. The second half of the class will provide a demonstration of jar testing procedures. \nCredit\n3 TCH (Water & Wastewater) \nInstructor\nJon-Luc Goodrich (Holland Company) \nProctor\nAllison Smith (Vermont Rural Water Association) \nCANCELLED \nThis class has been cancelled due to the weather forecast. Stay tuned for the rescheduled date.
URL:https://vtruralwater.org/event/coagulation-2-13/
LOCATION:Brattleboro Fire Department\, 103 Elliot St\, Brattleboro\, VT\, 05301\, United States
CATEGORIES:Training,Wastewater Credit,Water Credit
ATTACH;FMTTYPE=image/png:https://vtruralwater.org/wp-content/uploads/2024/11/swatch-green.png
END:VEVENT
BEGIN:VEVENT
DTSTART;TZID=America/New_York:20250218T090000
DTEND;TZID=America/New_York:20250218T123000
DTSTAMP:20260425T172412
CREATED:20241118T154050Z
LAST-MODIFIED:20250217T194105Z
UID:16972-1739869200-1739881800@vtruralwater.org
SUMMARY:Water System Administration
DESCRIPTION:Description \nWater system administration can sometimes be very overwhelming. This class will cover the following topics to help equip you with the skills and information needed to successfully run a water system: \n\nAsset management\nPreventative maintenance\nMonthly operating reports\nMonitoring schedule\nMonitoring waivers\nSampling\nSanitary surveys\nSource protection plans\nOperation and maintenance manuals\nMaintenance records\nPublic notification\nBoil water orders\nOperator certification\nConsumer Confidence Reports\nDrinking Water and Groundwater Protection Division’s website\n\nCredit\n3 TCH (Water) \nInstructor\nPaula Jackson (Vermont Rural Water Association) \nCost\nMember: $24\nNon-member: $48
URL:https://vtruralwater.org/event/administration-2-18/
LOCATION:Zoom\, Zoom
CATEGORIES:Water Credit,Zoom Training
ATTACH;FMTTYPE=image/png:https://vtruralwater.org/wp-content/uploads/2024/11/swatch4-yellow.png
END:VEVENT
BEGIN:VEVENT
DTSTART;TZID=America/New_York:20250225T090000
DTEND;TZID=America/New_York:20250225T123000
DTSTAMP:20260425T172412
CREATED:20241118T160733Z
LAST-MODIFIED:20250218T184400Z
UID:16975-1740474000-1740486600@vtruralwater.org
SUMMARY:TNC Operations
DESCRIPTION:Description\nThis course is designed for Transient Non-Community (TNC) Water System Operators. No matter what your experience as a water system operator\, this course will help you better manage your system. The course will review the following topics: disinfecting your water system (UV and chlorine)\, sampling procedure and sampling schedules\, sanitary survey review\, common water system deficiencies\, rules and regulations (current and upcoming rules)\, discussion of seasonal operations\, basic site investigations. \nFor Class 1B operators\, this course will fulfill the requirement to obtain 3 continuing education credits prior to renewal of your certification. \nCredit\n3 TCH (Water) \nInstructor\nMeredith Maskell (VT Drinking Water and Groundwater Protection Division) \nProctor\nTim Russo (Vermont Rural Water Association)
URL:https://vtruralwater.org/event/tnc-operations-2-25/
LOCATION:Zoom\, Zoom
CATEGORIES:Water Credit,Zoom Training
ATTACH;FMTTYPE=image/png:https://vtruralwater.org/wp-content/uploads/2024/11/swatch-blue.png
END:VEVENT
BEGIN:VEVENT
DTSTART;TZID=America/New_York:20250225T083000
DTEND;TZID=America/New_York:20250225T120000
DTSTAMP:20260425T172412
CREATED:20241118T170059Z
LAST-MODIFIED:20250219T145831Z
UID:16977-1740472200-1740484800@vtruralwater.org
SUMMARY:Advanced WW Series: BOD\, ORP\, and Sludge Production
DESCRIPTION:Description\nThis class examines substrate (BOD)\, degradation (metabolism) of substrate\, the form of degradation of substrate that is occurring using oxidation-reduction potential (ORP)\, and the growth of bacterial cells (sludge production). The class discusses the quantity (amount) and quality (type) of substrate that enter the treatment process and their fate as either degradation to non-polluting and less polluting wastes\, transformation to new bacterial cells\, removal of colloids and particulate material\, and pass-through as effluent BOD. The five basis bacterial pathways to BOD degradation and their consequences are presented. These pathways include the use of free molecular oxygen\, nitrate\, sulfate\, organic molecules (mixed acid fermentation)\, and methane production. The occurrence of any pathway in the degradation of substrate and its consequences to the treatment process can be detected by specific analytical measurements including the use of ORP and therefore used for process control and troubleshooting purposes. A significant consequence of the degradation of BOD is bacterial growth (sludge production) and operation measures to reduce sludge production are provided. \nCredit\n3 TCH (Wastewater) \nInstructor\nMichael Gerardi (Michael Gerardi & Associates\, LLC) \nProctor\nElijah Lemieux (Vermont Rural Water Association) \nAdvanced Wastewater Treatment Series \nThis class is part of the Advanced Wastewater Treatment Series. Classes in this series are intended for experienced wastewater operators. It is recommended that you have attended the Basic Wastewater Course\, passed a wastewater certification exam\, and/or worked a number of years at a wastewater treatment facility before taking these advanced classes. \nThese classes are designed for operators who are looking to enhance their understanding of wastewater treatment; preparing for a Grade 3\, 4\, or 5 wastewater exam; or seeking a management position at a wastewater treatment facility. There is no formal enrollment in the Advanced Wastewater Treatment Series—just sign up for each class you want to take. These classes will have “Advanced WW Series” in the title. Find more information here.
URL:https://vtruralwater.org/event/bod-orp-2-25/
LOCATION:Zoom\, Zoom
CATEGORIES:Wastewater Credit,Zoom Training
ATTACH;FMTTYPE=image/png:https://vtruralwater.org/wp-content/uploads/2024/11/swatch2-orange.png
END:VEVENT
END:VCALENDAR