BEGIN:VCALENDAR
VERSION:2.0
PRODID:-//Vermont Rural Water Association - ECPv6.15.20//NONSGML v1.0//EN
CALSCALE:GREGORIAN
METHOD:PUBLISH
X-ORIGINAL-URL:https://vtruralwater.org
X-WR-CALDESC:Events for Vermont Rural Water Association
REFRESH-INTERVAL;VALUE=DURATION:PT1H
X-Robots-Tag:noindex
X-PUBLISHED-TTL:PT1H
BEGIN:VTIMEZONE
TZID:America/New_York
BEGIN:DAYLIGHT
TZOFFSETFROM:-0500
TZOFFSETTO:-0400
TZNAME:EDT
DTSTART:20240310T070000
END:DAYLIGHT
BEGIN:STANDARD
TZOFFSETFROM:-0400
TZOFFSETTO:-0500
TZNAME:EST
DTSTART:20241103T060000
END:STANDARD
BEGIN:DAYLIGHT
TZOFFSETFROM:-0500
TZOFFSETTO:-0400
TZNAME:EDT
DTSTART:20250309T070000
END:DAYLIGHT
BEGIN:STANDARD
TZOFFSETFROM:-0400
TZOFFSETTO:-0500
TZNAME:EST
DTSTART:20251102T060000
END:STANDARD
BEGIN:DAYLIGHT
TZOFFSETFROM:-0500
TZOFFSETTO:-0400
TZNAME:EDT
DTSTART:20260308T070000
END:DAYLIGHT
BEGIN:STANDARD
TZOFFSETFROM:-0400
TZOFFSETTO:-0500
TZNAME:EST
DTSTART:20261101T060000
END:STANDARD
END:VTIMEZONE
BEGIN:VEVENT
DTSTART;TZID=America/New_York:20250212T090000
DTEND;TZID=America/New_York:20250410T123000
DTSTAMP:20260421T055034
CREATED:20241115T191329Z
LAST-MODIFIED:20250305T170351Z
UID:16953-1739350800-1744288200@vtruralwater.org
SUMMARY:Class 4 Water Treatment Course
DESCRIPTION:Dates (please note some of these have been changed from what was originally scheduled!) \nWednesday\, February 12 – 9 am to 12:30 pm\nFriday\, February 14 – 9 am to 12:30 pm\nWednesday\, February 19 – 9 am to 12:30 pm\nFriday\, February 21 – 9 am to 12:30 pm\nWednesday\, March 12 – 9 am to 12:30 pm\nTuesday\, March 18 – 9 am to 12:30 pm\nFriday\, March 21 – 9 am to 12:30 pm\nTuesday\, March 25 – 9 am to 12:30 pm\nFriday\, March 28 – 8 am to 11:30 am and 12 pm to 3:30 pm\nTuesday\, April 1 – 9 am to 12:30 pm\nThursday\, April 3 – 9 am to 12:30 pm\nTuesday\, April 8 – 9 am to 12:30 pm\nThursday\, April 10 – 9 am to 12:30 pm\nMonday\, April 14 – 8 am to 11:30 am and 12 pm to 3:30 pm \nDescription\nThis multi-week course is designed for those training to become a Class 4 water treatment operator. All aspects of water operations are covered to prepare you to take the certification exams. You are expected to attend all class sessions. \nTextbooks \nThe following books are required for all students:\nWater Treatment Plant Operation\, Volume 1 (Office of Water Programs\, Sacramento State) – $100 – Purchase Here\nWater System Operations Water Treatment\, Grade 2 (American Water Works Association) – $86 – Purchase Here\n \nThis book is recommended:\nWater Operator Certification Exam Prep (American Water Works Association) – $106 – Purchase Here \nBooks can be purchased at https://vtruralwater.org/training/textbooks/. Please purchase books by February 5 to allow time for shipping! \nCredit\n48 TCH (Water) \nInstructor\nPaula Jackson (Vermont Rural Water Association) \nExam \nFind information about the Class 4 Certification Exam at https://dec.vermont.gov/water/drinking-water/public-water-system-operator-certification/public-water-system-operator-exams \nAdditional Classes \nThe following classes are recommended for all students:\nWater Operator Math Course: Day 1 on Thursday\, March 6 – Register Here\nWater Operator Math Course: Day 2 on Thursday\, March 20 – Register Here\nWater Operator Math Course: Day 3 on Thursday\, March 27 – Register Here
URL:https://vtruralwater.org/event/class-4-winter2025/
LOCATION:Zoom\, Zoom
CATEGORIES:Water Credit,Zoom Training
ATTACH;FMTTYPE=image/png:https://vtruralwater.org/wp-content/uploads/2024/11/swatch2-orange.png
END:VEVENT
END:VCALENDAR