BEGIN:VCALENDAR
VERSION:2.0
PRODID:-//Vermont Rural Water Association - ECPv6.15.20//NONSGML v1.0//EN
CALSCALE:GREGORIAN
METHOD:PUBLISH
X-ORIGINAL-URL:https://vtruralwater.org
X-WR-CALDESC:Events for Vermont Rural Water Association
REFRESH-INTERVAL;VALUE=DURATION:PT1H
X-Robots-Tag:noindex
X-PUBLISHED-TTL:PT1H
BEGIN:VTIMEZONE
TZID:America/New_York
BEGIN:DAYLIGHT
TZOFFSETFROM:-0500
TZOFFSETTO:-0400
TZNAME:EDT
DTSTART:20240310T070000
END:DAYLIGHT
BEGIN:STANDARD
TZOFFSETFROM:-0400
TZOFFSETTO:-0500
TZNAME:EST
DTSTART:20241103T060000
END:STANDARD
BEGIN:DAYLIGHT
TZOFFSETFROM:-0500
TZOFFSETTO:-0400
TZNAME:EDT
DTSTART:20250309T070000
END:DAYLIGHT
BEGIN:STANDARD
TZOFFSETFROM:-0400
TZOFFSETTO:-0500
TZNAME:EST
DTSTART:20251102T060000
END:STANDARD
BEGIN:DAYLIGHT
TZOFFSETFROM:-0500
TZOFFSETTO:-0400
TZNAME:EDT
DTSTART:20260308T070000
END:DAYLIGHT
BEGIN:STANDARD
TZOFFSETFROM:-0400
TZOFFSETTO:-0500
TZNAME:EST
DTSTART:20261101T060000
END:STANDARD
END:VTIMEZONE
BEGIN:VEVENT
DTSTART;TZID=America/New_York:20250122T090000
DTEND;TZID=America/New_York:20250122T153000
DTSTAMP:20260421T081943
CREATED:20241115T153946Z
LAST-MODIFIED:20250113T150759Z
UID:16947-1737536400-1737559800@vtruralwater.org
SUMMARY:Disaster Response Training
DESCRIPTION:Description\nThis training will guide communities in preparing and responding to emergencies\, with a focus on safety and resilience for water and wastewater systems. Participants will learn essential skills and information to support their communities in the face of disasters. \nTopics will include: \n\nSafety – Learn situational awareness and operator and facility safety fundamentals\, including potential hazards such as electrical issues\, toxic gases\, and structural damage\, using recent flood events as real-world examples.\nMutual Aid Networks – Overview of the Vermont WARN mutual aid network and how to effectively partner with local and state emergency management teams.\nEmergency Planning and Hazard Mitigation – Strategies for creating or strengthening emergency response plans at both the facility and community levels\, with insights from recent disaster responses.\nStandard Operating Procedures (SOPs) – Key SOPs for pre- and post-disaster preparedness\, including generator maintenance and communication protocols to support smooth operations during critical times.\nFunding – USDA funding opportunities available for enhancing system capacity and resilience\, especially for mitigating risks from disasters declared in 2022.\n\nBy the end of the session\, participants will be equipped with practical tools and strategies to enhance the safety and resiliency of their facilities and be better prepared for efficient emergency response and recovery. \nLunch will be provided! \nCredit\n6 TCH (Water & Wastewater) \nInstructors\nLiz Royer (Vermont Rural Water Association)\nDan Whipple (Integrity Safety Consulting Services\, LLC)\nSam Politi (Brook Field Service)\nBrandi Thompson (USDA) \nAdditional Sessions \nThis class will be offered again on the following dates:\nJuly 15\, 2025 at Vermont State University – Randolph\nDecember 11\, 2025 at Williston Fire Department
URL:https://vtruralwater.org/event/disaster-response-1-22/
LOCATION:Association of General Contractors\, 1 Graves St\, Montpelier\, VT\, United States
CATEGORIES:Waitlist,Wastewater Credit,Water Credit
ATTACH;FMTTYPE=image/png:https://vtruralwater.org/wp-content/uploads/2024/11/swatch-blue.png
END:VEVENT
END:VCALENDAR