BEGIN:VCALENDAR
VERSION:2.0
PRODID:-//Vermont Rural Water Association - ECPv6.15.20//NONSGML v1.0//EN
CALSCALE:GREGORIAN
METHOD:PUBLISH
X-ORIGINAL-URL:https://vtruralwater.org
X-WR-CALDESC:Events for Vermont Rural Water Association
REFRESH-INTERVAL;VALUE=DURATION:PT1H
X-Robots-Tag:noindex
X-PUBLISHED-TTL:PT1H
BEGIN:VTIMEZONE
TZID:America/New_York
BEGIN:DAYLIGHT
TZOFFSETFROM:-0500
TZOFFSETTO:-0400
TZNAME:EDT
DTSTART:20240310T070000
END:DAYLIGHT
BEGIN:STANDARD
TZOFFSETFROM:-0400
TZOFFSETTO:-0500
TZNAME:EST
DTSTART:20241103T060000
END:STANDARD
BEGIN:DAYLIGHT
TZOFFSETFROM:-0500
TZOFFSETTO:-0400
TZNAME:EDT
DTSTART:20250309T070000
END:DAYLIGHT
BEGIN:STANDARD
TZOFFSETFROM:-0400
TZOFFSETTO:-0500
TZNAME:EST
DTSTART:20251102T060000
END:STANDARD
BEGIN:DAYLIGHT
TZOFFSETFROM:-0500
TZOFFSETTO:-0400
TZNAME:EDT
DTSTART:20260308T070000
END:DAYLIGHT
BEGIN:STANDARD
TZOFFSETFROM:-0400
TZOFFSETTO:-0500
TZNAME:EST
DTSTART:20261101T060000
END:STANDARD
END:VTIMEZONE
BEGIN:VEVENT
DTSTART;TZID=America/New_York:20250116T090000
DTEND;TZID=America/New_York:20250116T123000
DTSTAMP:20260421T081915
CREATED:20241114T170108Z
LAST-MODIFIED:20241115T145733Z
UID:16926-1737018000-1737030600@vtruralwater.org
SUMMARY:TNC Operations
DESCRIPTION:Description\nThis course is designed for Transient Non-Community (TNC) Water System Operators. No matter what your experience as a water system operator\, this course will help you better manage your system. The course will review the following topics: disinfecting your water system (UV and chlorine)\, sampling procedure and sampling schedules\, sanitary survey review\, common water system deficiencies\, rules and regulations (current and upcoming rules)\, discussion of seasonal operations\, basic site investigations. \nFor Class 1B operators\, this course will fulfill the requirement to obtain 3 continuing education credits prior to renewal of your certification. \nCredit\n3 TCH (Water) \nInstructor\nMeredith Maskell (VT Drinking Water and Groundwater Protection Division) \nProctor\nTim Russo (Vermont Rural Water Association)
URL:https://vtruralwater.org/event/tnc-operations-1-16/
LOCATION:Zoom\, Zoom
CATEGORIES:Water Credit,Zoom Training
ATTACH;FMTTYPE=image/png:https://vtruralwater.org/wp-content/uploads/2024/11/swatch2-orange.png
END:VEVENT
BEGIN:VEVENT
DTSTART;TZID=America/New_York:20250116T090000
DTEND;TZID=America/New_York:20250116T123000
DTSTAMP:20260421T081915
CREATED:20241114T221045Z
LAST-MODIFIED:20241115T145653Z
UID:16922-1737018000-1737030600@vtruralwater.org
SUMMARY:Corrosion Control: Alternatives to Phosphorus-Based Treatments
DESCRIPTION:Description\nThis class addresses the complex challenges of managing corrosion\, scale\, and bacterial growth in drinking water systems. With increasing regulatory demands\, utilities often face trade-offs between water quality\, chemical usage\, and compliance. We will explore innovative approaches to corrosion control that reduce reliance on phosphorus-based treatments\, helping utilities meet evolving standards without compromising water quality or increasing phosphorus loads in wastewater influent. \nParticipants will learn about a novel equilibrium-blended phosphate solution that maintains water chemistry balance\, optimizes corrosion control\, and minimizes the formation of disinfection byproducts\, all while lowering chemical costs. Through a live demonstration\, we’ll examine corrosion processes\, showcase how distribution system conditions affect treatment decisions\, and discuss integrated strategies for improving chlorine stability\, reducing lead and copper release\, and meeting stringent regulatory limits. This session is ideal for water operators and professionals looking to enhance water quality management with sustainable\, effective practices. \nCredit\n3 TCH (Water) \nInstructor\nKevin Sullo (AquaSmart) \nProctor\nAllison Smith (Vermont Rural Water Association)
URL:https://vtruralwater.org/event/corrosion-control-1-16/
LOCATION:Brattleboro Fire Department\, 103 Elliot St\, Brattleboro\, VT\, 05301\, United States
CATEGORIES:Training,Water Credit
ATTACH;FMTTYPE=image/png:https://vtruralwater.org/wp-content/uploads/2024/11/swatch-green.png
END:VEVENT
END:VCALENDAR