BEGIN:VCALENDAR
VERSION:2.0
PRODID:-//Vermont Rural Water Association - ECPv6.15.20//NONSGML v1.0//EN
CALSCALE:GREGORIAN
METHOD:PUBLISH
X-ORIGINAL-URL:https://vtruralwater.org
X-WR-CALDESC:Events for Vermont Rural Water Association
REFRESH-INTERVAL;VALUE=DURATION:PT1H
X-Robots-Tag:noindex
X-PUBLISHED-TTL:PT1H
BEGIN:VTIMEZONE
TZID:America/New_York
BEGIN:DAYLIGHT
TZOFFSETFROM:-0500
TZOFFSETTO:-0400
TZNAME:EDT
DTSTART:20240310T070000
END:DAYLIGHT
BEGIN:STANDARD
TZOFFSETFROM:-0400
TZOFFSETTO:-0500
TZNAME:EST
DTSTART:20241103T060000
END:STANDARD
BEGIN:DAYLIGHT
TZOFFSETFROM:-0500
TZOFFSETTO:-0400
TZNAME:EDT
DTSTART:20250309T070000
END:DAYLIGHT
BEGIN:STANDARD
TZOFFSETFROM:-0400
TZOFFSETTO:-0500
TZNAME:EST
DTSTART:20251102T060000
END:STANDARD
BEGIN:DAYLIGHT
TZOFFSETFROM:-0500
TZOFFSETTO:-0400
TZNAME:EDT
DTSTART:20260308T070000
END:DAYLIGHT
BEGIN:STANDARD
TZOFFSETFROM:-0400
TZOFFSETTO:-0500
TZNAME:EST
DTSTART:20261101T060000
END:STANDARD
END:VTIMEZONE
BEGIN:VEVENT
DTSTART;TZID=America/New_York:20250114T090000
DTEND;TZID=America/New_York:20250114T123000
DTSTAMP:20260421T081854
CREATED:20241114T160611Z
LAST-MODIFIED:20241219T180742Z
UID:16919-1736845200-1736857800@vtruralwater.org
SUMMARY:Safety: Water and Wastewater Facility Flooding
DESCRIPTION:Description\nWater and wastewater facilities face an increasing threat of flood events in Vermont. Flooding can cause major damage to facilities and assets and pose a safety hazard to all involved. \nKnowing the safety hazards that may be present during flooding events and having a solid emergency response plan are key to reducing the risk of injury and fatalities. This class will map out preparations that water and wastewater facility operators can take to be better prepared for future flooding events. \nWebinar \nThe Zoom link will be emailed to you the day before class. Please join the Zoom meeting 5-10 minutes before class starts. Click here for more information about Zoom trainings.\nCredit\n3 TCH (Water & Wastewater) \nInstructor\nPaula Jackson (Vermont Rural Water Association) \nAdditional Sessions\nThis class will also be offered on January 7 in Essex\, VT. Register here.
URL:https://vtruralwater.org/event/flood-saftey-1-14/
LOCATION:Zoom\, Zoom
CATEGORIES:Waitlist,Wastewater Credit,Water Credit
ATTACH;FMTTYPE=image/png:https://vtruralwater.org/wp-content/uploads/2024/11/swatch-blue.png
END:VEVENT
END:VCALENDAR