BEGIN:VCALENDAR
VERSION:2.0
PRODID:-//Vermont Rural Water Association - ECPv6.15.20//NONSGML v1.0//EN
CALSCALE:GREGORIAN
METHOD:PUBLISH
X-ORIGINAL-URL:https://vtruralwater.org
X-WR-CALDESC:Events for Vermont Rural Water Association
REFRESH-INTERVAL;VALUE=DURATION:PT1H
X-Robots-Tag:noindex
X-PUBLISHED-TTL:PT1H
BEGIN:VTIMEZONE
TZID:America/New_York
BEGIN:DAYLIGHT
TZOFFSETFROM:-0500
TZOFFSETTO:-0400
TZNAME:EDT
DTSTART:20230312T070000
END:DAYLIGHT
BEGIN:STANDARD
TZOFFSETFROM:-0400
TZOFFSETTO:-0500
TZNAME:EST
DTSTART:20231105T060000
END:STANDARD
BEGIN:DAYLIGHT
TZOFFSETFROM:-0500
TZOFFSETTO:-0400
TZNAME:EDT
DTSTART:20240310T070000
END:DAYLIGHT
BEGIN:STANDARD
TZOFFSETFROM:-0400
TZOFFSETTO:-0500
TZNAME:EST
DTSTART:20241103T060000
END:STANDARD
BEGIN:DAYLIGHT
TZOFFSETFROM:-0500
TZOFFSETTO:-0400
TZNAME:EDT
DTSTART:20250309T070000
END:DAYLIGHT
BEGIN:STANDARD
TZOFFSETFROM:-0400
TZOFFSETTO:-0500
TZNAME:EST
DTSTART:20251102T060000
END:STANDARD
END:VTIMEZONE
BEGIN:VEVENT
DTSTART;TZID=America/New_York:20241210T090000
DTEND;TZID=America/New_York:20241210T133000
DTSTAMP:20260421T100220
CREATED:20240816T182631Z
LAST-MODIFIED:20241205T144517Z
UID:16252-1733821200-1733837400@vtruralwater.org
SUMMARY:Traffic Control Certification
DESCRIPTION:Description\nThis course will provide flaggers with the basic knowledge\, information\, and awareness to perform their jobs safely. After the lesson\, attendees will be given a written certification exam. Those who successfully complete the course and pass the exam with a score of 80% or higher will receive a certificate to perform as a qualified flagger. \nCredit\n4 TCH (Water & Wastewater) \nInstructor\nPaul Sestito (Vermont Rural Water Association) \nProctor\nAllison Smith (Vermont Rural Water Association)
URL:https://vtruralwater.org/event/traffic-control-12-10/
LOCATION:National Life Complex\, Dewey Building\, 1 National Life Drive\, Montpelier\, VT\, 05602\, United States
CATEGORIES:Waitlist,Wastewater Credit,Water Credit
ATTACH;FMTTYPE=image/png:https://vtruralwater.org/wp-content/uploads/2023/09/color-swatches-01.png
END:VEVENT
END:VCALENDAR