BEGIN:VCALENDAR
VERSION:2.0
PRODID:-//Vermont Rural Water Association - ECPv6.15.20//NONSGML v1.0//EN
CALSCALE:GREGORIAN
METHOD:PUBLISH
X-ORIGINAL-URL:https://vtruralwater.org
X-WR-CALDESC:Events for Vermont Rural Water Association
REFRESH-INTERVAL;VALUE=DURATION:PT1H
X-Robots-Tag:noindex
X-PUBLISHED-TTL:PT1H
BEGIN:VTIMEZONE
TZID:America/New_York
BEGIN:DAYLIGHT
TZOFFSETFROM:-0500
TZOFFSETTO:-0400
TZNAME:EDT
DTSTART:20230312T070000
END:DAYLIGHT
BEGIN:STANDARD
TZOFFSETFROM:-0400
TZOFFSETTO:-0500
TZNAME:EST
DTSTART:20231105T060000
END:STANDARD
BEGIN:DAYLIGHT
TZOFFSETFROM:-0500
TZOFFSETTO:-0400
TZNAME:EDT
DTSTART:20240310T070000
END:DAYLIGHT
BEGIN:STANDARD
TZOFFSETFROM:-0400
TZOFFSETTO:-0500
TZNAME:EST
DTSTART:20241103T060000
END:STANDARD
BEGIN:DAYLIGHT
TZOFFSETFROM:-0500
TZOFFSETTO:-0400
TZNAME:EDT
DTSTART:20250309T070000
END:DAYLIGHT
BEGIN:STANDARD
TZOFFSETFROM:-0400
TZOFFSETTO:-0500
TZNAME:EST
DTSTART:20251102T060000
END:STANDARD
END:VTIMEZONE
BEGIN:VEVENT
DTSTART;TZID=America/New_York:20240904T083000
DTEND;TZID=America/New_York:20241024T153000
DTSTAMP:20260421T142405
CREATED:20240524T174032Z
LAST-MODIFIED:20240827T132703Z
UID:15501-1725438600-1729783800@vtruralwater.org
SUMMARY:Class 4 Water Treatment Course
DESCRIPTION:Dates \nWednesday\, September 4\nTuesday\, September 17 – on Zoom\nFriday\, October 4\nMonday\, October 7\nTuesday\, October 8\nThursday\, October 17\nTuesday\, October 22\nThursday\, October 24\n8:30 am to 3:30 pm each day \nDescription\nThis multi-week course is designed for those training to become a Class 4 water treatment operator. All aspects of water operations are covered to prepare you to take the certification exams. You are expected to attend all class sessions. \nTextbooks \nThe following books are required for all students:\nWater Treatment Plant Operation\, Volume 1 (Office of Water Programs\, Sacramento State) – $100\nWater System Operations Water Treatment\, Grade 2 (American Water Works Association) – $86\n \nThis book is recommended:\nWater Operator Certification Exam Prep (American Water Works Association) – $106 \nBooks can be purchased along with your registration and will be distributed on the first day of class. \nCredit\n48 TCH (Water) \nInstructor\nPaula Jackson (Vermont Rural Water Association) \nExam \nFind information about the Class 4 Certification Exam at https://dec.vermont.gov/water/drinking-water/public-water-system-operator-certification/public-water-system-operator-exams \nAdditional Classes \nThe following classes are recommended for all students:\nBasic Math for Water and Wastewater Operators: Friday\, October 11 in Essex or Friday\, October 18 in Rutland\nClass 4 Exam Preparation: Tuesday\, October 29 in White River Junction
URL:https://vtruralwater.org/event/class-4-fall-2024/
LOCATION:Hartford Area Career and Technical Center\, 1 Gifford Rd\, White River Junction\, VT\, United States
CATEGORIES:Training,Water Credit
ATTACH;FMTTYPE=image/png:https://vtruralwater.org/wp-content/uploads/2023/09/color-swatches-02.png
END:VEVENT
BEGIN:VEVENT
DTSTART;TZID=America/New_York:20240905T083000
DTEND;TZID=America/New_York:20241023T153000
DTSTAMP:20260421T142405
CREATED:20240524T180618Z
LAST-MODIFIED:20240628T182905Z
UID:15508-1725525000-1729697400@vtruralwater.org
SUMMARY:Water Distribution Course
DESCRIPTION:Dates \nThursday\, September 5\nTuesday\, September 17 – on Zoom\nThursday\, September 19\nThursday\, October 10\nWednesday\, October 16\nWednesday\, October 23\n8:30 am to 3:30 pm each day \nDescription\nThis multi-week course is designed for those preparing to take the Distribution (Class D) Certification Exam. Topics will include all aspects of distribution systems\, as well as hydraulics\, water chemistry\, water mathematics\, and sampling procedures. You are expected to attend all class sessions. \nTextbooks \nThe following books are required for all students:\nWater Distribution System Operation and Maintenance (Office of Water Programs\, Sacramento State) – $100\nWater System Operations Water Distribution\, Grades 1 & 2 (American Water Works Association) – $96 \nThis book is recommended:\nWater Operator Certification Exam Prep (American Water Works Association) – $106 \nBooks can be purchased along with your registration and will be distributed on the first day of class. \nCredit\n36 TCH (Water) \nInstructor\nPaula Jackson (Vermont Rural Water Association) \nExam \nFind information about the Distribution Certification Exam at https://dec.vermont.gov/water/drinking-water/public-water-system-operator-certification/public-water-system-operator-exams \nAdditional Classes \nThe following classes are recommended for all students:\nBasic Math for Water and Wastewater Operators: Friday\, October 11 in Essex or Friday\, October 18 in Rutland\nDistribution Exam Preparation: Wednesday\, October 30 in Essex
URL:https://vtruralwater.org/event/distribution-fall-2024/
LOCATION:Vermont Rural Water Association\, 20 Susie Wilson Rd\, Essex Junction\, VT\, 05452\, United States
CATEGORIES:Training,Water Credit
ATTACH;FMTTYPE=image/png:https://vtruralwater.org/wp-content/uploads/2023/09/color-swatches-03.png
END:VEVENT
BEGIN:VEVENT
DTSTART;TZID=America/New_York:20240917T083000
DTEND;TZID=America/New_York:20241022T153000
DTSTAMP:20260421T142405
CREATED:20240524T182145Z
LAST-MODIFIED:20240828T190229Z
UID:15514-1726561800-1729611000@vtruralwater.org
SUMMARY:Class 3 Water Treatment Course
DESCRIPTION:Dates \nTuesday\, September 17 – on Zoom\nFriday\, October 4\nMonday\, October 7\nTuesday\, October 8\nThursday\, October 17\nTuesday\, October 22\n8:30 am to 3:30 pm each day \nDescription\nThis multi-week course is designed for those training to become a Class 3 water treatment operator. All aspects of water operations are covered to prepare you to take the certification exam. You are expected to attend all class sessions. \nTextbooks \nThe following books are required for all students:\nSmall Water System Operation and Maintenance (Office of Water Programs\, Sacramento State) – $100\nWater System Operations Water Treatment\, Grade 2 (American Water Works Association) – $86\n \nThis book is recommended:\nWater Operator Certification Exam Prep (American Water Works Association) – $106 \nBooks can be purchased along with your registration and will be distributed on the first day of class. \nCredit\n36 TCH (Water) \nInstructor\nPaula Jackson (Vermont Rural Water Association) \nExam \nFind information about the Class 3 Certification Exam at https://dec.vermont.gov/water/drinking-water/public-water-system-operator-certification/public-water-system-operator-exams \nAdditional Classes \nThe following classes are recommended for all students:\nBasic Math for Water and Wastewater Operators: Friday\, October 11 in Essex or Friday\, October 18 in Rutland\nClass 3 Exam Preparation: Monday\, October 28 in White River Junction
URL:https://vtruralwater.org/event/class-3-fall-2024/
LOCATION:Hartford Area Career and Technical Center\, 1 Gifford Rd\, White River Junction\, VT\, United States
CATEGORIES:Training,Water Credit
ATTACH;FMTTYPE=image/png:https://vtruralwater.org/wp-content/uploads/2023/09/color-swatches-01.png
END:VEVENT
BEGIN:VEVENT
DTSTART;TZID=America/New_York:20241008T080000
DTEND;TZID=America/New_York:20241008T153000
DTSTAMP:20260421T142405
CREATED:20240816T151621Z
LAST-MODIFIED:20240816T153647Z
UID:16219-1728374400-1728401400@vtruralwater.org
SUMMARY:Leak Detection and Pipe Location\, Repair\, and Maintenance
DESCRIPTION:Description\nThe first part of this class\, taught by Eric Denslow of Eastcom Associates\, will cover the basic theory of pipe locating for both water and sewer utilities including ground penetrating radar. It will help operators troubleshoot difficult locates\, tools for locating plastic pipes\, and when to use specific frequencies. In the leak detection portion of the class\, participants will learn about the fundamentals of how leak detection surveys are performed and pinpointing water leaks in the system. \nThe afternoon portion will be taught by Peter Carpenter of Hymax and will review the latest fittings and services created for the water and wastewater industries. This includes but is not limited to: unique specialized large diameter (above 48”) fittings\, dismantling joints\, expansion joints\, restrained fittings\, flanged coupling adapters\, transition couplings\, and other fittings. Corrosion resistance has become a priority for components associated with any infrastructure project\, so we will focus on this trend in pipe repair. Topics will also include application selection guides\, restraint options and pipe repair statistics in the USA. This portion of the class will be formatted as an interactive educational experience. \nCredit\n6 TCH (Water & Wastewater) \nInstructors\nEric Denslow (Eastcom Associates)\nPeter Carpenter (Hymax) \nProctor\nAllison Smith (Vermont Rural Water Association) \nThis class will also be offered on October 9 in Essex\, VT. See https://vtruralwater.org/event/pipes-10-9/
URL:https://vtruralwater.org/event/pipes-10-8/
LOCATION:Manchester Town Hall\, 40 Jeff Williams Way\, Manchester Center\, VT\, 05255\, United States
CATEGORIES:Training,Wastewater Credit,Water Credit
ATTACH;FMTTYPE=image/png:https://vtruralwater.org/wp-content/uploads/2023/09/color-swatches-04.png
END:VEVENT
END:VCALENDAR