BEGIN:VCALENDAR
VERSION:2.0
PRODID:-//Vermont Rural Water Association - ECPv6.15.20//NONSGML v1.0//EN
CALSCALE:GREGORIAN
METHOD:PUBLISH
X-WR-CALNAME:Vermont Rural Water Association
X-ORIGINAL-URL:https://vtruralwater.org
X-WR-CALDESC:Events for Vermont Rural Water Association
REFRESH-INTERVAL;VALUE=DURATION:PT1H
X-Robots-Tag:noindex
X-PUBLISHED-TTL:PT1H
BEGIN:VTIMEZONE
TZID:America/New_York
BEGIN:DAYLIGHT
TZOFFSETFROM:-0500
TZOFFSETTO:-0400
TZNAME:EDT
DTSTART:20230312T070000
END:DAYLIGHT
BEGIN:STANDARD
TZOFFSETFROM:-0400
TZOFFSETTO:-0500
TZNAME:EST
DTSTART:20231105T060000
END:STANDARD
BEGIN:DAYLIGHT
TZOFFSETFROM:-0500
TZOFFSETTO:-0400
TZNAME:EDT
DTSTART:20240310T070000
END:DAYLIGHT
BEGIN:STANDARD
TZOFFSETFROM:-0400
TZOFFSETTO:-0500
TZNAME:EST
DTSTART:20241103T060000
END:STANDARD
BEGIN:DAYLIGHT
TZOFFSETFROM:-0500
TZOFFSETTO:-0400
TZNAME:EDT
DTSTART:20250309T070000
END:DAYLIGHT
BEGIN:STANDARD
TZOFFSETFROM:-0400
TZOFFSETTO:-0500
TZNAME:EST
DTSTART:20251102T060000
END:STANDARD
END:VTIMEZONE
BEGIN:VEVENT
DTSTART;TZID=America/New_York:20240814T090000
DTEND;TZID=America/New_York:20240814T123000
DTSTAMP:20260421T175225
CREATED:20240524T153039Z
LAST-MODIFIED:20240628T183313Z
UID:15499-1723626000-1723638600@vtruralwater.org
SUMMARY:Cybersecurity and Internet Safety
DESCRIPTION:Description\nCybersecurity means protecting computers and computer-based technology from attacks and hackers. This has become a concern for water and wastewater systems in recent years\, but it can be hard for operators to understand the technical aspects of cybersecurity. This class will cover cybersecurity considerations for water and wastewater systems in an easy-to-understand format. We will begin by talking about the most important things that everyone can do to keep their personal information and computers safe\, like using strong passwords and learning to avoid dangerous emails. Next\, we will talk about ways to protect a water/wastewater system’s computers (as well as SCADA) and what to do in the event of an attack. We will look at recent case studies of water and wastewater systems that have experienced cyber attacks. Finally\, we will look at some resources that are available for free to help water and wastewater systems improve their cybersecurity. \nCredit\n3 TCH (Water & Wastewater) \nInstructor\nKatherine Boyk (Vermont Rural Water Association) \nProctor\nLiz Royer (Vermont Rural Water Association)
URL:https://vtruralwater.org/event/cybersecurity-8-14/
LOCATION:Zoom\, Zoom
CATEGORIES:Wastewater Credit,Water Credit,Zoom Training
ATTACH;FMTTYPE=image/png:https://vtruralwater.org/wp-content/uploads/2023/09/color-swatches-04.png
END:VEVENT
END:VCALENDAR