BEGIN:VCALENDAR
VERSION:2.0
PRODID:-//Vermont Rural Water Association - ECPv6.15.20//NONSGML v1.0//EN
CALSCALE:GREGORIAN
METHOD:PUBLISH
X-ORIGINAL-URL:https://vtruralwater.org
X-WR-CALDESC:Events for Vermont Rural Water Association
REFRESH-INTERVAL;VALUE=DURATION:PT1H
X-Robots-Tag:noindex
X-PUBLISHED-TTL:PT1H
BEGIN:VTIMEZONE
TZID:America/New_York
BEGIN:DAYLIGHT
TZOFFSETFROM:-0500
TZOFFSETTO:-0400
TZNAME:EDT
DTSTART:20230312T070000
END:DAYLIGHT
BEGIN:STANDARD
TZOFFSETFROM:-0400
TZOFFSETTO:-0500
TZNAME:EST
DTSTART:20231105T060000
END:STANDARD
BEGIN:DAYLIGHT
TZOFFSETFROM:-0500
TZOFFSETTO:-0400
TZNAME:EDT
DTSTART:20240310T070000
END:DAYLIGHT
BEGIN:STANDARD
TZOFFSETFROM:-0400
TZOFFSETTO:-0500
TZNAME:EST
DTSTART:20241103T060000
END:STANDARD
BEGIN:DAYLIGHT
TZOFFSETFROM:-0500
TZOFFSETTO:-0400
TZNAME:EDT
DTSTART:20250309T070000
END:DAYLIGHT
BEGIN:STANDARD
TZOFFSETFROM:-0400
TZOFFSETTO:-0500
TZNAME:EST
DTSTART:20251102T060000
END:STANDARD
END:VTIMEZONE
BEGIN:VEVENT
DTSTART;TZID=America/New_York:20240620T090000
DTEND;TZID=America/New_York:20240620T123000
DTSTAMP:20260423T070044
CREATED:20240219T204534Z
LAST-MODIFIED:20240528T184409Z
UID:14306-1718874000-1718886600@vtruralwater.org
SUMMARY:Trench and Excavation Safety
DESCRIPTION:Description\nWater and wastewater operators face dangerous situations when excavating trenches to repair water and sewer lines. Trench collapses happen without warning and cause severe injuries or death. Open trenches and pipe repairs include many other hazards such as water accumulation\, other buried utilities\, surface encumbrances\, and traffic. This course focuses on OSHA 1926 and the safe procedure for operators to follow when working in or around a trench or excavation. \nCredit\n3 TCH (Water & Wastewater) \nInstructor\nPaula Jackson (Vermont Rural Water Association) \nCLASS CANCELED
URL:https://vtruralwater.org/event/trench-safety-6-20/
LOCATION:Rutland WWTP\, 94 Greens Hill Lane\, Rutland\, VT\, 05701\, United States
CATEGORIES:Training,Wastewater Credit,Water Credit
ATTACH;FMTTYPE=image/png:https://vtruralwater.org/wp-content/uploads/2023/09/color-swatches-02.png
END:VEVENT
END:VCALENDAR