BEGIN:VCALENDAR
VERSION:2.0
PRODID:-//Vermont Rural Water Association - ECPv6.15.20//NONSGML v1.0//EN
CALSCALE:GREGORIAN
METHOD:PUBLISH
X-WR-CALNAME:Vermont Rural Water Association
X-ORIGINAL-URL:https://vtruralwater.org
X-WR-CALDESC:Events for Vermont Rural Water Association
REFRESH-INTERVAL;VALUE=DURATION:PT1H
X-Robots-Tag:noindex
X-PUBLISHED-TTL:PT1H
BEGIN:VTIMEZONE
TZID:America/New_York
BEGIN:DAYLIGHT
TZOFFSETFROM:-0500
TZOFFSETTO:-0400
TZNAME:EDT
DTSTART:20230312T070000
END:DAYLIGHT
BEGIN:STANDARD
TZOFFSETFROM:-0400
TZOFFSETTO:-0500
TZNAME:EST
DTSTART:20231105T060000
END:STANDARD
BEGIN:DAYLIGHT
TZOFFSETFROM:-0500
TZOFFSETTO:-0400
TZNAME:EDT
DTSTART:20240310T070000
END:DAYLIGHT
BEGIN:STANDARD
TZOFFSETFROM:-0400
TZOFFSETTO:-0500
TZNAME:EST
DTSTART:20241103T060000
END:STANDARD
BEGIN:DAYLIGHT
TZOFFSETFROM:-0500
TZOFFSETTO:-0400
TZNAME:EDT
DTSTART:20250309T070000
END:DAYLIGHT
BEGIN:STANDARD
TZOFFSETFROM:-0400
TZOFFSETTO:-0500
TZNAME:EST
DTSTART:20251102T060000
END:STANDARD
END:VTIMEZONE
BEGIN:VEVENT
DTSTART;TZID=America/New_York:20240613T080000
DTEND;TZID=America/New_York:20240613T123000
DTSTAMP:20260421T212206
CREATED:20240219T203310Z
LAST-MODIFIED:20240610T180551Z
UID:14299-1718265600-1718281800@vtruralwater.org
SUMMARY:Understanding Your Motor Control Panels
DESCRIPTION:Description\nWater and wastewater operators\, while not electricians\, need to understand the critical components of motor control panels and know how to troubleshoot problems. You will have the opportunity to practice these skills at a control panel workstation. Electrical theory\, formulas and safety will be covered in detail\, making this course a great review for certification exams. Please bring your voltage/amp meter if you have one. \nCredit:\n4 TCH (Water & Wastewater) \nInstructor \nJohn Benham \nProctor\nWayne Graham (Vermont Rural Water Association)
URL:https://vtruralwater.org/event/control-panels-6-13/
LOCATION:Chester Public Safety Building\, 130 Pleasant St\, Chester\, VT\, 05143\, United States
CATEGORIES:Training,Wastewater Credit,Water Credit
ATTACH;FMTTYPE=image/png:https://vtruralwater.org/wp-content/uploads/2023/09/color-swatches-03.png
END:VEVENT
BEGIN:VEVENT
DTSTART;TZID=America/New_York:20240613T090000
DTEND;TZID=America/New_York:20240613T123000
DTSTAMP:20260421T212206
CREATED:20240219T203958Z
LAST-MODIFIED:20240528T183807Z
UID:14302-1718269200-1718281800@vtruralwater.org
SUMMARY:Corrosion Control
DESCRIPTION:Description\nThis training will focus on distribution system corrosion and methods to combat it. Topics covered include: what is corrosion and what causes it\, why some waters are more corrosive than others\, problems caused by corrosion\, lead and copper rules\, and using phosphates and pH adjustment to combat corrosion. \nCredit\n3 TCH (Water) \nInstructor\nPaula Jackson (Vermont Rural Water Association)
URL:https://vtruralwater.org/event/corrosion-control-6-13/
LOCATION:Zoom\, Zoom
CATEGORIES:Water Credit,Zoom Training
ATTACH;FMTTYPE=image/png:https://vtruralwater.org/wp-content/uploads/2023/09/color-swatches-01.png
END:VEVENT
END:VCALENDAR