BEGIN:VCALENDAR
VERSION:2.0
PRODID:-//Vermont Rural Water Association - ECPv6.15.20//NONSGML v1.0//EN
CALSCALE:GREGORIAN
METHOD:PUBLISH
X-ORIGINAL-URL:https://vtruralwater.org
X-WR-CALDESC:Events for Vermont Rural Water Association
REFRESH-INTERVAL;VALUE=DURATION:PT1H
X-Robots-Tag:noindex
X-PUBLISHED-TTL:PT1H
BEGIN:VTIMEZONE
TZID:America/New_York
BEGIN:DAYLIGHT
TZOFFSETFROM:-0500
TZOFFSETTO:-0400
TZNAME:EDT
DTSTART:20230312T070000
END:DAYLIGHT
BEGIN:STANDARD
TZOFFSETFROM:-0400
TZOFFSETTO:-0500
TZNAME:EST
DTSTART:20231105T060000
END:STANDARD
BEGIN:DAYLIGHT
TZOFFSETFROM:-0500
TZOFFSETTO:-0400
TZNAME:EDT
DTSTART:20240310T070000
END:DAYLIGHT
BEGIN:STANDARD
TZOFFSETFROM:-0400
TZOFFSETTO:-0500
TZNAME:EST
DTSTART:20241103T060000
END:STANDARD
BEGIN:DAYLIGHT
TZOFFSETFROM:-0500
TZOFFSETTO:-0400
TZNAME:EDT
DTSTART:20250309T070000
END:DAYLIGHT
BEGIN:STANDARD
TZOFFSETFROM:-0400
TZOFFSETTO:-0500
TZNAME:EST
DTSTART:20251102T060000
END:STANDARD
END:VTIMEZONE
BEGIN:VEVENT
DTSTART;TZID=America/New_York:20240529T090000
DTEND;TZID=America/New_York:20240529T123000
DTSTAMP:20260421T212236
CREATED:20240220T193353Z
LAST-MODIFIED:20240510T160004Z
UID:14278-1716973200-1716985800@vtruralwater.org
SUMMARY:Lead and Copper Rule—Public and Crisis Communications
DESCRIPTION:Description\nThis class will provide drinking water operators with best practices for effective public communication strategies related to the Lead and Copper Rule (LCR)\, enabling them to transparently communicate with the public to build and protect essential trust. Attendees will also be shown how to craft and implement crisis communication plans to handle the wide variety of sensitive communications that will be required with customers\, and necessary with local leaders\, social media\, and the news media. \nCredit\n3 TCH (Water) \nInstructor\nMike McGill (WaterPIO) \nProctor\nLiz Royer (Vermont Rural Water Association)
URL:https://vtruralwater.org/event/lcr-communications-5-29/
LOCATION:Zoom\, Zoom
CATEGORIES:Water Credit,Zoom Training
ATTACH;FMTTYPE=image/png:https://vtruralwater.org/wp-content/uploads/2023/09/color-swatches-04.png
END:VEVENT
END:VCALENDAR