BEGIN:VCALENDAR
VERSION:2.0
PRODID:-//Vermont Rural Water Association - ECPv6.15.20//NONSGML v1.0//EN
CALSCALE:GREGORIAN
METHOD:PUBLISH
X-ORIGINAL-URL:https://vtruralwater.org
X-WR-CALDESC:Events for Vermont Rural Water Association
REFRESH-INTERVAL;VALUE=DURATION:PT1H
X-Robots-Tag:noindex
X-PUBLISHED-TTL:PT1H
BEGIN:VTIMEZONE
TZID:America/New_York
BEGIN:DAYLIGHT
TZOFFSETFROM:-0500
TZOFFSETTO:-0400
TZNAME:EDT
DTSTART:20230312T070000
END:DAYLIGHT
BEGIN:STANDARD
TZOFFSETFROM:-0400
TZOFFSETTO:-0500
TZNAME:EST
DTSTART:20231105T060000
END:STANDARD
BEGIN:DAYLIGHT
TZOFFSETFROM:-0500
TZOFFSETTO:-0400
TZNAME:EDT
DTSTART:20240310T070000
END:DAYLIGHT
BEGIN:STANDARD
TZOFFSETFROM:-0400
TZOFFSETTO:-0500
TZNAME:EST
DTSTART:20241103T060000
END:STANDARD
BEGIN:DAYLIGHT
TZOFFSETFROM:-0500
TZOFFSETTO:-0400
TZNAME:EDT
DTSTART:20250309T070000
END:DAYLIGHT
BEGIN:STANDARD
TZOFFSETFROM:-0400
TZOFFSETTO:-0500
TZNAME:EST
DTSTART:20251102T060000
END:STANDARD
END:VTIMEZONE
BEGIN:VEVENT
DTSTART;TZID=America/New_York:20240514T090000
DTEND;TZID=America/New_York:20240514T123000
DTSTAMP:20260421T232518
CREATED:20240229T212519Z
LAST-MODIFIED:20240415T180215Z
UID:14582-1715677200-1715689800@vtruralwater.org
SUMMARY:Developing and Updating Your Source Protection Plan (with optional work session)
DESCRIPTION:Class Description \nJoin staff from the Vermont Drinking Water and Groundwater Protection Division (DWGPD) and the Vermont Rural Water Association to learn about new tools in the world of source water protection planning. This training will focus on the key components of a source protection plan. Attendees will be introduced to DWGPD’s new online tools\, including a template and guidance document that you can use to develop your water system’s source protection plan (SPP) and/or source protection plan update (SPPU). There will be an interactive demonstration of the template and guidance document\, as well as a review of the new ANR Online Source Protection Plan Submission Form. These tools can streamline the process of creating and updating a water system’s source protection plan and help water systems stay in compliance with State of Vermont regulations. \nThe class itself will be 9 am to 12:30 pm. Starting at 1 pm there will be an optional work session that does not provide credit hours. \nClass Credit\n3 TCH (Water) \nOptional Work Session \nStay after class and work on your water system’s Source Protection Plan. Brad and Laura will be available to provide technical assistance and answer questions. No TCHs will be provided for the work session. \nAttendees are strongly encouraged to bring a laptop\, power cord\, their current Source Protection Plan\, and any pertinent water system documents. Power and Wi-Fi will be available. Links to various databases and resources will be provided for use during the work session. \nLocation \nThe class and work session are in the large conference room on the third floor of the ANR DEC Springfield Regional Office (known locally as the DMV building). \nInstructors\nLaura Ranker (VT Drinking Water and Groundwater Protection Division)\nBrad Roy (Vermont Rural Water Association) \nProctor\nTim Russo (Vermont Rural Water Association)
URL:https://vtruralwater.org/event/source-protection-plan-5-14/
LOCATION:ANR DEC Springfield Regional Office\, 100 Mineral Street\, Springfield\, VT\, 05156\, United States
CATEGORIES:Training,Water Credit
ATTACH;FMTTYPE=image/png:https://vtruralwater.org/wp-content/uploads/2023/09/color-swatches-01.png
END:VEVENT
END:VCALENDAR