BEGIN:VCALENDAR
VERSION:2.0
PRODID:-//Vermont Rural Water Association - ECPv6.15.20//NONSGML v1.0//EN
CALSCALE:GREGORIAN
METHOD:PUBLISH
X-WR-CALNAME:Vermont Rural Water Association
X-ORIGINAL-URL:https://vtruralwater.org
X-WR-CALDESC:Events for Vermont Rural Water Association
REFRESH-INTERVAL;VALUE=DURATION:PT1H
X-Robots-Tag:noindex
X-PUBLISHED-TTL:PT1H
BEGIN:VTIMEZONE
TZID:America/New_York
BEGIN:DAYLIGHT
TZOFFSETFROM:-0500
TZOFFSETTO:-0400
TZNAME:EDT
DTSTART:20230312T070000
END:DAYLIGHT
BEGIN:STANDARD
TZOFFSETFROM:-0400
TZOFFSETTO:-0500
TZNAME:EST
DTSTART:20231105T060000
END:STANDARD
BEGIN:DAYLIGHT
TZOFFSETFROM:-0500
TZOFFSETTO:-0400
TZNAME:EDT
DTSTART:20240310T070000
END:DAYLIGHT
BEGIN:STANDARD
TZOFFSETFROM:-0400
TZOFFSETTO:-0500
TZNAME:EST
DTSTART:20241103T060000
END:STANDARD
BEGIN:DAYLIGHT
TZOFFSETFROM:-0500
TZOFFSETTO:-0400
TZNAME:EDT
DTSTART:20250309T070000
END:DAYLIGHT
BEGIN:STANDARD
TZOFFSETFROM:-0400
TZOFFSETTO:-0500
TZNAME:EST
DTSTART:20251102T060000
END:STANDARD
END:VTIMEZONE
BEGIN:VEVENT
DTSTART;TZID=America/New_York:20240220T090000
DTEND;TZID=America/New_York:20240220T123000
DTSTAMP:20260424T044712
CREATED:20231116T234406Z
LAST-MODIFIED:20240219T190124Z
UID:13106-1708419600-1708432200@vtruralwater.org
SUMMARY:Safety: Bloodborne Pathogens\, PPE\, and Ladder Safety
DESCRIPTION:Description\nThis class will cover several safety considerations for water and wastewater personnel. First\, we will look at bloodborne pathogen threats in the water resources industry as well as new and improved personal protective equipment (PPE). Falls are the second highest cause of workplace fatality across the nation\, so we will discuss ladder safety at home and in the workplace. \nCredit\n3 TCH (Water & Wastewater) \nInstructor\nPaula Jackson (Vermont Rural Water Association)
URL:https://vtruralwater.org/event/pathogens-ppe-safety-2-20/
LOCATION:Vermont Rural Water Association\, 20 Susie Wilson Rd\, Essex Junction\, VT\, 05452\, United States
CATEGORIES:Training,Wastewater Credit,Water Credit
ATTACH;FMTTYPE=image/png:https://vtruralwater.org/wp-content/uploads/2023/09/color-swatches-03.png
END:VEVENT
END:VCALENDAR