BEGIN:VCALENDAR
VERSION:2.0
PRODID:-//Vermont Rural Water Association - ECPv6.15.20//NONSGML v1.0//EN
CALSCALE:GREGORIAN
METHOD:PUBLISH
X-ORIGINAL-URL:https://vtruralwater.org
X-WR-CALDESC:Events for Vermont Rural Water Association
REFRESH-INTERVAL;VALUE=DURATION:PT1H
X-Robots-Tag:noindex
X-PUBLISHED-TTL:PT1H
BEGIN:VTIMEZONE
TZID:America/New_York
BEGIN:DAYLIGHT
TZOFFSETFROM:-0500
TZOFFSETTO:-0400
TZNAME:EDT
DTSTART:20230312T070000
END:DAYLIGHT
BEGIN:STANDARD
TZOFFSETFROM:-0400
TZOFFSETTO:-0500
TZNAME:EST
DTSTART:20231105T060000
END:STANDARD
BEGIN:DAYLIGHT
TZOFFSETFROM:-0500
TZOFFSETTO:-0400
TZNAME:EDT
DTSTART:20240310T070000
END:DAYLIGHT
BEGIN:STANDARD
TZOFFSETFROM:-0400
TZOFFSETTO:-0500
TZNAME:EST
DTSTART:20241103T060000
END:STANDARD
BEGIN:DAYLIGHT
TZOFFSETFROM:-0500
TZOFFSETTO:-0400
TZNAME:EDT
DTSTART:20250309T070000
END:DAYLIGHT
BEGIN:STANDARD
TZOFFSETFROM:-0400
TZOFFSETTO:-0500
TZNAME:EST
DTSTART:20251102T060000
END:STANDARD
END:VTIMEZONE
BEGIN:VEVENT
DTSTART;TZID=America/New_York:20240215T120000
DTEND;TZID=America/New_York:20240215T143000
DTSTAMP:20260424T045022
CREATED:20231116T233139Z
LAST-MODIFIED:20240214T150000Z
UID:13104-1707998400-1708007400@vtruralwater.org
SUMMARY:Financial Modeling
DESCRIPTION:Description\nLong-term financial planning is an important part of sustainability for water and wastewater systems. A financial model is essential for appropriately setting rates\, building reserves\, and keeping up with long-term capital needs. This training will provide attendees with a basic model for financial forecasting as well as tips and tricks for using Excel. \nCredit\n2 TCH (Water & Wastewater) \nWebinar\nThe Zoom link will be emailed to you the day before class. Please join the Zoom meeting at least 10 minutes before class starts. Click here for more information about Zoom trainings. \nInstructor\nMichael Gaughan (Vermont Bond Bank) \nProctor\nLiz Royer (Vermont Rural Water Association)
URL:https://vtruralwater.org/event/financial-modeling-2-15/
LOCATION:Zoom\, Zoom
CATEGORIES:Training,Wastewater Credit,Water Credit
ATTACH;FMTTYPE=image/png:https://vtruralwater.org/wp-content/uploads/2023/09/color-swatches-02.png
END:VEVENT
END:VCALENDAR