BEGIN:VCALENDAR
VERSION:2.0
PRODID:-//Vermont Rural Water Association - ECPv6.15.20//NONSGML v1.0//EN
CALSCALE:GREGORIAN
METHOD:PUBLISH
X-WR-CALNAME:Vermont Rural Water Association
X-ORIGINAL-URL:https://vtruralwater.org
X-WR-CALDESC:Events for Vermont Rural Water Association
REFRESH-INTERVAL;VALUE=DURATION:PT1H
X-Robots-Tag:noindex
X-PUBLISHED-TTL:PT1H
BEGIN:VTIMEZONE
TZID:America/New_York
BEGIN:DAYLIGHT
TZOFFSETFROM:-0500
TZOFFSETTO:-0400
TZNAME:EDT
DTSTART:20230312T070000
END:DAYLIGHT
BEGIN:STANDARD
TZOFFSETFROM:-0400
TZOFFSETTO:-0500
TZNAME:EST
DTSTART:20231105T060000
END:STANDARD
BEGIN:DAYLIGHT
TZOFFSETFROM:-0500
TZOFFSETTO:-0400
TZNAME:EDT
DTSTART:20240310T070000
END:DAYLIGHT
BEGIN:STANDARD
TZOFFSETFROM:-0400
TZOFFSETTO:-0500
TZNAME:EST
DTSTART:20241103T060000
END:STANDARD
BEGIN:DAYLIGHT
TZOFFSETFROM:-0500
TZOFFSETTO:-0400
TZNAME:EDT
DTSTART:20250309T070000
END:DAYLIGHT
BEGIN:STANDARD
TZOFFSETFROM:-0400
TZOFFSETTO:-0500
TZNAME:EST
DTSTART:20251102T060000
END:STANDARD
END:VTIMEZONE
BEGIN:VEVENT
DTSTART;TZID=America/New_York:20240124T090000
DTEND;TZID=America/New_York:20240124T113000
DTSTAMP:20260424T064012
CREATED:20231115T200756Z
LAST-MODIFIED:20231121T170345Z
UID:13090-1706086800-1706095800@vtruralwater.org
SUMMARY:Cybersecurity and Internet Safety
DESCRIPTION:Description\nCybersecurity means protecting computers and computer-based technology from attacks and hackers. This has become a concern for water and wastewater systems in recent years\, but it can be hard for operators to understand the technical aspects of cybersecurity. This class will cover cybersecurity considerations for water and wastewater systems in an easy-to-understand format. We will begin by talking about the most important things that everyone can do to keep their personal information and computers safe\, like using strong passwords and learning to avoid dangerous emails. Next\, we will talk about ways to protect a water/wastewater system’s computers (as well as SCADA) and what to do in the event of an attack. We will look at recent case studies of water and wastewater systems that have experienced cyber attacks. Finally\, we will look at some resources that are available for free to help water and wastewater systems improve their cybersecurity. \nCredit\n2 TCH (Water & Wastewater) \nHybrid\nThis class will be held simultaneously in-person at our office in Essex and on Zoom. You will receive the Zoom link by email the day before class. Click here for more information about webinar trainings. \nIn-person address:\n20 Susie Wilson Rd\, Suite B\nEssex Junction\, VT 05452\nPlease park in lower lot\, behind building. Handicap parking is available in upper lot by entrance. \nProctor\nForest Anderson (Vermont Rural Water Association) \nInstructor\nKatherine Boyk (Vermont Rural Water Association)
URL:https://vtruralwater.org/event/cybersecurity-1-24/
LOCATION:Hybrid (Zoom & Essex)\, 20 Susie Wilson Rd\, Essex Junction\, VT\, 05452\, United States
CATEGORIES:Training,Wastewater Credit,Water Credit
ATTACH;FMTTYPE=image/png:https://vtruralwater.org/wp-content/uploads/2023/09/color-swatches-02.png
END:VEVENT
END:VCALENDAR