BEGIN:VCALENDAR
VERSION:2.0
PRODID:-//Vermont Rural Water Association - ECPv6.15.20//NONSGML v1.0//EN
CALSCALE:GREGORIAN
METHOD:PUBLISH
X-ORIGINAL-URL:https://vtruralwater.org
X-WR-CALDESC:Events for Vermont Rural Water Association
REFRESH-INTERVAL;VALUE=DURATION:PT1H
X-Robots-Tag:noindex
X-PUBLISHED-TTL:PT1H
BEGIN:VTIMEZONE
TZID:America/New_York
BEGIN:DAYLIGHT
TZOFFSETFROM:-0500
TZOFFSETTO:-0400
TZNAME:EDT
DTSTART:20230312T070000
END:DAYLIGHT
BEGIN:STANDARD
TZOFFSETFROM:-0400
TZOFFSETTO:-0500
TZNAME:EST
DTSTART:20231105T060000
END:STANDARD
BEGIN:DAYLIGHT
TZOFFSETFROM:-0500
TZOFFSETTO:-0400
TZNAME:EDT
DTSTART:20240310T070000
END:DAYLIGHT
BEGIN:STANDARD
TZOFFSETFROM:-0400
TZOFFSETTO:-0500
TZNAME:EST
DTSTART:20241103T060000
END:STANDARD
BEGIN:DAYLIGHT
TZOFFSETFROM:-0500
TZOFFSETTO:-0400
TZNAME:EDT
DTSTART:20250309T070000
END:DAYLIGHT
BEGIN:STANDARD
TZOFFSETFROM:-0400
TZOFFSETTO:-0500
TZNAME:EST
DTSTART:20251102T060000
END:STANDARD
END:VTIMEZONE
BEGIN:VEVENT
DTSTART;TZID=America/New_York:20240116T090000
DTEND;TZID=America/New_York:20240116T123000
DTSTAMP:20260424T062619
CREATED:20231115T192844Z
LAST-MODIFIED:20240105T161520Z
UID:13080-1705395600-1705408200@vtruralwater.org
SUMMARY:Water Treatment: Chlorination
DESCRIPTION:Description\nWhat contamination events warrant shock chlorination procedures? We will discuss events such as flooding\, loss of water system pressure\, and shock chlorination of water storage tanks and distribution piping. Continuous chlorination requires knowledge by water system operators to ensure that public health is protected. Chlorine chemistry is an integral part of water treatment that should be understood by water system operators. Students will learn what breakpoint chlorination is and how to ensure they are achieving it at their treatment facilities. Sodium hypochlorite feed equipment can cause problems; we will look at the issues and how to avoid a sodium hypochlorite feed pump malfunctions. This training session will look at shock chlorination procedures\, water storage tank disinfection\, and pipeline disinfection. \nThe class will also look at proper dechlorination procedures when flushing hydrants or after shock chlorinating. We will explore dechlorination methods and equipment. \nCredit\n3 TCH (Water) \nWebinar\nThe Zoom link will be emailed to you the day before class. Please join the Zoom meeting at least 10 minutes before class starts. Click here for more information about Zoom trainings. \nInstructor\nPaula Jackson (Vermont Rural Water Association)
URL:https://vtruralwater.org/event/chlorination-1-16/
LOCATION:Zoom\, Zoom
CATEGORIES:Waitlist,Water Credit
ATTACH;FMTTYPE=image/png:https://vtruralwater.org/wp-content/uploads/2023/09/color-swatches-03.png
END:VEVENT
END:VCALENDAR