BEGIN:VCALENDAR
VERSION:2.0
PRODID:-//Vermont Rural Water Association - ECPv6.15.20//NONSGML v1.0//EN
CALSCALE:GREGORIAN
METHOD:PUBLISH
X-WR-CALNAME:Vermont Rural Water Association
X-ORIGINAL-URL:https://vtruralwater.org
X-WR-CALDESC:Events for Vermont Rural Water Association
REFRESH-INTERVAL;VALUE=DURATION:PT1H
X-Robots-Tag:noindex
X-PUBLISHED-TTL:PT1H
BEGIN:VTIMEZONE
TZID:America/New_York
BEGIN:DAYLIGHT
TZOFFSETFROM:-0500
TZOFFSETTO:-0400
TZNAME:EDT
DTSTART:20230312T070000
END:DAYLIGHT
BEGIN:STANDARD
TZOFFSETFROM:-0400
TZOFFSETTO:-0500
TZNAME:EST
DTSTART:20231105T060000
END:STANDARD
BEGIN:DAYLIGHT
TZOFFSETFROM:-0500
TZOFFSETTO:-0400
TZNAME:EDT
DTSTART:20240310T070000
END:DAYLIGHT
BEGIN:STANDARD
TZOFFSETFROM:-0400
TZOFFSETTO:-0500
TZNAME:EST
DTSTART:20241103T060000
END:STANDARD
BEGIN:DAYLIGHT
TZOFFSETFROM:-0500
TZOFFSETTO:-0400
TZNAME:EDT
DTSTART:20250309T070000
END:DAYLIGHT
BEGIN:STANDARD
TZOFFSETFROM:-0400
TZOFFSETTO:-0500
TZNAME:EST
DTSTART:20251102T060000
END:STANDARD
END:VTIMEZONE
BEGIN:VEVENT
DTSTART;TZID=America/New_York:20240111T090000
DTEND;TZID=America/New_York:20240111T123000
DTSTAMP:20260424T062434
CREATED:20231115T192455Z
LAST-MODIFIED:20231220T152320Z
UID:13077-1704963600-1704976200@vtruralwater.org
SUMMARY:Operation and Maintenance of Distribution Systems
DESCRIPTION:Description\nWater distribution systems and storage tanks are the most vulnerable part of a water system for contamination. This class will take a look at contamination vulnerabilities in a water distribution system. Attendees will learn basic hydraulics\, contamination pathways\, cross connection control\, and operation and maintenance of water storage tanks. The maintenance activities we will discuss include proactive leak detection\, distribution system flushing\, and water quality sampling. \nCredit\n3 TCH (Water) \nWebinar\nThe Zoom link will be emailed to you the day before class. Please join the Zoom meeting at least 10 minutes before class starts. Click here for more information about Zoom trainings. \nInstructor\nPaula Jackson (Vermont Rural Water Association) \nCLASS FULL \nThis class will be offered again on February 6 in Orleans—you can register for it here. Or sign up for the waitlist below.
URL:https://vtruralwater.org/event/distribution-om-1-11/
LOCATION:Zoom\, Zoom
CATEGORIES:Waitlist,Water Credit
ATTACH;FMTTYPE=image/png:https://vtruralwater.org/wp-content/uploads/2023/09/color-swatches-02.png
END:VEVENT
END:VCALENDAR