BEGIN:VCALENDAR
VERSION:2.0
PRODID:-//Vermont Rural Water Association - ECPv6.15.20//NONSGML v1.0//EN
CALSCALE:GREGORIAN
METHOD:PUBLISH
X-WR-CALNAME:Vermont Rural Water Association
X-ORIGINAL-URL:https://vtruralwater.org
X-WR-CALDESC:Events for Vermont Rural Water Association
REFRESH-INTERVAL;VALUE=DURATION:PT1H
X-Robots-Tag:noindex
X-PUBLISHED-TTL:PT1H
BEGIN:VTIMEZONE
TZID:America/New_York
BEGIN:DAYLIGHT
TZOFFSETFROM:-0500
TZOFFSETTO:-0400
TZNAME:EDT
DTSTART:20220313T070000
END:DAYLIGHT
BEGIN:STANDARD
TZOFFSETFROM:-0400
TZOFFSETTO:-0500
TZNAME:EST
DTSTART:20221106T060000
END:STANDARD
BEGIN:DAYLIGHT
TZOFFSETFROM:-0500
TZOFFSETTO:-0400
TZNAME:EDT
DTSTART:20230312T070000
END:DAYLIGHT
BEGIN:STANDARD
TZOFFSETFROM:-0400
TZOFFSETTO:-0500
TZNAME:EST
DTSTART:20231105T060000
END:STANDARD
BEGIN:DAYLIGHT
TZOFFSETFROM:-0500
TZOFFSETTO:-0400
TZNAME:EDT
DTSTART:20240310T070000
END:DAYLIGHT
BEGIN:STANDARD
TZOFFSETFROM:-0400
TZOFFSETTO:-0500
TZNAME:EST
DTSTART:20241103T060000
END:STANDARD
END:VTIMEZONE
BEGIN:VEVENT
DTSTART;TZID=America/New_York:20231205T090000
DTEND;TZID=America/New_York:20231205T123000
DTSTAMP:20260424T080409
CREATED:20230910T193111Z
LAST-MODIFIED:20231129T153700Z
UID:12468-1701766800-1701779400@vtruralwater.org
SUMMARY:Corrosion Control and Polymers
DESCRIPTION:Description\nThe first part of this class will focus on distribution system corrosion and methods to combat it. Topics covered include: what is corrosion and what causes it\, why some waters are more corrosive than others\, problems corrosion causes\, lead/copper rules\, and using phosphates and pH adjustment to combat corrosion. \nIn the second part\, we will look at polymer use for solids separations\, including: what is polymer and how does it work\, storage and handling\, mixing and using polymer\, how to make adjustments\, and spill clean-up. \nCredit\n3 TCH (Water & Wastewater) \nWebinar\nThe Zoom link will be emailed to you the day before class. Please join the Zoom meeting at least 10 minutes before class starts. Click here for more information about Zoom trainings. \nProctor\nTim Russo (Vermont Rural Water Association) \nInstructor\nRyan Peebles (Clean Waters Inc)
URL:https://vtruralwater.org/event/corrosion-control-12-5/
LOCATION:Zoom\, Zoom
CATEGORIES:Training,Wastewater Credit,Water Credit
ATTACH;FMTTYPE=image/png:https://vtruralwater.org/wp-content/uploads/2023/09/color-swatches-02.png
END:VEVENT
END:VCALENDAR