BEGIN:VCALENDAR
VERSION:2.0
PRODID:-//Vermont Rural Water Association - ECPv6.15.20//NONSGML v1.0//EN
CALSCALE:GREGORIAN
METHOD:PUBLISH
X-WR-CALNAME:Vermont Rural Water Association
X-ORIGINAL-URL:https://vtruralwater.org
X-WR-CALDESC:Events for Vermont Rural Water Association
REFRESH-INTERVAL;VALUE=DURATION:PT1H
X-Robots-Tag:noindex
X-PUBLISHED-TTL:PT1H
BEGIN:VTIMEZONE
TZID:America/New_York
BEGIN:DAYLIGHT
TZOFFSETFROM:-0500
TZOFFSETTO:-0400
TZNAME:EDT
DTSTART:20220313T070000
END:DAYLIGHT
BEGIN:STANDARD
TZOFFSETFROM:-0400
TZOFFSETTO:-0500
TZNAME:EST
DTSTART:20221106T060000
END:STANDARD
BEGIN:DAYLIGHT
TZOFFSETFROM:-0500
TZOFFSETTO:-0400
TZNAME:EDT
DTSTART:20230312T070000
END:DAYLIGHT
BEGIN:STANDARD
TZOFFSETFROM:-0400
TZOFFSETTO:-0500
TZNAME:EST
DTSTART:20231105T060000
END:STANDARD
BEGIN:DAYLIGHT
TZOFFSETFROM:-0500
TZOFFSETTO:-0400
TZNAME:EDT
DTSTART:20240310T070000
END:DAYLIGHT
BEGIN:STANDARD
TZOFFSETFROM:-0400
TZOFFSETTO:-0500
TZNAME:EST
DTSTART:20241103T060000
END:STANDARD
END:VTIMEZONE
BEGIN:VEVENT
DTSTART;TZID=America/New_York:20231031T090000
DTEND;TZID=America/New_York:20231031T140000
DTSTAMP:20260424T094356
CREATED:20230906T191521Z
LAST-MODIFIED:20230911T201644Z
UID:12391-1698742800-1698760800@vtruralwater.org
SUMMARY:Class 3 & 4 Exam Preparation Course
DESCRIPTION:This course is designed as a short review for the Vermont Class 3 and 4 Water Treatment exam. We will review test-taking skills\, exam questions\, math problems\, and general water system operations. We will take a practice exam as a group. \nCredit\n4 TCH (Water) \nHybrid\nThis class will be held simultaneously in-person at our office in Essex and on Zoom. The Zoom link will be emailed the day before class. Click here for more information about webinar trainings. \nIn-person address:\n20 Susie Wilson Rd\, Suite B\nEssex Junction\, VT 05452\nPlease park in lower lot\, behind building. Handicap parking is available in upper lot by entrance. \nInstructor\nPaula Jackson (Vermont Rural Water Association)
URL:https://vtruralwater.org/event/3-4-exam-prep-10-31/
LOCATION:Hybrid (Zoom & Essex)\, 20 Susie Wilson Rd\, Essex Junction\, VT\, 05452\, United States
CATEGORIES:Training,Water Credit
END:VEVENT
END:VCALENDAR