BEGIN:VCALENDAR
VERSION:2.0
PRODID:-//Vermont Rural Water Association - ECPv6.15.20//NONSGML v1.0//EN
CALSCALE:GREGORIAN
METHOD:PUBLISH
X-WR-CALNAME:Vermont Rural Water Association
X-ORIGINAL-URL:https://vtruralwater.org
X-WR-CALDESC:Events for Vermont Rural Water Association
REFRESH-INTERVAL;VALUE=DURATION:PT1H
X-Robots-Tag:noindex
X-PUBLISHED-TTL:PT1H
BEGIN:VTIMEZONE
TZID:America/New_York
BEGIN:DAYLIGHT
TZOFFSETFROM:-0500
TZOFFSETTO:-0400
TZNAME:EDT
DTSTART:20220313T070000
END:DAYLIGHT
BEGIN:STANDARD
TZOFFSETFROM:-0400
TZOFFSETTO:-0500
TZNAME:EST
DTSTART:20221106T060000
END:STANDARD
BEGIN:DAYLIGHT
TZOFFSETFROM:-0500
TZOFFSETTO:-0400
TZNAME:EDT
DTSTART:20230312T070000
END:DAYLIGHT
BEGIN:STANDARD
TZOFFSETFROM:-0400
TZOFFSETTO:-0500
TZNAME:EST
DTSTART:20231105T060000
END:STANDARD
BEGIN:DAYLIGHT
TZOFFSETFROM:-0500
TZOFFSETTO:-0400
TZNAME:EDT
DTSTART:20240310T070000
END:DAYLIGHT
BEGIN:STANDARD
TZOFFSETFROM:-0400
TZOFFSETTO:-0500
TZNAME:EST
DTSTART:20241103T060000
END:STANDARD
END:VTIMEZONE
BEGIN:VEVENT
DTSTART;TZID=America/New_York:20231024T090000
DTEND;TZID=America/New_York:20231024T113000
DTSTAMP:20260424T113615
CREATED:20230824T193758Z
LAST-MODIFIED:20231019T155237Z
UID:12316-1698138000-1698147000@vtruralwater.org
SUMMARY:Recruiting and Retention for Gender Equity
DESCRIPTION:Did you know that job seekers spend just 49.7 seconds reviewing a listing before deciding it’s not a fit? What do potential employees see when they visit your job listings? This workshop will provide a brief recap of the economic benefits of workplace diversity\, and provide tools and strategies for attracting gender diverse candidates to your company or organization. We will review internal and external messaging\, effective job descriptions\, and best practices for interviewing for diversity. Lastly\, we will talk about some benefits and supports that help to create a “human-friendly” workplace that will make any employee want to stay for the long haul! \nCredit:2 TCH (Water & Wastewater) \nWebinarThe Zoom link will be emailed to you the day before class. Please join the Zoom meeting 5-10 minutes before class starts. Click here for more information about Zoom trainings. \nProctorLiz Royer\, VRWA \nInstructorsMargaret Overman and Missy Mackin\, Vermont Works for Women
URL:https://vtruralwater.org/event/recruiting-retention-10-24/
LOCATION:Zoom\, Zoom
CATEGORIES:Training,Wastewater Credit,Water Credit
END:VEVENT
END:VCALENDAR