BEGIN:VCALENDAR
VERSION:2.0
PRODID:-//Vermont Rural Water Association - ECPv6.15.20//NONSGML v1.0//EN
CALSCALE:GREGORIAN
METHOD:PUBLISH
X-ORIGINAL-URL:https://vtruralwater.org
X-WR-CALDESC:Events for Vermont Rural Water Association
REFRESH-INTERVAL;VALUE=DURATION:PT1H
X-Robots-Tag:noindex
X-PUBLISHED-TTL:PT1H
BEGIN:VTIMEZONE
TZID:America/New_York
BEGIN:DAYLIGHT
TZOFFSETFROM:-0500
TZOFFSETTO:-0400
TZNAME:EDT
DTSTART:20220313T070000
END:DAYLIGHT
BEGIN:STANDARD
TZOFFSETFROM:-0400
TZOFFSETTO:-0500
TZNAME:EST
DTSTART:20221106T060000
END:STANDARD
BEGIN:DAYLIGHT
TZOFFSETFROM:-0500
TZOFFSETTO:-0400
TZNAME:EDT
DTSTART:20230312T070000
END:DAYLIGHT
BEGIN:STANDARD
TZOFFSETFROM:-0400
TZOFFSETTO:-0500
TZNAME:EST
DTSTART:20231105T060000
END:STANDARD
BEGIN:DAYLIGHT
TZOFFSETFROM:-0500
TZOFFSETTO:-0400
TZNAME:EDT
DTSTART:20240310T070000
END:DAYLIGHT
BEGIN:STANDARD
TZOFFSETFROM:-0400
TZOFFSETTO:-0500
TZNAME:EST
DTSTART:20241103T060000
END:STANDARD
END:VTIMEZONE
BEGIN:VEVENT
DTSTART;TZID=America/New_York:20231010T090000
DTEND;TZID=America/New_York:20231010T123000
DTSTAMP:20260424T114034
CREATED:20230824T182225Z
LAST-MODIFIED:20230919T151117Z
UID:12307-1696928400-1696941000@vtruralwater.org
SUMMARY:Busting Gender Bias
DESCRIPTION:This workshop will explore the messages we all received growing up about gender and how those messages continue to influence our attitudes\, beliefs and behaviors today. We will review terms related to gender and discuss gender norms through facilitated small-group conversations. Participants will dive deeper into the concept of implicit bias and learn about microaggressions or “everyday bias” that frequently shows up in more subtle ways. Finally\, participants will learn how to be good allies\, and practice “ready responses” for interrupting bias. \nCredit:\n3 TCH (Water & Wastewater) \nProctor\nLiz Royer\, VRWA \nInstructors\nAlison Lamagna and Missy Mackin\, Vermont Works for Women
URL:https://vtruralwater.org/event/gender-bias-10-10/
LOCATION:Vermont Rural Water Association\, 20 Susie Wilson Rd\, Essex Junction\, VT\, 05452\, United States
CATEGORIES:Training,Wastewater Credit,Water Credit
END:VEVENT
END:VCALENDAR