BEGIN:VCALENDAR
VERSION:2.0
PRODID:-//Vermont Rural Water Association - ECPv6.15.20//NONSGML v1.0//EN
CALSCALE:GREGORIAN
METHOD:PUBLISH
X-WR-CALNAME:Vermont Rural Water Association
X-ORIGINAL-URL:https://vtruralwater.org
X-WR-CALDESC:Events for Vermont Rural Water Association
REFRESH-INTERVAL;VALUE=DURATION:PT1H
X-Robots-Tag:noindex
X-PUBLISHED-TTL:PT1H
BEGIN:VTIMEZONE
TZID:America/New_York
BEGIN:DAYLIGHT
TZOFFSETFROM:-0500
TZOFFSETTO:-0400
TZNAME:EDT
DTSTART:20230312T070000
END:DAYLIGHT
BEGIN:STANDARD
TZOFFSETFROM:-0400
TZOFFSETTO:-0500
TZNAME:EST
DTSTART:20231105T060000
END:STANDARD
BEGIN:DAYLIGHT
TZOFFSETFROM:-0500
TZOFFSETTO:-0400
TZNAME:EDT
DTSTART:20240310T070000
END:DAYLIGHT
BEGIN:STANDARD
TZOFFSETFROM:-0400
TZOFFSETTO:-0500
TZNAME:EST
DTSTART:20241103T060000
END:STANDARD
BEGIN:DAYLIGHT
TZOFFSETFROM:-0500
TZOFFSETTO:-0400
TZNAME:EDT
DTSTART:20250309T070000
END:DAYLIGHT
BEGIN:STANDARD
TZOFFSETFROM:-0400
TZOFFSETTO:-0500
TZNAME:EST
DTSTART:20251102T060000
END:STANDARD
END:VTIMEZONE
BEGIN:VEVENT
DTSTART;TZID=America/New_York:20241204T090000
DTEND;TZID=America/New_York:20241204T123000
DTSTAMP:20260421T081259
CREATED:20240816T180818Z
LAST-MODIFIED:20241121T005538Z
UID:16246-1733302800-1733315400@vtruralwater.org
SUMMARY:Water Storage Tank Design and Maintenance
DESCRIPTION:Description\nThis course will focus on the design and maintenance of water storage tanks. Participants will learn the types of water storage tanks\, as well as materials and design requirements to consider when planning for the addition of a new water storage tank. Like any asset\, water storage tanks require routine inspection and maintenance. The course will review best practices and disinfection requirements. \nCredit\n3 TCH (Water) \nInstructor\nNate Pion (Champlain Water District) \nProctor\nAllison Smith (Vermont Rural Water Association)
URL:https://vtruralwater.org/event/storage-tanks-12-4/
LOCATION:Vermont Rural Water Association\, 20 Susie Wilson Rd\, Essex Junction\, VT\, 05452\, United States
CATEGORIES:Waitlist,Water Credit
ATTACH;FMTTYPE=image/png:https://vtruralwater.org/wp-content/uploads/2023/09/color-swatches-02.png
END:VEVENT
BEGIN:VEVENT
DTSTART;TZID=America/New_York:20241210T090000
DTEND;TZID=America/New_York:20241210T133000
DTSTAMP:20260421T081259
CREATED:20240816T182631Z
LAST-MODIFIED:20241205T144517Z
UID:16252-1733821200-1733837400@vtruralwater.org
SUMMARY:Traffic Control Certification
DESCRIPTION:Description\nThis course will provide flaggers with the basic knowledge\, information\, and awareness to perform their jobs safely. After the lesson\, attendees will be given a written certification exam. Those who successfully complete the course and pass the exam with a score of 80% or higher will receive a certificate to perform as a qualified flagger. \nCredit\n4 TCH (Water & Wastewater) \nInstructor\nPaul Sestito (Vermont Rural Water Association) \nProctor\nAllison Smith (Vermont Rural Water Association)
URL:https://vtruralwater.org/event/traffic-control-12-10/
LOCATION:National Life Complex\, Dewey Building\, 1 National Life Drive\, Montpelier\, VT\, 05602\, United States
CATEGORIES:Waitlist,Wastewater Credit,Water Credit
ATTACH;FMTTYPE=image/png:https://vtruralwater.org/wp-content/uploads/2023/09/color-swatches-01.png
END:VEVENT
BEGIN:VEVENT
DTSTART;TZID=America/New_York:20241212T090000
DTEND;TZID=America/New_York:20241212T123000
DTSTAMP:20260421T081259
CREATED:20240816T183406Z
LAST-MODIFIED:20241205T153853Z
UID:16255-1733994000-1734006600@vtruralwater.org
SUMMARY:Understanding the Basics of GIS and How to Make It Work for Your System
DESCRIPTION:PLEASE NOTE: This class has been moved to the UVM Extension Berlin Office instead of the National Life Complex as originally scheduled. \nDescription\nGIS can seem intimidating to new users because of the infinite possibilities and uses it provides. This course reviews the basic components of GIS mapping while considering the three major questions that all systems need to address when deciding to move forward with GIS technology: (1) What information do you want available when accessing your map? (2) What level of editing and control do you want to have over the map? (3) How much money do you have in your budget to obtain the level of mapping functions you want? \nCredit\n3 TCH (Water & Wastewater) \nInstructor\nElizabeth Emmons (Dufresne Group) \nProctor\nAllison Smith (Vermont Rural Water Association)
URL:https://vtruralwater.org/event/basic-gis-12-12/
LOCATION:UVM Extension Berlin Office\, 327 US Route 302\, Suite 1\, Berlin\, VT\, 05641\, United States
CATEGORIES:Waitlist,Wastewater Credit,Water Credit
ATTACH;FMTTYPE=image/png:https://vtruralwater.org/wp-content/uploads/2024/11/swatch2-orange.png
END:VEVENT
END:VCALENDAR