BEGIN:VCALENDAR
VERSION:2.0
PRODID:-//Vermont Rural Water Association - ECPv6.15.20//NONSGML v1.0//EN
CALSCALE:GREGORIAN
METHOD:PUBLISH
X-WR-CALNAME:Vermont Rural Water Association
X-ORIGINAL-URL:https://vtruralwater.org
X-WR-CALDESC:Events for Vermont Rural Water Association
REFRESH-INTERVAL;VALUE=DURATION:PT1H
X-Robots-Tag:noindex
X-PUBLISHED-TTL:PT1H
BEGIN:VTIMEZONE
TZID:America/New_York
BEGIN:DAYLIGHT
TZOFFSETFROM:-0500
TZOFFSETTO:-0400
TZNAME:EDT
DTSTART:20230312T070000
END:DAYLIGHT
BEGIN:STANDARD
TZOFFSETFROM:-0400
TZOFFSETTO:-0500
TZNAME:EST
DTSTART:20231105T060000
END:STANDARD
BEGIN:DAYLIGHT
TZOFFSETFROM:-0500
TZOFFSETTO:-0400
TZNAME:EDT
DTSTART:20240310T070000
END:DAYLIGHT
BEGIN:STANDARD
TZOFFSETFROM:-0400
TZOFFSETTO:-0500
TZNAME:EST
DTSTART:20241103T060000
END:STANDARD
BEGIN:DAYLIGHT
TZOFFSETFROM:-0500
TZOFFSETTO:-0400
TZNAME:EDT
DTSTART:20250309T070000
END:DAYLIGHT
BEGIN:STANDARD
TZOFFSETFROM:-0400
TZOFFSETTO:-0500
TZNAME:EST
DTSTART:20251102T060000
END:STANDARD
END:VTIMEZONE
BEGIN:VEVENT
DTSTART;TZID=America/New_York:20241106T090000
DTEND;TZID=America/New_York:20241106T123000
DTSTAMP:20260421T100933
CREATED:20240816T173424Z
LAST-MODIFIED:20240816T173424Z
UID:16233-1730883600-1730896200@vtruralwater.org
SUMMARY:Water Treatment: Chlorination
DESCRIPTION:Description\nBoth continuous chlorination and shock chlorination are integral parts of water treatment. Water systems operators should understand both of these concepts to ensure that public health is protected. This class will cover the following topics: \n\nChlorine chemistry\nBreakpoint chlorination and how to achieve it\nSodium hypochlorite feed equipment and how to avoid feed pump malfunctions\nContamination events that warrant shock chlorination\nProper shock chlorination procedures\nShock chlorination of water storage tanks and distribution piping\nProper dechlorination methods and equipment\n\nCredit\n3 TCH (Water) \nInstructor\nPaula Jackson (Vermont Rural Water Association) \nProctor\nAllison Smith (Vermont Rural Water Association)
URL:https://vtruralwater.org/event/chlorination-11-6/
LOCATION:Zoom\, Zoom
CATEGORIES:Water Credit,Zoom Training
ATTACH;FMTTYPE=image/png:https://vtruralwater.org/wp-content/uploads/2023/09/color-swatches-02.png
END:VEVENT
BEGIN:VEVENT
DTSTART;TZID=America/New_York:20241112T090000
DTEND;TZID=America/New_York:20241112T123000
DTSTAMP:20260421T100933
CREATED:20240816T174536Z
LAST-MODIFIED:20240816T174536Z
UID:16236-1731402000-1731414600@vtruralwater.org
SUMMARY:Essential Practices and Technologies for Water Distribution
DESCRIPTION:Description\nThis class is being taught by Troy Ebbighausen of F.W. Webb. Troy will share his vast experience of the water industry with a focus on distribution. The class will detail the essential duties of an operator\, highlighting the importance of adhering to sanitary standards\, such as disinfection of new installations and preventing cross-contamination. The session will cover best practices during emergencies and general operations\, as well as the evolution of tools and equipment for increased efficiency. Safety protocols\, including trenching safety and OSHA requirements\, will be discussed. Attendees will learn to correctly identify fitted repair parts and handle the repair of aging water mains and service lines. Technological advancements—such as smart hydrant technology\, which monitor and report hydrant conditions in real-time\, as well as acoustic leak detection devices that pinpoint leaks before they become emergencies—will be introduced. Additionally\, cellular water meter endpoints that provide real-time readings and alerts will be covered. This class is designed for both new and seasoned operators\, showcasing various tools and technologies to facilitate the challenging work of water operations\, particularly in distribution. \nCredit\n3 TCH (Water) \nInstructor\nTroy Ebbighausen (F.W. Webb) \nProctor\nAllison Smith (Vermont Rural Water Association)
URL:https://vtruralwater.org/event/distribution-tech-11-12/
LOCATION:F.W. Webb\, 80 Park Avenue\, Williston\, VT\, United States
CATEGORIES:Training,Water Credit
ATTACH;FMTTYPE=image/png:https://vtruralwater.org/wp-content/uploads/2023/09/color-swatches-03.png
END:VEVENT
BEGIN:VEVENT
DTSTART;TZID=America/New_York:20241114T090000
DTEND;TZID=America/New_York:20241114T123000
DTSTAMP:20260421T100933
CREATED:20240816T174943Z
LAST-MODIFIED:20240816T174943Z
UID:16240-1731574800-1731587400@vtruralwater.org
SUMMARY:Corrosion Control
DESCRIPTION:Description\nThis training will focus on distribution system corrosion and methods to combat it. Topics covered include: what is corrosion and what causes it\, why some waters are more corrosive than others\, problems caused by corrosion\, lead and copper rules\, and using phosphates and pH adjustment to combat corrosion. \nCredit\n3 TCH (Water) \nInstructor\nPaula Jackson (Vermont Rural Water Association) \nProctor\nAllison Smith (Vermont Rural Water Association)
URL:https://vtruralwater.org/event/corrosion-control-11-14/
LOCATION:Zoom\, Zoom
CATEGORIES:Water Credit,Zoom Training
ATTACH;FMTTYPE=image/png:https://vtruralwater.org/wp-content/uploads/2023/09/color-swatches-01.png
END:VEVENT
BEGIN:VEVENT
DTSTART;TZID=America/New_York:20241119T090000
DTEND;TZID=America/New_York:20241119T123000
DTSTAMP:20260421T100933
CREATED:20240816T175758Z
LAST-MODIFIED:20241108T140628Z
UID:16243-1732006800-1732019400@vtruralwater.org
SUMMARY:Water Distribution: Operation and Maintenance
DESCRIPTION:Description\nWater distribution systems require preventative maintenance to reduce the risk of equipment failure and provide safe drinking water to consumers. This class will discuss some of the maintenance basics\, including valve exercising\, flushing\, pipe replacement\, pipe rehabilitation\, and storage tank inspection and cleaning. \nCredit\n3 TCH (Water) \nInstructor\nPaula Jackson (Vermont Rural Water Association) \nProctor\nAllison Smith (Vermont Rural Water Association)
URL:https://vtruralwater.org/event/distribution-o-m-11-19/
LOCATION:Zoom\, Zoom
CATEGORIES:Water Credit,Zoom Training
ATTACH;FMTTYPE=image/png:https://vtruralwater.org/wp-content/uploads/2023/09/color-swatches-04.png
END:VEVENT
END:VCALENDAR