BEGIN:VCALENDAR
VERSION:2.0
PRODID:-//Vermont Rural Water Association - ECPv6.15.20//NONSGML v1.0//EN
CALSCALE:GREGORIAN
METHOD:PUBLISH
X-ORIGINAL-URL:https://vtruralwater.org
X-WR-CALDESC:Events for Vermont Rural Water Association
REFRESH-INTERVAL;VALUE=DURATION:PT1H
X-Robots-Tag:noindex
X-PUBLISHED-TTL:PT1H
BEGIN:VTIMEZONE
TZID:America/New_York
BEGIN:DAYLIGHT
TZOFFSETFROM:-0500
TZOFFSETTO:-0400
TZNAME:EDT
DTSTART:20230312T070000
END:DAYLIGHT
BEGIN:STANDARD
TZOFFSETFROM:-0400
TZOFFSETTO:-0500
TZNAME:EST
DTSTART:20231105T060000
END:STANDARD
BEGIN:DAYLIGHT
TZOFFSETFROM:-0500
TZOFFSETTO:-0400
TZNAME:EDT
DTSTART:20240310T070000
END:DAYLIGHT
BEGIN:STANDARD
TZOFFSETFROM:-0400
TZOFFSETTO:-0500
TZNAME:EST
DTSTART:20241103T060000
END:STANDARD
BEGIN:DAYLIGHT
TZOFFSETFROM:-0500
TZOFFSETTO:-0400
TZNAME:EDT
DTSTART:20250309T070000
END:DAYLIGHT
BEGIN:STANDARD
TZOFFSETFROM:-0400
TZOFFSETTO:-0500
TZNAME:EST
DTSTART:20251102T060000
END:STANDARD
END:VTIMEZONE
BEGIN:VEVENT
DTSTART;TZID=America/New_York:20240719T083000
DTEND;TZID=America/New_York:20240719T120000
DTSTAMP:20260421T105945
CREATED:20240402T194900Z
LAST-MODIFIED:20240716T135040Z
UID:15075-1721377800-1721390400@vtruralwater.org
SUMMARY:Disc Golf Tournament
DESCRIPTION:This free\, friendly disc golf tournament is part of Water Professionals Appreciation Day. Teams of three will play 18 holes on this short course. You can register with your teammates or register individually and we’ll pair you with others. Prizes for the winning team and closest to the hole! \nAbout the Course\nPark in the Barre Town Forest parking lot at 44 Brook St (no street parking\, please)\nCarpooling is encouraged\nThere is a port-a-potty in the parking lot\nQuarries Disc Golf Course is a free\, volunteer-run course. Donations are accepted. \nWhat to Bring\nWater\nSunscreen\nBug spray\nSturdy footwear (uneven terrain in places)\nDiscs — if you don’t have any\, we have a limited supply you can borrow \nJoin us for lunch and prizes at Millstone Hill (just down the road) after the tournament! Register here. \nSponsored by:
URL:https://vtruralwater.org/event/disc-golf-tournament-2024/
LOCATION:Quarries Disc Golf Course\, 44 Brook Street\, Websterville\, VT\, United States
CATEGORIES:Other
END:VEVENT
BEGIN:VEVENT
DTSTART;TZID=America/New_York:20240719T113000
DTEND;TZID=America/New_York:20240719T140000
DTSTAMP:20260421T105945
CREATED:20240403T145900Z
LAST-MODIFIED:20240716T134902Z
UID:15097-1721388600-1721397600@vtruralwater.org
SUMMARY:Water Professionals Appreciation Day Lunch
DESCRIPTION:Join us for lunch and entertainment to celebrate all the hard-working\, dedicated drinking water and wastewater professionals in Vermont! \nMenu\nPulled Pork\nMac and Cheese\nVegetarian Jambalaya\nColeslaw\nPotato Salad\nCornbread \nDirections \nFrom I-89 \, take Exit 6 (South Barre/Barre Route 14) and follow the access road approximately 3 miles.\nAt the traffic light at the bottom of the hill\, go through the intersection and straight up the hill (Middle Rd) for 1 mile.\nAt the first intersection\, turn left onto Graniteville Rd (at Rock of Ages).\nAfter one mile turn right onto Websterville Rd .\nA little over one mile you will see a huge granite quarry on your right and a left-hand turn (a Y intersection) taking you to Rt. 302/Rt. 110.\nContinue 200 feet up the hill beyond this intersection to the next intersection\, then go straight ahead onto Little John Rd\, going between the two yellow houses.\nWe will be in the Celebration Barn\, the third building on the left from the intersection. \nSponsored by:
URL:https://vtruralwater.org/event/appreciation-day-lunch-2024/
LOCATION:Millstone Hill\, 29 Little John Rd\, Websterville\, VT\, United States
CATEGORIES:Other
END:VEVENT
END:VCALENDAR