BEGIN:VCALENDAR
VERSION:2.0
PRODID:-//Vermont Rural Water Association - ECPv6.15.20//NONSGML v1.0//EN
CALSCALE:GREGORIAN
METHOD:PUBLISH
X-WR-CALNAME:Vermont Rural Water Association
X-ORIGINAL-URL:https://vtruralwater.org
X-WR-CALDESC:Events for Vermont Rural Water Association
REFRESH-INTERVAL;VALUE=DURATION:PT1H
X-Robots-Tag:noindex
X-PUBLISHED-TTL:PT1H
BEGIN:VTIMEZONE
TZID:America/New_York
BEGIN:DAYLIGHT
TZOFFSETFROM:-0500
TZOFFSETTO:-0400
TZNAME:EDT
DTSTART:20250309T070000
END:DAYLIGHT
BEGIN:STANDARD
TZOFFSETFROM:-0400
TZOFFSETTO:-0500
TZNAME:EST
DTSTART:20251102T060000
END:STANDARD
BEGIN:DAYLIGHT
TZOFFSETFROM:-0500
TZOFFSETTO:-0400
TZNAME:EDT
DTSTART:20260308T070000
END:DAYLIGHT
BEGIN:STANDARD
TZOFFSETFROM:-0400
TZOFFSETTO:-0500
TZNAME:EST
DTSTART:20261101T060000
END:STANDARD
BEGIN:DAYLIGHT
TZOFFSETFROM:-0500
TZOFFSETTO:-0400
TZNAME:EDT
DTSTART:20270314T070000
END:DAYLIGHT
BEGIN:STANDARD
TZOFFSETFROM:-0400
TZOFFSETTO:-0500
TZNAME:EST
DTSTART:20271107T060000
END:STANDARD
END:VTIMEZONE
BEGIN:VEVENT
DTSTART;TZID=America/New_York:20260603T090000
DTEND;TZID=America/New_York:20260603T111500
DTSTAMP:20260424T073059
CREATED:20260217T145545Z
LAST-MODIFIED:20260303T151924Z
UID:219678-1780477200-1780485300@vtruralwater.org
SUMMARY:Preventing Heat Illness in the Workplace
DESCRIPTION:Description\nIn this session\, participants will learn what heat illness is\, risk factors\, and simple safety practices to prevent heat illness. Different types of heat-related illnesses will be reviewed. The class will also examine the responsibility and tools that employers have to keep employees safe from heat illness. \nCredit\n2 TCH (Water & Wastewater)\nWater Treatment Category 3\, Distribution Category 1 | Learn more \nInstructor\nMiriam Owens (Vermont Occupational and Health Administration) \nProctor\nElijah Lemieux (Vermont Rural Water Association)
URL:https://vtruralwater.org/event/heat-illness-june3/
LOCATION:Zoom\, Zoom
CATEGORIES:Wastewater Credit,Water Credit,Zoom Training
ATTACH;FMTTYPE=image/png:https://vtruralwater.org/wp-content/uploads/2024/11/swatch2-orange.png
END:VEVENT
END:VCALENDAR