BEGIN:VCALENDAR
VERSION:2.0
PRODID:-//Vermont Rural Water Association - ECPv6.15.20//NONSGML v1.0//EN
CALSCALE:GREGORIAN
METHOD:PUBLISH
X-WR-CALNAME:Vermont Rural Water Association
X-ORIGINAL-URL:https://vtruralwater.org
X-WR-CALDESC:Events for Vermont Rural Water Association
REFRESH-INTERVAL;VALUE=DURATION:PT1H
X-Robots-Tag:noindex
X-PUBLISHED-TTL:PT1H
BEGIN:VTIMEZONE
TZID:America/New_York
BEGIN:DAYLIGHT
TZOFFSETFROM:-0500
TZOFFSETTO:-0400
TZNAME:EDT
DTSTART:20250309T070000
END:DAYLIGHT
BEGIN:STANDARD
TZOFFSETFROM:-0400
TZOFFSETTO:-0500
TZNAME:EST
DTSTART:20251102T060000
END:STANDARD
BEGIN:DAYLIGHT
TZOFFSETFROM:-0500
TZOFFSETTO:-0400
TZNAME:EDT
DTSTART:20260308T070000
END:DAYLIGHT
BEGIN:STANDARD
TZOFFSETFROM:-0400
TZOFFSETTO:-0500
TZNAME:EST
DTSTART:20261101T060000
END:STANDARD
BEGIN:DAYLIGHT
TZOFFSETFROM:-0500
TZOFFSETTO:-0400
TZNAME:EDT
DTSTART:20270314T070000
END:DAYLIGHT
BEGIN:STANDARD
TZOFFSETFROM:-0400
TZOFFSETTO:-0500
TZNAME:EST
DTSTART:20271107T060000
END:STANDARD
END:VTIMEZONE
BEGIN:VEVENT
DTSTART;TZID=America/New_York:20260602T090000
DTEND;TZID=America/New_York:20260602T123000
DTSTAMP:20260424T072935
CREATED:20260216T163351Z
LAST-MODIFIED:20260216T192102Z
UID:219660-1780390800-1780403400@vtruralwater.org
SUMMARY:Wastewater Lift Stations from an Operator's Perspective
DESCRIPTION:Description\nThis comprehensive class was developed from many years of hands-on station experience and is designed for anyone who is tasked with operating\, managing\, or owning wastewater lift stations. This class will cover a range of topics from a functional perspective\, including: what is a lift station\, proper operation/maintenance\, best practices\, operational basics\, troubleshooting\, and upgrading. Examples of standard operating procedures will be provided. This is a guided\, structured presentation intended to pass on the knowledge of seasoned operators to our newer operators and managers. Come ready to participate and share your challenges and successes! \nCredit\n3 TCH (Wastewater) \nInstructor\nRick Chaput (Vergennes WWTF) \nProctor\nWayne Graham (Vermont Rural Water Association)
URL:https://vtruralwater.org/event/lift-stations-june2/
LOCATION:National Life Complex\, Dewey Building\, 1 National Life Drive\, Montpelier\, VT\, 05602\, United States
CATEGORIES:Training,Wastewater Credit
ATTACH;FMTTYPE=image/png:https://vtruralwater.org/wp-content/uploads/2024/11/swatch-blue.png
END:VEVENT
END:VCALENDAR