BEGIN:VCALENDAR
VERSION:2.0
PRODID:-//Vermont Rural Water Association - ECPv6.15.20//NONSGML v1.0//EN
CALSCALE:GREGORIAN
METHOD:PUBLISH
X-ORIGINAL-URL:https://vtruralwater.org
X-WR-CALDESC:Events for Vermont Rural Water Association
REFRESH-INTERVAL;VALUE=DURATION:PT1H
X-Robots-Tag:noindex
X-PUBLISHED-TTL:PT1H
BEGIN:VTIMEZONE
TZID:America/New_York
BEGIN:DAYLIGHT
TZOFFSETFROM:-0500
TZOFFSETTO:-0400
TZNAME:EDT
DTSTART:20250309T070000
END:DAYLIGHT
BEGIN:STANDARD
TZOFFSETFROM:-0400
TZOFFSETTO:-0500
TZNAME:EST
DTSTART:20251102T060000
END:STANDARD
BEGIN:DAYLIGHT
TZOFFSETFROM:-0500
TZOFFSETTO:-0400
TZNAME:EDT
DTSTART:20260308T070000
END:DAYLIGHT
BEGIN:STANDARD
TZOFFSETFROM:-0400
TZOFFSETTO:-0500
TZNAME:EST
DTSTART:20261101T060000
END:STANDARD
BEGIN:DAYLIGHT
TZOFFSETFROM:-0500
TZOFFSETTO:-0400
TZNAME:EDT
DTSTART:20270314T070000
END:DAYLIGHT
BEGIN:STANDARD
TZOFFSETFROM:-0400
TZOFFSETTO:-0500
TZNAME:EST
DTSTART:20271107T060000
END:STANDARD
END:VTIMEZONE
BEGIN:VEVENT
DTSTART;TZID=America/New_York:20260527T090000
DTEND;TZID=America/New_York:20260527T123000
DTSTAMP:20260424T055328
CREATED:20260216T155106Z
LAST-MODIFIED:20260303T151753Z
UID:209476-1779872400-1779885000@vtruralwater.org
SUMMARY:Permit Required Confined Space Entry
DESCRIPTION:Water and wastewater facilities contain many confined spaces which can be dangerous to operators. We will discuss common confined spaces in water and wastewater facilities and the difference between a confined space and a permit-required confined space. This class will build awareness about the safety hazards of a confined space such as atmospheric hazards (hydrogen sulfide\, methane); mechanical hazards; and blood-borne pathogens that are a concern for wastewater collection system workers. You will learn about the proper protective equipment\, procedures for entry into a permit-required confined space\, the need for a rescue plan\, and how to rescue a co-worker if the situation arises. OSHA CFR 1910.146 \nCredit\n3 TCH (Water & Wastewater)\nWater Treatment Category 3\, Distribution Category 1 | Learn more \nInstructor\nPaula Jackson (Vermont Rural Water Association)
URL:https://vtruralwater.org/event/prcse-may27/
LOCATION:Zoom\, Zoom
CATEGORIES:Wastewater Credit,Water Credit,Zoom Training
ATTACH;FMTTYPE=image/png:https://vtruralwater.org/wp-content/uploads/2024/11/swatch2-orange.png
END:VEVENT
BEGIN:VEVENT
DTSTART;TZID=America/New_York:20260527T090000
DTEND;TZID=America/New_York:20260527T123000
DTSTAMP:20260424T055328
CREATED:20260216T155632Z
LAST-MODIFIED:20260216T155632Z
UID:219596-1779872400-1779885000@vtruralwater.org
SUMMARY:Model Sewer Use Ordinance (SUO) and Fats\, Oils\, and Grease (FOG) Guidance
DESCRIPTION:Description\nThis will be a two-part class that reviews Sewer Use Ordinances (SUO) and Fats\, Oils and Grease (FOG). The first part of this training will address Sewer Use Ordinances (SUO) by discussing the format and requirements that should be included in a strong SUO and providing example conditions and language to consider when updating your ordinance. Randy Bean has developed a model SUO that wastewater systems and municipalities can use as a template for developing their own ordinance. This template will be shared during class. \nThe second part of the training will present information on Fats\, Oils and Grease (FOG). This will include information on best management practices for FOG control\, sizing of interceptors\, the generation of FOG by various users\, inspections and maintenance of interceptors\, and methods to control the discharge of FOG into your collection system. \nCredit\n3 TCH (Wastewater) \nInstructor\nRandy Bean \nProctor\nWayne Graham (Vermont Rural Water Association)
URL:https://vtruralwater.org/event/suo-fog-may27/
LOCATION:Vermont Rural Water Association\, 20 Susie Wilson Rd\, Essex Junction\, VT\, 05452\, United States
CATEGORIES:Training,Wastewater Credit
ATTACH;FMTTYPE=image/png:https://vtruralwater.org/wp-content/uploads/2024/11/swatch-green.png
END:VEVENT
END:VCALENDAR