BEGIN:VCALENDAR
VERSION:2.0
PRODID:-//Vermont Rural Water Association - ECPv6.15.20//NONSGML v1.0//EN
CALSCALE:GREGORIAN
METHOD:PUBLISH
X-ORIGINAL-URL:https://vtruralwater.org
X-WR-CALDESC:Events for Vermont Rural Water Association
REFRESH-INTERVAL;VALUE=DURATION:PT1H
X-Robots-Tag:noindex
X-PUBLISHED-TTL:PT1H
BEGIN:VTIMEZONE
TZID:America/New_York
BEGIN:DAYLIGHT
TZOFFSETFROM:-0500
TZOFFSETTO:-0400
TZNAME:EDT
DTSTART:20250309T070000
END:DAYLIGHT
BEGIN:STANDARD
TZOFFSETFROM:-0400
TZOFFSETTO:-0500
TZNAME:EST
DTSTART:20251102T060000
END:STANDARD
BEGIN:DAYLIGHT
TZOFFSETFROM:-0500
TZOFFSETTO:-0400
TZNAME:EDT
DTSTART:20260308T070000
END:DAYLIGHT
BEGIN:STANDARD
TZOFFSETFROM:-0400
TZOFFSETTO:-0500
TZNAME:EST
DTSTART:20261101T060000
END:STANDARD
BEGIN:DAYLIGHT
TZOFFSETFROM:-0500
TZOFFSETTO:-0400
TZNAME:EDT
DTSTART:20270314T070000
END:DAYLIGHT
BEGIN:STANDARD
TZOFFSETFROM:-0400
TZOFFSETTO:-0500
TZNAME:EST
DTSTART:20271107T060000
END:STANDARD
END:VTIMEZONE
BEGIN:VEVENT
DTSTART;TZID=America/New_York:20260519T090000
DTEND;TZID=America/New_York:20260519T123000
DTSTAMP:20260424T055329
CREATED:20260216T153631Z
LAST-MODIFIED:20260303T151523Z
UID:209400-1779181200-1779193800@vtruralwater.org
SUMMARY:Personal Protective Equipment\, Ladder\, and Electrical Safety
DESCRIPTION:Description\nThis class will cover several safety considerations for water and wastewater personnel. First\, we will look at new and improved personal protective equipment (PPE). Falls are the second highest cause of workplace fatality across the nation\, so we will discuss ladder safety at home and in the workplace. Water and wastewater operators work on and around electrical equipment at their facilities. This class focuses on the electrical safety measures that should be in place at your facility. \nCredit\n3 TCH (Water & Wastewater)\nWater Treatment Category 3\, Distribution Category 1 | Learn more \nInstructor\nPaula Jackson (Vermont Rural Water Association)
URL:https://vtruralwater.org/event/ppe-safety-may19/
LOCATION:Zoom\, Zoom
CATEGORIES:Wastewater Credit,Water Credit,Zoom Training
ATTACH;FMTTYPE=image/png:https://vtruralwater.org/wp-content/uploads/2024/11/swatch-green.png
END:VEVENT
END:VCALENDAR