BEGIN:VCALENDAR
VERSION:2.0
PRODID:-//Vermont Rural Water Association - ECPv6.15.20//NONSGML v1.0//EN
CALSCALE:GREGORIAN
METHOD:PUBLISH
X-ORIGINAL-URL:https://vtruralwater.org
X-WR-CALDESC:Events for Vermont Rural Water Association
REFRESH-INTERVAL;VALUE=DURATION:PT1H
X-Robots-Tag:noindex
X-PUBLISHED-TTL:PT1H
BEGIN:VTIMEZONE
TZID:America/New_York
BEGIN:DAYLIGHT
TZOFFSETFROM:-0500
TZOFFSETTO:-0400
TZNAME:EDT
DTSTART:20250309T070000
END:DAYLIGHT
BEGIN:STANDARD
TZOFFSETFROM:-0400
TZOFFSETTO:-0500
TZNAME:EST
DTSTART:20251102T060000
END:STANDARD
BEGIN:DAYLIGHT
TZOFFSETFROM:-0500
TZOFFSETTO:-0400
TZNAME:EDT
DTSTART:20260308T070000
END:DAYLIGHT
BEGIN:STANDARD
TZOFFSETFROM:-0400
TZOFFSETTO:-0500
TZNAME:EST
DTSTART:20261101T060000
END:STANDARD
BEGIN:DAYLIGHT
TZOFFSETFROM:-0500
TZOFFSETTO:-0400
TZNAME:EDT
DTSTART:20270314T070000
END:DAYLIGHT
BEGIN:STANDARD
TZOFFSETFROM:-0400
TZOFFSETTO:-0500
TZNAME:EST
DTSTART:20271107T060000
END:STANDARD
END:VTIMEZONE
BEGIN:VEVENT
DTSTART;TZID=America/New_York:20260513T120000
DTEND;TZID=America/New_York:20260514T150000
DTSTAMP:20260424T055327
CREATED:20260114T195510Z
LAST-MODIFIED:20260330T160415Z
UID:156445-1778673600-1778770800@vtruralwater.org
SUMMARY:2026 Conference Sponsorship
DESCRIPTION:Your sponsorship helps keep the conference affordable for attendees and supports the work of Vermont Rural Water. Sponsorships are first-come\, first-served\, so don’t wait to reserve the level you want! \nBronze Sponsor – $150 \n\nSign posted on the golf course announcing your sponsorship of a Golf Tournament tee box\nAdvertisement (2.5″ x 3.5″) in the conference program\nSponsorship acknowledgment on the conference schedule\n\nSilver Sponsor – $550 \n\nAll benefits of Bronze Sponsorship\nLogo on conference page of our website\nLogo on sign posted by snack table\nLogo on sign posted at entrance to the trade show\n\nGold Sponsor – $1\,000 \n\nAll benefits of Silver Sponsorship\nLogo on conference email announcements\nLogo on sign posted in the dining room announcing your sponsorship of the luncheon\nSponsorship announcement during the luncheon\nOne-page flyer (provided by you) in all attendee packets\n\nPlease send your logo and program ad to kboyk@vtruralwater.org as soon as possible. \nSponsorship registrations close on May 1. \nSponsored by:
URL:https://vtruralwater.org/event/conference-sponsorship-2026/
LOCATION:Lake Morey Resort\, 82 Clubhouse Rd\, Fairlee\, VT\, United States
CATEGORIES:Conference
END:VEVENT
BEGIN:VEVENT
DTSTART;TZID=America/New_York:20260513T123000
DTEND;TZID=America/New_York:20260513T170000
DTSTAMP:20260424T055327
CREATED:20260115T140410Z
LAST-MODIFIED:20260330T160329Z
UID:157792-1778675400-1778691600@vtruralwater.org
SUMMARY:2026 Golf Tournament
DESCRIPTION:The tournament is a four-person scramble with a shotgun start at 12:30. You can form your own foursome team or register individually and we will match you with others. \nCost\nFor those staying overnight at Lake Morey Resort under the Full Package Rate\, the tournament fee is $90. If you are not staying overnight (or staying under the discounted vendor rate)\, the tournament fee is $125. \nSponsored by:
URL:https://vtruralwater.org/event/golf-tournament-2026/
LOCATION:Lake Morey Country Club\, 179 Clubhouse Rd\, Fairlee\, VT\, United States
CATEGORIES:Conference
END:VEVENT
END:VCALENDAR