BEGIN:VCALENDAR
VERSION:2.0
PRODID:-//Vermont Rural Water Association - ECPv6.15.20//NONSGML v1.0//EN
CALSCALE:GREGORIAN
METHOD:PUBLISH
X-WR-CALNAME:Vermont Rural Water Association
X-ORIGINAL-URL:https://vtruralwater.org
X-WR-CALDESC:Events for Vermont Rural Water Association
REFRESH-INTERVAL;VALUE=DURATION:PT1H
X-Robots-Tag:noindex
X-PUBLISHED-TTL:PT1H
BEGIN:VTIMEZONE
TZID:America/New_York
BEGIN:DAYLIGHT
TZOFFSETFROM:-0500
TZOFFSETTO:-0400
TZNAME:EDT
DTSTART:20250309T070000
END:DAYLIGHT
BEGIN:STANDARD
TZOFFSETFROM:-0400
TZOFFSETTO:-0500
TZNAME:EST
DTSTART:20251102T060000
END:STANDARD
BEGIN:DAYLIGHT
TZOFFSETFROM:-0500
TZOFFSETTO:-0400
TZNAME:EDT
DTSTART:20260308T070000
END:DAYLIGHT
BEGIN:STANDARD
TZOFFSETFROM:-0400
TZOFFSETTO:-0500
TZNAME:EST
DTSTART:20261101T060000
END:STANDARD
BEGIN:DAYLIGHT
TZOFFSETFROM:-0500
TZOFFSETTO:-0400
TZNAME:EDT
DTSTART:20270314T070000
END:DAYLIGHT
BEGIN:STANDARD
TZOFFSETFROM:-0400
TZOFFSETTO:-0500
TZNAME:EST
DTSTART:20271107T060000
END:STANDARD
END:VTIMEZONE
BEGIN:VEVENT
DTSTART;TZID=America/New_York:20260507T084500
DTEND;TZID=America/New_York:20260507T120000
DTSTAMP:20260424T055210
CREATED:20260319T145347Z
LAST-MODIFIED:20260423T150158Z
UID:286617-1778143500-1778155200@vtruralwater.org
SUMMARY:Wastewater Exam
DESCRIPTION:Licensing exams for all levels of Vermont domestic and industrial (dairy\, metal\, paper) pollution abatement facility operators. The exam will be administered on a laptop. \nRegistration closes on April 21. Refunds will not be given for cancellations within two weeks of the exam date. No-shows will be charged the full fee. \nYou do not need to get approval from the Office of Professional Regulations (OPR) before testing. \nWhat to expect: \n\nPlease arrive by 8:45 am. The exam will start promptly at 9 am.\nYou will be provided with a laptop\, mouse\, calculator\, ABC formula sheet\, scratch paper\, pencil\, and earplugs. You may bring your own calculator as long as it is silent and non-programmable without alphabetic keypads or printing capabilities.\nBring a government-issued ID that shows your name and photograph.\nYou will not be allowed to have personal items with you during the exam. Coats\, hats\, and bags should be left in your vehicle or a designated spot outside of the exam room. You will be given a bag to store your cellphone\, wallet\, and keys during the exam. Cellphones/pagers must be silenced or powered off.\nEating\, drinking\, or smoking is not permitted in the exam room.\nYou may take a break whenever you wish\, but you will not be allowed additional time to make up for time lost during breaks. During breaks\, you are permitted to leave the exam room to use the bathroom. However\, you are not permitted to leave the building (including for smoking). Each break cannot exceed 10 minutes.\nResults will be emailed to the email address you provide when you register. By registering for this exam\, you consent to have your results shared with Office of Professional Regulation (OPR)\, the Wastewater Management Program\, and Vermont Rural Water.\n\n			\n				\n					\n					\n					\n				\n				\n					\n					\n					\n				\n				\n				\n				\n				\n				\n				Web-based testing at Vermont Rural Water’s office.
URL:https://vtruralwater.org/event/wastewater-exam-may7am/
LOCATION:Chester Public Safety Building\, 130 Pleasant St\, Chester\, VT\, 05143\, United States
CATEGORIES:Exam
ATTACH;FMTTYPE=image/png:https://vtruralwater.org/wp-content/uploads/2024/11/swatch-blue.png
END:VEVENT
BEGIN:VEVENT
DTSTART;TZID=America/New_York:20260507T090000
DTEND;TZID=America/New_York:20260507T123000
DTSTAMP:20260424T055210
CREATED:20260216T153142Z
LAST-MODIFIED:20260303T151433Z
UID:209387-1778144400-1778157000@vtruralwater.org
SUMMARY:Operation and Maintenance of Groundwater Systems
DESCRIPTION:Description\nGroundwater system operators have many tasks to accomplish to operate and maintain their water systems. We will review administrative tasks such as sampling and monitoring\, consumer confidence reports\, chemical monitoring waivers\, source protection\, operation and maintenance manuals\, monthly operating reports\, operator certification and sanitary surveys. \nOperation and maintenance of groundwater sources is a very important part of providing safe drinking water to consumers. Ensuring sustainability by performing drawdown tests on groundwater wells will help you to know how sustainable your groundwater source is. Operating your disinfection system and understanding the chlorination process is key to providing safe water that consumers find palatable. \nWater distribution systems can often be a contamination vulnerability. Maintenance items such as flushing\, valve exercising\, and hydrant maintenance are of the utmost importance. \nCredit\n3 TCH (Water)\nTreatment Category 2\, Distribution Category 2 | Learn more \nInstructor\nPaula Jackson (Vermont Rural Water Association)
URL:https://vtruralwater.org/event/groundwater-om-may7/
LOCATION:Zoom\, Zoom
CATEGORIES:Water Credit,Zoom Training
ATTACH;FMTTYPE=image/png:https://vtruralwater.org/wp-content/uploads/2024/11/swatch-blue.png
END:VEVENT
BEGIN:VEVENT
DTSTART;TZID=America/New_York:20260507T124500
DTEND;TZID=America/New_York:20260507T160000
DTSTAMP:20260424T055210
CREATED:20260319T150056Z
LAST-MODIFIED:20260423T150350Z
UID:286639-1778157900-1778169600@vtruralwater.org
SUMMARY:Wastewater Exam
DESCRIPTION:Licensing exams for all levels of Vermont domestic and industrial (dairy\, metal\, paper) pollution abatement facility operators. The exam will be administered on a laptop. \nRegistration closes on April 21. Refunds will not be given for cancellations within two weeks of the exam date. No-shows will be charged the full fee. \nYou do not need to get approval from the Office of Professional Regulations (OPR) before testing. \nWhat to expect: \n\nPlease arrive by 12:45 pm. The exam will start promptly at 1 pm.\nYou will be provided with a laptop\, mouse\, calculator\, ABC formula sheet\, scratch paper\, pencil\, and earplugs. You may bring your own calculator as long as it is silent and non-programmable without alphabetic keypads or printing capabilities.\nBring a government-issued ID that shows your name and photograph.\nYou will not be allowed to have personal items with you during the exam. Coats\, hats\, and bags should be left in your vehicle or a designated spot outside of the exam room. You will be given a bag to store your cellphone\, wallet\, and keys during the exam. Cellphones/pagers must be silenced or powered off.\nEating\, drinking\, or smoking is not permitted in the exam room.\nYou may take a break whenever you wish\, but you will not be allowed additional time to make up for time lost during breaks. During breaks\, you are permitted to leave the exam room to use the bathroom. However\, you are not permitted to leave the building (including for smoking). Each break cannot exceed 10 minutes.\nResults will be emailed to the email address you provide when you register. By registering for this exam\, you consent to have your results shared with Office of Professional Regulation (OPR)\, the Wastewater Management Program\, and Vermont Rural Water.\n\n			\n				\n					\n					\n					\n				\n				\n					\n					\n					\n				\n				\n				\n				\n				\n				\n				Web-based testing at Vermont Rural Water’s office.
URL:https://vtruralwater.org/event/wastewater-exam-may7pm/
LOCATION:Chester Public Safety Building\, 130 Pleasant St\, Chester\, VT\, 05143\, United States
CATEGORIES:Exam
ATTACH;FMTTYPE=image/png:https://vtruralwater.org/wp-content/uploads/2024/11/swatch4-yellow.png
END:VEVENT
END:VCALENDAR