BEGIN:VCALENDAR
VERSION:2.0
PRODID:-//Vermont Rural Water Association - ECPv6.15.20//NONSGML v1.0//EN
CALSCALE:GREGORIAN
METHOD:PUBLISH
X-ORIGINAL-URL:https://vtruralwater.org
X-WR-CALDESC:Events for Vermont Rural Water Association
REFRESH-INTERVAL;VALUE=DURATION:PT1H
X-Robots-Tag:noindex
X-PUBLISHED-TTL:PT1H
BEGIN:VTIMEZONE
TZID:America/New_York
BEGIN:DAYLIGHT
TZOFFSETFROM:-0500
TZOFFSETTO:-0400
TZNAME:EDT
DTSTART:20250309T070000
END:DAYLIGHT
BEGIN:STANDARD
TZOFFSETFROM:-0400
TZOFFSETTO:-0500
TZNAME:EST
DTSTART:20251102T060000
END:STANDARD
BEGIN:DAYLIGHT
TZOFFSETFROM:-0500
TZOFFSETTO:-0400
TZNAME:EDT
DTSTART:20260308T070000
END:DAYLIGHT
BEGIN:STANDARD
TZOFFSETFROM:-0400
TZOFFSETTO:-0500
TZNAME:EST
DTSTART:20261101T060000
END:STANDARD
BEGIN:DAYLIGHT
TZOFFSETFROM:-0500
TZOFFSETTO:-0400
TZNAME:EDT
DTSTART:20270314T070000
END:DAYLIGHT
BEGIN:STANDARD
TZOFFSETFROM:-0400
TZOFFSETTO:-0500
TZNAME:EST
DTSTART:20271107T060000
END:STANDARD
END:VTIMEZONE
BEGIN:VEVENT
DTSTART;TZID=America/New_York:20260505T090000
DTEND;TZID=America/New_York:20260505T123000
DTSTAMP:20260424T055255
CREATED:20260216T151910Z
LAST-MODIFIED:20260303T151250Z
UID:201493-1777971600-1777984200@vtruralwater.org
SUMMARY:First Aid\, CPR\, AED
DESCRIPTION:Description\nThis American Heart Association Heartsaver® First Aid Adult & Child CPR AED course is designed for individuals with little or no medical training who need a course completion card for job or regulatory requirements\, such as OSHA\, or for those who simply want to be prepared to respond in an emergency. \nTailored to water and wastewater operators\, the comprehensive Heartsaver® Total course meets regulatory standards. Topics include scene assessment and safety\, medical and injury emergencies\, environmental emergencies\, adult and child CPR\, AED use\, and relief from choking\, with the option to include infant CPR. Upon successful completion\, participants will receive a two-year American Heart Association certification card. \nCredit\n3 TCH (Water & Wastewater)\nWater Treatment Category 3\, Distribution Category 1 | Learn more \nInstructor\nTamara McLaughlin (VT Safety Net) \nProctor\nAllison Smith (Vermont Rural Water Association)
URL:https://vtruralwater.org/event/first-aid-may5/
LOCATION:Courtyard Williston\, 177 Hurricane Ln\, Williston\, VT\, United States
CATEGORIES:Training,Wastewater Credit,Water Credit
ATTACH;FMTTYPE=image/png:https://vtruralwater.org/wp-content/uploads/2024/11/swatch4-yellow.png
END:VEVENT
END:VCALENDAR