BEGIN:VCALENDAR
VERSION:2.0
PRODID:-//Vermont Rural Water Association - ECPv6.15.20//NONSGML v1.0//EN
CALSCALE:GREGORIAN
METHOD:PUBLISH
X-WR-CALNAME:Vermont Rural Water Association
X-ORIGINAL-URL:https://vtruralwater.org
X-WR-CALDESC:Events for Vermont Rural Water Association
REFRESH-INTERVAL;VALUE=DURATION:PT1H
X-Robots-Tag:noindex
X-PUBLISHED-TTL:PT1H
BEGIN:VTIMEZONE
TZID:America/New_York
BEGIN:DAYLIGHT
TZOFFSETFROM:-0500
TZOFFSETTO:-0400
TZNAME:EDT
DTSTART:20250309T070000
END:DAYLIGHT
BEGIN:STANDARD
TZOFFSETFROM:-0400
TZOFFSETTO:-0500
TZNAME:EST
DTSTART:20251102T060000
END:STANDARD
BEGIN:DAYLIGHT
TZOFFSETFROM:-0500
TZOFFSETTO:-0400
TZNAME:EDT
DTSTART:20260308T070000
END:DAYLIGHT
BEGIN:STANDARD
TZOFFSETFROM:-0400
TZOFFSETTO:-0500
TZNAME:EST
DTSTART:20261101T060000
END:STANDARD
BEGIN:DAYLIGHT
TZOFFSETFROM:-0500
TZOFFSETTO:-0400
TZNAME:EDT
DTSTART:20270314T070000
END:DAYLIGHT
BEGIN:STANDARD
TZOFFSETFROM:-0400
TZOFFSETTO:-0500
TZNAME:EST
DTSTART:20271107T060000
END:STANDARD
END:VTIMEZONE
BEGIN:VEVENT
DTSTART;TZID=America/New_York:20260312T080000
DTEND;TZID=America/New_York:20260430T150000
DTSTAMP:20260424T041319
CREATED:20251120T190009Z
LAST-MODIFIED:20260113T143058Z
UID:48732-1773302400-1777561200@vtruralwater.org
SUMMARY:Basic Wastewater Course
DESCRIPTION:Dates & Locations\nThursday\, March 12\nThursday\, March 19\nTuesday\, March 24 – 9 am to 12: 15 pm on Zoom\nThursday\, March 26\nThursday\, April 2\nTuesday\, April 7 – 9 am to 12: 15 pm on Zoom\nThursday\, April 9\nThursday\, April 16\nThursday\, April 23 – 9 am to 3 pm on Zoom\nThursday\, April 30\n8 am to 3 pm unless otherwise noted \nDescription\nThis course will prepare attendees to take the Grades 1\, 2\, or 3 Domestic Wastewater certification exams\, and is a great primer for those taking higher grade exams. Attendees will learn the basic concepts of wastewater treatment from collection system to final disposal of effluents and solids. \nThe course will be taught by Elijah Lemieux and Wayne Graham from the Vermont Rural Water Association\, along with guest presenters to provide expertise on specific topics. \nTextbook\nThe course is based on Operation of Wastewater Treatment Plants (Volume 1\, 8th edition) by the Office of Water Programs. All students are required to have a copy of this book. You can purchase it for $100 when you register. \nCredit\n53 TCH – Wastewater \nCost\n$850 (with textbook)\n$750 (no textbook) \nRegister early! The maximum class size is 20.
URL:https://vtruralwater.org/event/basic-ww-spring2026/
LOCATION:Chester Public Safety Building\, 130 Pleasant St\, Chester\, VT\, 05143\, United States
CATEGORIES:Training,Wastewater Credit
ATTACH;FMTTYPE=image/png:https://vtruralwater.org/wp-content/uploads/2024/11/swatch-green.png
END:VEVENT
BEGIN:VEVENT
DTSTART;TZID=America/New_York:20260428T083000
DTEND;TZID=America/New_York:20260428T130000
DTSTAMP:20260424T041319
CREATED:20260206T200447Z
LAST-MODIFIED:20260303T150826Z
UID:201327-1777365000-1777381200@vtruralwater.org
SUMMARY:Class 3 Practice Exam
DESCRIPTION:Description\nThis course is designed as a short review for the Class 3 water operator certification exam. We will review test-taking skills\, exam questions\, math problems\, and general water system operations. You will have the chance to take a practice exam and go over the answers. \nCredit\n4 TCH (Water)\nTreatment Category 3\, Distribution Category 3 | Learn more \nInstructor\nPaula Jackson (Vermont Rural Water Association)
URL:https://vtruralwater.org/event/class-3-exam-prep-april28/
LOCATION:Vermont Rural Water Association\, 20 Susie Wilson Rd\, Essex Junction\, VT\, 05452\, United States
CATEGORIES:Training,Water Credit
ATTACH;FMTTYPE=image/png:https://vtruralwater.org/wp-content/uploads/2024/11/swatch-blue.png
END:VEVENT
END:VCALENDAR