BEGIN:VCALENDAR
VERSION:2.0
PRODID:-//Vermont Rural Water Association - ECPv6.15.20//NONSGML v1.0//EN
CALSCALE:GREGORIAN
METHOD:PUBLISH
X-WR-CALNAME:Vermont Rural Water Association
X-ORIGINAL-URL:https://vtruralwater.org
X-WR-CALDESC:Events for Vermont Rural Water Association
REFRESH-INTERVAL;VALUE=DURATION:PT1H
X-Robots-Tag:noindex
X-PUBLISHED-TTL:PT1H
BEGIN:VTIMEZONE
TZID:America/New_York
BEGIN:DAYLIGHT
TZOFFSETFROM:-0500
TZOFFSETTO:-0400
TZNAME:EDT
DTSTART:20250309T070000
END:DAYLIGHT
BEGIN:STANDARD
TZOFFSETFROM:-0400
TZOFFSETTO:-0500
TZNAME:EST
DTSTART:20251102T060000
END:STANDARD
BEGIN:DAYLIGHT
TZOFFSETFROM:-0500
TZOFFSETTO:-0400
TZNAME:EDT
DTSTART:20260308T070000
END:DAYLIGHT
BEGIN:STANDARD
TZOFFSETFROM:-0400
TZOFFSETTO:-0500
TZNAME:EST
DTSTART:20261101T060000
END:STANDARD
BEGIN:DAYLIGHT
TZOFFSETFROM:-0500
TZOFFSETTO:-0400
TZNAME:EDT
DTSTART:20270314T070000
END:DAYLIGHT
BEGIN:STANDARD
TZOFFSETFROM:-0400
TZOFFSETTO:-0500
TZNAME:EST
DTSTART:20271107T060000
END:STANDARD
END:VTIMEZONE
BEGIN:VEVENT
DTSTART;TZID=America/New_York:20260310T090000
DTEND;TZID=America/New_York:20260310T123000
DTSTAMP:20260424T061821
CREATED:20251120T183621Z
LAST-MODIFIED:20260303T145019Z
UID:47039-1773133200-1773145800@vtruralwater.org
SUMMARY:PFAS & Water Supply Rule
DESCRIPTION:Description\nMembers of the Drinking Water and Groundwater Protection Division will be going over recent changes to the Vermont Water Supply Rule involving the regulation of per- and polyfluoroalkyl substances (PFAS) that go into effect on January 1\, 2026. This will include discussion on changes to sampling requirements\, the new MCLs\, and how systems achieve and maintain compliance with the regulation. \nCredit\n3 TCH (Water)\nTreatment Category 1\, Distribution Category 1 | Learn more \nInstructor\nBen Montross & DWGPD staff \nProctor\nTim Russo (Vermont Rural Water Association) \nCLASS FULL\nThis class will also be offered on April 21. Register here.
URL:https://vtruralwater.org/event/pfas-mar10/
LOCATION:Zoom\, Zoom
CATEGORIES:Waitlist,Water Credit
ATTACH;FMTTYPE=image/png:https://vtruralwater.org/wp-content/uploads/2024/11/swatch4-yellow.png
END:VEVENT
BEGIN:VEVENT
DTSTART;TZID=America/New_York:20260310T090000
DTEND;TZID=America/New_York:20260423T123000
DTSTAMP:20260424T061821
CREATED:20251120T190641Z
LAST-MODIFIED:20260303T144726Z
UID:48508-1773133200-1776947400@vtruralwater.org
SUMMARY:Class 4 Water Certification Exam Preparation Course
DESCRIPTION:Dates & Locations\nTuesday\, March 10 – 9 am to 12:30 pm on Zoom\nThursday\, March 12 – 9 am to 12:30 pm on Zoom\nTuesday\, March 17 – 9 am to 12:30 pm on Zoom\nThursday\, March 19 – 9 am to 12:30 pm on Zoom\nTuesday\, March 24 – 9 am to 12:30 pm on Zoom\nThursday\, March 26 – 9 am to 12:30 pm on Zoom\nTuesday\, March 31 – 9 am to 12:30 pm on Zoom\nThursday\, April 2 – 8:30 am to 3:30 pm at Essex Police Department (145 Maple St\, Essex Junction)\nThursday\, April 9 – 8:30 am to 3:30 pm at Dewey Conference Room (1 National Life Dr\, Montpelier)\nTuesday\, April 14 – 9 am to 12:30 pm on Zoom\nThursday\, April 16 – 9 am to 12:30 pm on Zoom\nTuesday\, April 21 – 9 am to 12:30 pm on Zoom\nThursday\, April 23 – 8:30 am to 3:30 pm at Hartford Area Technical Center (1 Gifford Rd\, White River Junction) \nDescription\nThis multi-week course is designed for those training to become a Class 4 water treatment operator. All aspects of water operations are covered to prepare you to take the certification exams. You are expected to attend all class sessions. \nTextbooks \nThe following books are required for all students:\nWater Treatment Plant Operation\, Volume 1 (Office of Water Programs\, Sacramento State) – $100\nWater System Operations Water Treatment\, Grade 2 (American Water Works Association) – $86 \nThis book is recommended:\nWater Operator Certification Exam Prep (American Water Works Association) – $106 \nClick the links above to purchase each book. Please purchase by February 24 to allow time for shipping. \nCredit\n48 TCH (Water)\nTreatment Category 1 & 2\, Distribution Category 1 & 2 | Learn more \nInstructor\nPaula Jackson (Vermont Rural Water Association) \nExam \nFind information about the Class 4 Certification Exam at https://dec.vermont.gov/water/drinking-water/public-water-system-operator-certification/public-water-system-operator-exams \nAdditional Classes \nStudents are encouraged to take Basic Math for Water and Wastewater Operators on March 5. Register here.
URL:https://vtruralwater.org/event/class-4-spring2026/
LOCATION:Combined (Zoom & In-Person)\, Zoom & In-Person
CATEGORIES:Water Credit,Zoom Training
ATTACH;FMTTYPE=image/png:https://vtruralwater.org/wp-content/uploads/2024/11/swatch-blue.png
END:VEVENT
END:VCALENDAR