BEGIN:VCALENDAR
VERSION:2.0
PRODID:-//Vermont Rural Water Association - ECPv6.15.20//NONSGML v1.0//EN
CALSCALE:GREGORIAN
METHOD:PUBLISH
X-WR-CALNAME:Vermont Rural Water Association
X-ORIGINAL-URL:https://vtruralwater.org
X-WR-CALDESC:Events for Vermont Rural Water Association
REFRESH-INTERVAL;VALUE=DURATION:PT1H
X-Robots-Tag:noindex
X-PUBLISHED-TTL:PT1H
BEGIN:VTIMEZONE
TZID:America/New_York
BEGIN:DAYLIGHT
TZOFFSETFROM:-0500
TZOFFSETTO:-0400
TZNAME:EDT
DTSTART:20250309T070000
END:DAYLIGHT
BEGIN:STANDARD
TZOFFSETFROM:-0400
TZOFFSETTO:-0500
TZNAME:EST
DTSTART:20251102T060000
END:STANDARD
BEGIN:DAYLIGHT
TZOFFSETFROM:-0500
TZOFFSETTO:-0400
TZNAME:EDT
DTSTART:20260308T070000
END:DAYLIGHT
BEGIN:STANDARD
TZOFFSETFROM:-0400
TZOFFSETTO:-0500
TZNAME:EST
DTSTART:20261101T060000
END:STANDARD
BEGIN:DAYLIGHT
TZOFFSETFROM:-0500
TZOFFSETTO:-0400
TZNAME:EDT
DTSTART:20270314T070000
END:DAYLIGHT
BEGIN:STANDARD
TZOFFSETFROM:-0400
TZOFFSETTO:-0500
TZNAME:EST
DTSTART:20271107T060000
END:STANDARD
END:VTIMEZONE
BEGIN:VEVENT
DTSTART;TZID=America/New_York:20260205T090000
DTEND;TZID=America/New_York:20260205T123000
DTSTAMP:20260424T083333
CREATED:20251119T185840Z
LAST-MODIFIED:20251119T190110Z
UID:46882-1770282000-1770294600@vtruralwater.org
SUMMARY:Updating Your Source Protection Plan
DESCRIPTION:Class Description \nJoin staff from the State of Vermont Drinking Water and Groundwater Protection Division and Vermont Rural Water Association to learn the why and how of developing a Source Protection Plan and plan updates. This training focuses on developing the basic plan components required under the VT Water Supply Rule and the tools and resources available to help prepare your water system’s Source Protection Plan or Source Protection Plan Update. An introduction to the ANR Natural Resources Atlas mapping tool and the Department of Environmental Conservation Searchable Databases are provided. Participants are shown how to use the ANR NR Atlas to create maps for use in the plan document and for landowner notifications as well as performing a search for records related to potential sources of contamination and well completion reports. \nClass Credit\n3 TCH (Water) \nInstructor\nLaura Ranker (VT Drinking Water and Groundwater Protection Division)\nBrad Roy (Vermont Rural Water Association) \nProctor\nTim Russo (Vermont Rural Water Association) \nLocation\nThe class will be located on the second floor of the Davis Building in the Catamount Conference Room (D215).
URL:https://vtruralwater.org/event/source-protection-plan-feb5/
LOCATION:National Life Complex\, Davis Buildling\, 1 National Life Dr\, Montpelier\, VT\, 05602\, United States
CATEGORIES:Training,Water Credit
ATTACH;FMTTYPE=image/png:https://vtruralwater.org/wp-content/uploads/2024/11/swatch2-orange.png
END:VEVENT
END:VCALENDAR