BEGIN:VCALENDAR
VERSION:2.0
PRODID:-//Vermont Rural Water Association - ECPv6.15.20//NONSGML v1.0//EN
CALSCALE:GREGORIAN
METHOD:PUBLISH
X-ORIGINAL-URL:https://vtruralwater.org
X-WR-CALDESC:Events for Vermont Rural Water Association
REFRESH-INTERVAL;VALUE=DURATION:PT1H
X-Robots-Tag:noindex
X-PUBLISHED-TTL:PT1H
BEGIN:VTIMEZONE
TZID:America/New_York
BEGIN:DAYLIGHT
TZOFFSETFROM:-0500
TZOFFSETTO:-0400
TZNAME:EDT
DTSTART:20240310T070000
END:DAYLIGHT
BEGIN:STANDARD
TZOFFSETFROM:-0400
TZOFFSETTO:-0500
TZNAME:EST
DTSTART:20241103T060000
END:STANDARD
BEGIN:DAYLIGHT
TZOFFSETFROM:-0500
TZOFFSETTO:-0400
TZNAME:EDT
DTSTART:20250309T070000
END:DAYLIGHT
BEGIN:STANDARD
TZOFFSETFROM:-0400
TZOFFSETTO:-0500
TZNAME:EST
DTSTART:20251102T060000
END:STANDARD
BEGIN:DAYLIGHT
TZOFFSETFROM:-0500
TZOFFSETTO:-0400
TZNAME:EDT
DTSTART:20260308T070000
END:DAYLIGHT
BEGIN:STANDARD
TZOFFSETFROM:-0400
TZOFFSETTO:-0500
TZNAME:EST
DTSTART:20261101T060000
END:STANDARD
END:VTIMEZONE
BEGIN:VEVENT
DTSTART;TZID=America/New_York:20250925T080000
DTEND;TZID=America/New_York:20251105T150000
DTSTAMP:20260424T134036
CREATED:20250528T171129Z
LAST-MODIFIED:20250821T175236Z
UID:20444-1758787200-1762354800@vtruralwater.org
SUMMARY:Basic Wastewater Course
DESCRIPTION:Dates\nThursday\, September 25\nThursday\, October 2\nThursday\, October 9\nWednesday\, October 15 – on Zoom (beginning at 9 am)\nThursday\, October 16\nThursday\, October 23\nThursday\, October 30\nWednesday\, November 5\n8 am to 3 pm each day (except October 15) \nDescription\nThis eight-session course will prepare attendees to take the Grades 1\, 2\, or 3 Domestic Wastewater certification exams\, and is a great primer for those taking higher grade exams. Attendees will learn the basic concepts of wastewater treatment from collection system to final disposal of effluents and solids. \nThe course will be taught by Elijah Lemieux and Wayne Graham from the Vermont Rural Water Association\, along with guest presenters to provide expertise on specific topics. \nTextbook\nThe course is based on Operation of Wastewater Treatment Plants (Volume 1\, 8th edition) by the Office of Water Programs. All students are required to have a copy of this book. You can purchase it for $100 when you register for this class. \nCredit\n47 TCH – Wastewater \nCost\n$800 (with textbook)\n$700 (no textbook) \nRegister early! The maximum class size is 20.
URL:https://vtruralwater.org/event/basic-wastewater-fall-2025/
LOCATION:National Life Complex\, Dewey Building\, 1 National Life Drive\, Montpelier\, VT\, 05602\, United States
CATEGORIES:Waitlist,Wastewater Credit
ATTACH;FMTTYPE=image/png:https://vtruralwater.org/wp-content/uploads/2024/11/swatch-green.png
END:VEVENT
BEGIN:VEVENT
DTSTART;TZID=America/New_York:20251030T083000
DTEND;TZID=America/New_York:20251030T130000
DTSTAMP:20260424T134036
CREATED:20250808T174457Z
LAST-MODIFIED:20250813T190124Z
UID:20988-1761813000-1761829200@vtruralwater.org
SUMMARY:Class 4 Exam Preparation
DESCRIPTION:Description\nThis course is designed as a short review for the Class 4 water operator certification exam. We will review test-taking skills\, exam questions\, math problems\, and general water system operations. You will have the chance to take a practice exam and go over the answers. \nCredit\n4 TCH (Water) \nInstructor\nPaula Jackson (Vermont Rural Water Association)
URL:https://vtruralwater.org/event/class-4-exam-prep-10-30/
LOCATION:Vermont Rural Water Association\, 20 Susie Wilson Rd\, Essex Junction\, VT\, 05452\, United States
CATEGORIES:Training,Water Credit
ATTACH;FMTTYPE=image/png:https://vtruralwater.org/wp-content/uploads/2024/11/swatch-blue.png
END:VEVENT
BEGIN:VEVENT
DTSTART;TZID=America/New_York:20251030T090000
DTEND;TZID=America/New_York:20251030T123000
DTSTAMP:20260424T134036
CREATED:20250922T153541Z
LAST-MODIFIED:20251028T163244Z
UID:21591-1761814800-1761827400@vtruralwater.org
SUMMARY:TNC Operations
DESCRIPTION:Description\nThis course is designed for Transient Non-Community (TNC) Water System Operators. No matter what your experience as a water system operator\, this course will help you better manage your system. The course will review the following topics: disinfecting your water system (UV and chlorine)\, sampling procedure and sampling schedules\, sanitary survey review\, common water system deficiencies\, rules and regulations (current and upcoming rules)\, discussion of seasonal operations\, basic site investigations. \nFor Class 1B operators\, this course will fulfill the requirement to obtain 3 continuing education credits prior to renewal of your certification. \nCredit\n3 TCH (Water) \nInstructor\nMeredith Maskell (VT Drinking Water and Groundwater Protection Division) \nProctor\nTim Russo (Vermont Rural Water Association) \nPOSTPONED\nThis class has been rescheduled to November 20. Find information and register here. (If you were previously registered for October 30\, your registration was automatically transferred to November 20.)
URL:https://vtruralwater.org/event/tnc-operations-10-30/
LOCATION:Zoom\, Zoom
CATEGORIES:Water Credit,Zoom Training
ATTACH;FMTTYPE=image/png:https://vtruralwater.org/wp-content/uploads/2024/11/swatch4-yellow.png
END:VEVENT
END:VCALENDAR