BEGIN:VCALENDAR
VERSION:2.0
PRODID:-//Vermont Rural Water Association - ECPv6.15.20//NONSGML v1.0//EN
CALSCALE:GREGORIAN
METHOD:PUBLISH
X-ORIGINAL-URL:https://vtruralwater.org
X-WR-CALDESC:Events for Vermont Rural Water Association
REFRESH-INTERVAL;VALUE=DURATION:PT1H
X-Robots-Tag:noindex
X-PUBLISHED-TTL:PT1H
BEGIN:VTIMEZONE
TZID:America/New_York
BEGIN:DAYLIGHT
TZOFFSETFROM:-0500
TZOFFSETTO:-0400
TZNAME:EDT
DTSTART:20240310T070000
END:DAYLIGHT
BEGIN:STANDARD
TZOFFSETFROM:-0400
TZOFFSETTO:-0500
TZNAME:EST
DTSTART:20241103T060000
END:STANDARD
BEGIN:DAYLIGHT
TZOFFSETFROM:-0500
TZOFFSETTO:-0400
TZNAME:EDT
DTSTART:20250309T070000
END:DAYLIGHT
BEGIN:STANDARD
TZOFFSETFROM:-0400
TZOFFSETTO:-0500
TZNAME:EST
DTSTART:20251102T060000
END:STANDARD
BEGIN:DAYLIGHT
TZOFFSETFROM:-0500
TZOFFSETTO:-0400
TZNAME:EDT
DTSTART:20260308T070000
END:DAYLIGHT
BEGIN:STANDARD
TZOFFSETFROM:-0400
TZOFFSETTO:-0500
TZNAME:EST
DTSTART:20261101T060000
END:STANDARD
END:VTIMEZONE
BEGIN:VEVENT
DTSTART;TZID=America/New_York:20250903T083000
DTEND;TZID=America/New_York:20251028T153000
DTSTAMP:20260424T172708
CREATED:20250527T191445Z
LAST-MODIFIED:20250826T173024Z
UID:20399-1756888200-1761665400@vtruralwater.org
SUMMARY:Class 4 Water Treatment Course
DESCRIPTION:Dates \nWednesday\, September 3\nTuesday\, September 9\nWednesday\, September 24\nTuesday\, September 30\nTuesday\, October 7\nTuesday\, October 14 (on Zoom)\nTuesday\, October 21\nTuesday\, October 28\n8:30 am to 3:30 pm each day \nDescription\nThis multi-week course is designed for those training to become a Class 4 water treatment operator. All aspects of water operations are covered to prepare you to take the certification exams. You are expected to attend all class sessions. \nTextbooks \nThe following books are required for all students:\nWater Treatment Plant Operation\, Volume 1 (Office of Water Programs\, Sacramento State) – $100\nWater System Operations Water Treatment\, Grade 2 (American Water Works Association) – $86\n \nThis book is recommended:\nWater Operator Certification Exam Prep (American Water Works Association) – $106 \nBooks can be purchased along with your registration and will be distributed on the first day of class. \nCredit\n48 TCH (Water) \nInstructor\nPaula Jackson (Vermont Rural Water Association) \nExam \nFind information about the Class 4 Certification Exam at https://dec.vermont.gov/water/drinking-water/public-water-system-operator-certification/public-water-system-operator-exams
URL:https://vtruralwater.org/event/class-4-fall-2025/
LOCATION:National Life Complex\, Dewey Building\, 1 National Life Drive\, Montpelier\, VT\, 05602\, United States
CATEGORIES:Training,Water Credit
ATTACH;FMTTYPE=image/png:https://vtruralwater.org/wp-content/uploads/2024/11/swatch-blue.png
END:VEVENT
BEGIN:VEVENT
DTSTART;TZID=America/New_York:20250904T083000
DTEND;TZID=America/New_York:20251016T153000
DTSTAMP:20260424T172708
CREATED:20250527T193855Z
LAST-MODIFIED:20250826T172957Z
UID:20405-1756974600-1760628600@vtruralwater.org
SUMMARY:Water Distribution Course
DESCRIPTION:Dates \nThursday\, September 4\nThursday\, September 11\nThursday\, September 25\nFriday\, October 3 (at Dewey Conference Room\, 1 National Life Drive\, Montpelier)\nThursday\, October 9\nThursday\, October 14 (on Zoom)\n8:30 am to 3:30 pm each day \nDescription\nThis multi-week course is designed for those preparing to take the Distribution (Class D) Certification Exam. Topics will include all aspects of distribution systems\, as well as hydraulics\, water chemistry\, water mathematics\, and sampling procedures. You are expected to attend all class sessions. \nTextbooks \nThe following books are required for all students:\nWater Distribution System Operation and Maintenance (Office of Water Programs\, Sacramento State) – $100\nWater System Operations Water Distribution\, Grades 1 & 2 (American Water Works Association) – $96 \nThis book is recommended:\nWater Operator Certification Exam Prep (American Water Works Association) – $106 \nBooks can be purchased along with your registration and will be distributed on the first day of class. \nCredit\n36 TCH (Water) \nInstructor\nPaula Jackson (Vermont Rural Water Association) \nExam \nFind information about the Distribution Certification Exam at https://dec.vermont.gov/water/drinking-water/public-water-system-operator-certification/public-water-system-operator-exams
URL:https://vtruralwater.org/event/distribution-course-fall-2025/
LOCATION:Waterbury Municipal Center\, Community Room\, 28 N Main St\, Waterbury\, VT\, 05676\, United States
CATEGORIES:Training,Water Credit
ATTACH;FMTTYPE=image/png:https://vtruralwater.org/wp-content/uploads/2024/11/swatch2-orange.png
END:VEVENT
BEGIN:VEVENT
DTSTART;TZID=America/New_York:20250923T090000
DTEND;TZID=America/New_York:20250923T123000
DTSTAMP:20260424T172708
CREATED:20250528T173419Z
LAST-MODIFIED:20250618T164339Z
UID:20447-1758618000-1758630600@vtruralwater.org
SUMMARY:De-escalating High Intensity Situations
DESCRIPTION:Description\nVerbal de-escalation training is a valuable skillset that equips individuals with effective communication tools to navigate tense and potentially volatile situations. Mourning Fox’s training is dynamic and engaging\, no matter if this is a new topic for a participant or a well-seasoned clinician. He focuses on preventing violence through assessment and verbal interactions. Participants in this training gain skills and knowledge to help them to better identify who is at risk of becoming violent or aggressive\, and what the behavioral signs are that someone may be potentially assaultive. Participants learn skills and techniques that can help to de-escalate high intensity situations verbally. In addition\, he presents methods for improving staff communication around and during a crisis as well as the importance of documentation language. The role of respect as a protective factor is discussed throughout the training as well as some basic brain science that can impact our attempts at de-escalating a situation. \nMourning Fox uses information he has gained over the years as a Crisis Prevention Institute trainer\, a Non-Abusive Physical and Psychological Intervention trainer\, and as a Mental Health First Aid trainer combined with information he gained as a trained crisis negotiator working with law enforcement. This training ultimately aims to promote conflict resolution through dialogue\, creating safer and more harmonious interactions in various settings. \nCredit\n3 TCH (Water & Wastewater) \nInstructor\nMourning Fox (Caldera Associates\, LLC) \nProctor\nAllison Smith (Vermont Rural Water Association)
URL:https://vtruralwater.org/event/deescalation-9-23/
LOCATION:Essex Police Department\, 145 Maple Street\, Essex Junction\, VT\, 05452\, United States
CATEGORIES:Training,Wastewater Credit,Water Credit
ATTACH;FMTTYPE=image/png:https://vtruralwater.org/wp-content/uploads/2024/11/swatch-blue.png
END:VEVENT
END:VCALENDAR