BEGIN:VCALENDAR
VERSION:2.0
PRODID:-//Vermont Rural Water Association - ECPv6.15.20//NONSGML v1.0//EN
CALSCALE:GREGORIAN
METHOD:PUBLISH
X-ORIGINAL-URL:https://vtruralwater.org
X-WR-CALDESC:Events for Vermont Rural Water Association
REFRESH-INTERVAL;VALUE=DURATION:PT1H
X-Robots-Tag:noindex
X-PUBLISHED-TTL:PT1H
BEGIN:VTIMEZONE
TZID:America/New_York
BEGIN:DAYLIGHT
TZOFFSETFROM:-0500
TZOFFSETTO:-0400
TZNAME:EDT
DTSTART:20240310T070000
END:DAYLIGHT
BEGIN:STANDARD
TZOFFSETFROM:-0400
TZOFFSETTO:-0500
TZNAME:EST
DTSTART:20241103T060000
END:STANDARD
BEGIN:DAYLIGHT
TZOFFSETFROM:-0500
TZOFFSETTO:-0400
TZNAME:EDT
DTSTART:20250309T070000
END:DAYLIGHT
BEGIN:STANDARD
TZOFFSETFROM:-0400
TZOFFSETTO:-0500
TZNAME:EST
DTSTART:20251102T060000
END:STANDARD
BEGIN:DAYLIGHT
TZOFFSETFROM:-0500
TZOFFSETTO:-0400
TZNAME:EDT
DTSTART:20260308T070000
END:DAYLIGHT
BEGIN:STANDARD
TZOFFSETFROM:-0400
TZOFFSETTO:-0500
TZNAME:EST
DTSTART:20261101T060000
END:STANDARD
END:VTIMEZONE
BEGIN:VEVENT
DTSTART;TZID=America/New_York:20250806T090000
DTEND;TZID=America/New_York:20250806T123000
DTSTAMP:20260424T195649
CREATED:20250527T180436Z
LAST-MODIFIED:20250805T161747Z
UID:20386-1754470800-1754483400@vtruralwater.org
SUMMARY:Hydrants\, Valves\, and Taps
DESCRIPTION:Description\nThis course will begin with a hands-on overview of hydrant and valve maintenance. The class will also discuss taps and meters\, as well as maintenance\, installation\, and new technologies in the industry. The class is located at EJP’s South Burlington office and will utilize actual equipment and components to give participants an opportunity to practice disassembling and assembling hydrants and their components. \nCredit\n3 TCH (Water) \nInstructors\nBrian Burns (Champlain Water District) and Rob McClaren (EJ Prescott) \nProctor\nAllison Smith (Vermont Rural Water Association)
URL:https://vtruralwater.org/event/hydrants-valves-taps-8-6/
LOCATION:EJ Prescott – South Burlington\, 1235 Airport Pkwy\, South Burlington\, VT\, 05403\, United States
CATEGORIES:Training,Water Credit
ATTACH;FMTTYPE=image/png:https://vtruralwater.org/wp-content/uploads/2023/09/color-swatches-04.png
END:VEVENT
END:VCALENDAR