BEGIN:VCALENDAR
VERSION:2.0
PRODID:-//Vermont Rural Water Association - ECPv6.15.20//NONSGML v1.0//EN
CALSCALE:GREGORIAN
METHOD:PUBLISH
X-ORIGINAL-URL:https://vtruralwater.org
X-WR-CALDESC:Events for Vermont Rural Water Association
REFRESH-INTERVAL;VALUE=DURATION:PT1H
X-Robots-Tag:noindex
X-PUBLISHED-TTL:PT1H
BEGIN:VTIMEZONE
TZID:America/New_York
BEGIN:DAYLIGHT
TZOFFSETFROM:-0500
TZOFFSETTO:-0400
TZNAME:EDT
DTSTART:20240310T070000
END:DAYLIGHT
BEGIN:STANDARD
TZOFFSETFROM:-0400
TZOFFSETTO:-0500
TZNAME:EST
DTSTART:20241103T060000
END:STANDARD
BEGIN:DAYLIGHT
TZOFFSETFROM:-0500
TZOFFSETTO:-0400
TZNAME:EDT
DTSTART:20250309T070000
END:DAYLIGHT
BEGIN:STANDARD
TZOFFSETFROM:-0400
TZOFFSETTO:-0500
TZNAME:EST
DTSTART:20251102T060000
END:STANDARD
BEGIN:DAYLIGHT
TZOFFSETFROM:-0500
TZOFFSETTO:-0400
TZNAME:EDT
DTSTART:20260308T070000
END:DAYLIGHT
BEGIN:STANDARD
TZOFFSETFROM:-0400
TZOFFSETTO:-0500
TZNAME:EST
DTSTART:20261101T060000
END:STANDARD
END:VTIMEZONE
BEGIN:VEVENT
DTSTART;TZID=America/New_York:20250529T090000
DTEND;TZID=America/New_York:20250529T123000
DTSTAMP:20260424T225624
CREATED:20250220T185623Z
LAST-MODIFIED:20250220T185623Z
UID:18618-1748509200-1748521800@vtruralwater.org
SUMMARY:Operation and Maintenance of Distribution Systems
DESCRIPTION:Description\nGroundwater system operators have many tasks to accomplish to operate and maintain their water systems. We will review administrative tasks such as sampling and monitoring\, consumer confidence reports\, chemical monitoring waivers\, source protection\, operation and maintenance manuals\, monthly operating reports\, operator certification and sanitary surveys. \nOperation and maintenance of groundwater sources is a very important part of providing safe drinking water to consumers. Ensuring sustainability by performing drawdown tests on groundwater wells will help you to know how sustainable your groundwater source is. Operating your disinfection system and understanding the chlorination process is key to providing safe water that consumers find palatable. \nWater distribution systems can often be a contamination vulnerability. Maintenance items such as flushing\, valve exercising\, and hydrant maintenance are of the utmost importance. \nCredit\n3 TCH (Water) \nInstructor\nPaula Jackson (Vermont Rural Water Association)
URL:https://vtruralwater.org/event/o-m-distribution-5-29/
LOCATION:Brattleboro Fire Department\, 103 Elliot St\, Brattleboro\, VT\, 05301\, United States
CATEGORIES:Training,Water Credit
ATTACH;FMTTYPE=image/png:https://vtruralwater.org/wp-content/uploads/2024/11/swatch-blue.png
END:VEVENT
BEGIN:VEVENT
DTSTART;TZID=America/New_York:20250529T090000
DTEND;TZID=America/New_York:20250529T150000
DTSTAMP:20260424T225624
CREATED:20250220T170309Z
LAST-MODIFIED:20250220T190358Z
UID:18584-1748509200-1748530800@vtruralwater.org
SUMMARY:Advanced WW Series: Real Control of the Activated Sludge Process
DESCRIPTION:Description\nThis class will discuss the science and math behind the three principles guiding the control of the activated sludge process: (1) give the mixed liquor just the air it needs\, where it needs it\, when it needs it; (2) identify and maintain the minimum SRT TARGET that meets the effluent ammonia requirement and gives the best sludge quality; and (3) maintain the lowest RAS flow possible without overloading the secondary clarifier. \nCredit\n5 TCH (Wastewater) \nInstructor\nEric Wahlberg (Wastewater Technology Trainers) \nProctor\nWayne Graham (Vermont Rural Water Association) \nAdvanced Wastewater Treatment Series \nThis class is part of the Advanced Wastewater Treatment Series. Classes in this series are intended for experienced wastewater operators. It is recommended that you have attended the Basic Wastewater Course\, passed a wastewater certification exam\, and/or worked a number of years at a wastewater treatment facility before taking these advanced classes. \nThese classes are designed for operators who are looking to enhance their understanding of wastewater treatment; preparing for a Grade 3\, 4\, or 5 wastewater exam; or seeking a management position at a wastewater treatment facility. There is no formal enrollment in the Advanced Wastewater Treatment Series—just sign up for each class you want to take. These classes will have “Advanced WW Series” in the title. Find more information here.
URL:https://vtruralwater.org/event/activated-sludge-5-29/
LOCATION:National Life Complex\, Dewey Building\, 1 National Life Drive\, Montpelier\, VT\, 05602\, United States
CATEGORIES:Training,Wastewater Credit
ATTACH;FMTTYPE=image/png:https://vtruralwater.org/wp-content/uploads/2024/11/swatch4-yellow.png
END:VEVENT
BEGIN:VEVENT
DTSTART;TZID=America/New_York:20250529T130000
DTEND;TZID=America/New_York:20250529T150000
DTSTAMP:20260424T225624
CREATED:20250226T140900Z
LAST-MODIFIED:20250226T140900Z
UID:18745-1748523600-1748530800@vtruralwater.org
SUMMARY:Lake Champlain Live
DESCRIPTION:Class Description\nJoin us aboard the University of Vermont’s new state-of-the-art research vessel the R/V Marcelle Melosira for a hands-on glimpse into the science of Lake Champlain. This training will engage attendees in learning about the current condition of our state’s largest receiving water\, as well as how our work in the water and wastewater industry impacts aquatic ecosystems. While aboard the research vessel\, attendees will be guided by Watershed Educators as they learn about the unique properties of the lake and gather data that assists researchers in understanding the dynamic nature of the lake. We will learn about ongoing research\, gain experience with science on the lake\, and deepen our understanding of the interaction between the many physical\, biological\, chemical\, and cultural variables that contribute to the health of the lake and its watershed. \nClass Credit\n2 TCH (Water & Wastewater) \nLocation\nThe Rubenstein Ecosystem Science Laboratory is located on the back side of the ECHO Center on the waterfront. Attendees will be responsible for finding their own parking in Burlington. Paid parking is available at the city-owned parking lot across from the ECHO Center on a first-come-first-served basis. \nImportant Notes\nThis training takes place on the water and will be subject to cancellation if weather conditions are deemed unsafe. In the event of a cancellation up to the time of departure\, we will contact you via the phone number and e-mail address you registered with. \nPlease wear close-toed shoes and appropriate clothing to be away from shore for the duration of the training. Closed-toed shoes are required to board the vessel. Bring sunscreen\, water\, and anything else you may need for the trip. The R/V Marcelle Melosira does have a bathroom and sheltered cabin. \nInstructors\nLake Champlain Sea Grant Watershed Instructors \nProctor\nBrad Roy (Vermont Rural Water Association)
URL:https://vtruralwater.org/event/lake-champlain-live-5-29/
LOCATION:Rubenstein Ecosystem Science Laboratory\, 3 College Street\, Burlington\, VT\, United States
CATEGORIES:Training,Wastewater Credit,Water Credit
ATTACH;FMTTYPE=image/png:https://vtruralwater.org/wp-content/uploads/2024/11/swatch-green.png
END:VEVENT
END:VCALENDAR